BEGIN:VCALENDAR
VERSION:2.0
PRODID:-//All Inclusive FC - ECPv6.7.0//NONSGML v1.0//EN
CALSCALE:GREGORIAN
METHOD:PUBLISH
X-ORIGINAL-URL:https://allinclusivefc.org.uk
X-WR-CALDESC:Events for All Inclusive FC
REFRESH-INTERVAL;VALUE=DURATION:PT1H
X-Robots-Tag:noindex
X-PUBLISHED-TTL:PT1H
BEGIN:VTIMEZONE
TZID:UTC
BEGIN:STANDARD
TZOFFSETFROM:+0000
TZOFFSETTO:+0000
TZNAME:UTC
DTSTART:20260101T000000
END:STANDARD
END:VTIMEZONE
BEGIN:VEVENT
DTSTART;TZID=UTC:20260302T120000
DTEND;TZID=UTC:20260302T130000
DTSTAMP:20260420T213525
CREATED:20240712T120800Z
LAST-MODIFIED:20241121T203156Z
UID:10000085-1772452800-1772456400@allinclusivefc.org.uk
SUMMARY:Walking Football at The Towers
DESCRIPTION:Walking football is a low intensity version of football for all abilities and genders. No experience necessary. \nOur sessions are designed to help prevent cardiovascular disease and to also help you get fit and active.
URL:https://allinclusivefc.org.uk/session/walking-football-at-the-towers/2026-03-02/
LOCATION:Buckden Towers\, High Street\, Buckden\, St Neots\, PE19 5TA\, United Kingdom
ATTACH;FMTTYPE=image/jpeg:https://allinclusivefc.org.uk/wp-content/uploads/2024/07/086664f1-3da2-49db-8c6d-cd67dc890252.jpg
ORGANIZER;CN="All Inclusive Football Coaching":MAILTO:hello@allinclusivefc.org.uk
END:VEVENT
BEGIN:VEVENT
DTSTART;TZID=UTC:20260226T180000
DTEND;TZID=UTC:20260226T190000
DTSTAMP:20260420T213525
CREATED:20240712T121558Z
LAST-MODIFIED:20241121T205510Z
UID:10000604-1772128800-1772132400@allinclusivefc.org.uk
SUMMARY:Walking Football at The Towers
DESCRIPTION:Walking football is a low intensity version of football for all abilities and genders. No experience necessary. \nOur sessions are designed to help prevent cardiovascular disease and to also help you get fit and active.
URL:https://allinclusivefc.org.uk/session/walking-football-at-the-towers-2/2026-02-26/
LOCATION:Grafham Village Hall Van Diemens Way Grafham PE28 0GB\, Van Diemens Way\, Grafham\, PE28 0GB\, United Kingdom
ATTACH;FMTTYPE=image/jpeg:https://allinclusivefc.org.uk/wp-content/uploads/2024/07/086664f1-3da2-49db-8c6d-cd67dc890252.jpg
ORGANIZER;CN="All Inclusive Football Coaching":MAILTO:hello@allinclusivefc.org.uk
END:VEVENT
BEGIN:VEVENT
DTSTART;TZID=UTC:20260223T183000
DTEND;TZID=UTC:20260223T193000
DTSTAMP:20260420T213525
CREATED:20241106T144631Z
LAST-MODIFIED:20250622T151457Z
UID:10002456-1771871400-1771875000@allinclusivefc.org.uk
SUMMARY:Just For Girls Open Sessions
DESCRIPTION:
URL:https://allinclusivefc.org.uk/session/squad-girls-open-sessions-2/2026-02-23/
LOCATION:Buckden Playing Fields\, Burberry Rd\, Buckden\, St Neots\, PE19 5UY\, United Kingdom
ATTACH;FMTTYPE=image/jpeg:https://allinclusivefc.org.uk/wp-content/uploads/2024/11/IMG_3432.jpg
ORGANIZER;CN="All Inclusive Football Coaching":MAILTO:hello@allinclusivefc.org.uk
END:VEVENT
BEGIN:VEVENT
DTSTART;TZID=UTC:20260223T173000
DTEND;TZID=UTC:20260223T183000
DTSTAMP:20260420T213525
CREATED:20240712T122516Z
LAST-MODIFIED:20250622T151647Z
UID:10002162-1771867800-1771871400@allinclusivefc.org.uk
SUMMARY:Open Age Sessions 7+ Years Old
DESCRIPTION:
URL:https://allinclusivefc.org.uk/session/open-age-sessions-10-years-old/2026-02-23/
LOCATION:Buckden Playing Fields\, Burberry Rd\, Buckden\, St Neots\, PE19 5UY\, United Kingdom
ATTACH;FMTTYPE=image/jpeg:https://allinclusivefc.org.uk/wp-content/uploads/2024/07/IMG_3434.jpg
ORGANIZER;CN="All Inclusive Football Coaching":MAILTO:hello@allinclusivefc.org.uk
END:VEVENT
BEGIN:VEVENT
DTSTART;TZID=UTC:20260223T120000
DTEND;TZID=UTC:20260223T130000
DTSTAMP:20260420T213525
CREATED:20240712T120800Z
LAST-MODIFIED:20241121T203156Z
UID:10000084-1771848000-1771851600@allinclusivefc.org.uk
SUMMARY:Walking Football at The Towers
DESCRIPTION:Walking football is a low intensity version of football for all abilities and genders. No experience necessary. \nOur sessions are designed to help prevent cardiovascular disease and to also help you get fit and active.
URL:https://allinclusivefc.org.uk/session/walking-football-at-the-towers/2026-02-23/
LOCATION:Buckden Towers\, High Street\, Buckden\, St Neots\, PE19 5TA\, United Kingdom
ATTACH;FMTTYPE=image/jpeg:https://allinclusivefc.org.uk/wp-content/uploads/2024/07/086664f1-3da2-49db-8c6d-cd67dc890252.jpg
ORGANIZER;CN="All Inclusive Football Coaching":MAILTO:hello@allinclusivefc.org.uk
END:VEVENT
BEGIN:VEVENT
DTSTART;TZID=UTC:20260219T180000
DTEND;TZID=UTC:20260219T190000
DTSTAMP:20260420T213525
CREATED:20240712T121558Z
LAST-MODIFIED:20241121T205510Z
UID:10000603-1771524000-1771527600@allinclusivefc.org.uk
SUMMARY:Walking Football at The Towers
DESCRIPTION:Walking football is a low intensity version of football for all abilities and genders. No experience necessary. \nOur sessions are designed to help prevent cardiovascular disease and to also help you get fit and active.
URL:https://allinclusivefc.org.uk/session/walking-football-at-the-towers-2/2026-02-19/
LOCATION:Grafham Village Hall Van Diemens Way Grafham PE28 0GB\, Van Diemens Way\, Grafham\, PE28 0GB\, United Kingdom
ATTACH;FMTTYPE=image/jpeg:https://allinclusivefc.org.uk/wp-content/uploads/2024/07/086664f1-3da2-49db-8c6d-cd67dc890252.jpg
ORGANIZER;CN="All Inclusive Football Coaching":MAILTO:hello@allinclusivefc.org.uk
END:VEVENT
BEGIN:VEVENT
DTSTART;TZID=UTC:20260216T183000
DTEND;TZID=UTC:20260216T193000
DTSTAMP:20260420T213525
CREATED:20241106T144631Z
LAST-MODIFIED:20250622T151457Z
UID:10002455-1771266600-1771270200@allinclusivefc.org.uk
SUMMARY:Just For Girls Open Sessions
DESCRIPTION:
URL:https://allinclusivefc.org.uk/session/squad-girls-open-sessions-2/2026-02-16/
LOCATION:Buckden Playing Fields\, Burberry Rd\, Buckden\, St Neots\, PE19 5UY\, United Kingdom
ATTACH;FMTTYPE=image/jpeg:https://allinclusivefc.org.uk/wp-content/uploads/2024/11/IMG_3432.jpg
ORGANIZER;CN="All Inclusive Football Coaching":MAILTO:hello@allinclusivefc.org.uk
END:VEVENT
BEGIN:VEVENT
DTSTART;TZID=UTC:20260216T173000
DTEND;TZID=UTC:20260216T183000
DTSTAMP:20260420T213525
CREATED:20240712T122516Z
LAST-MODIFIED:20250622T151647Z
UID:10002161-1771263000-1771266600@allinclusivefc.org.uk
SUMMARY:Open Age Sessions 7+ Years Old
DESCRIPTION:
URL:https://allinclusivefc.org.uk/session/open-age-sessions-10-years-old/2026-02-16/
LOCATION:Buckden Playing Fields\, Burberry Rd\, Buckden\, St Neots\, PE19 5UY\, United Kingdom
ATTACH;FMTTYPE=image/jpeg:https://allinclusivefc.org.uk/wp-content/uploads/2024/07/IMG_3434.jpg
ORGANIZER;CN="All Inclusive Football Coaching":MAILTO:hello@allinclusivefc.org.uk
END:VEVENT
BEGIN:VEVENT
DTSTART;TZID=UTC:20260216T120000
DTEND;TZID=UTC:20260216T130000
DTSTAMP:20260420T213525
CREATED:20240712T120800Z
LAST-MODIFIED:20241121T203156Z
UID:10000083-1771243200-1771246800@allinclusivefc.org.uk
SUMMARY:Walking Football at The Towers
DESCRIPTION:Walking football is a low intensity version of football for all abilities and genders. No experience necessary. \nOur sessions are designed to help prevent cardiovascular disease and to also help you get fit and active.
URL:https://allinclusivefc.org.uk/session/walking-football-at-the-towers/2026-02-16/
LOCATION:Buckden Towers\, High Street\, Buckden\, St Neots\, PE19 5TA\, United Kingdom
ATTACH;FMTTYPE=image/jpeg:https://allinclusivefc.org.uk/wp-content/uploads/2024/07/086664f1-3da2-49db-8c6d-cd67dc890252.jpg
ORGANIZER;CN="All Inclusive Football Coaching":MAILTO:hello@allinclusivefc.org.uk
END:VEVENT
BEGIN:VEVENT
DTSTART;TZID=UTC:20260212T180000
DTEND;TZID=UTC:20260212T190000
DTSTAMP:20260420T213525
CREATED:20240712T121558Z
LAST-MODIFIED:20241121T205510Z
UID:10000602-1770919200-1770922800@allinclusivefc.org.uk
SUMMARY:Walking Football at The Towers
DESCRIPTION:Walking football is a low intensity version of football for all abilities and genders. No experience necessary. \nOur sessions are designed to help prevent cardiovascular disease and to also help you get fit and active.
URL:https://allinclusivefc.org.uk/session/walking-football-at-the-towers-2/2026-02-12/
LOCATION:Grafham Village Hall Van Diemens Way Grafham PE28 0GB\, Van Diemens Way\, Grafham\, PE28 0GB\, United Kingdom
ATTACH;FMTTYPE=image/jpeg:https://allinclusivefc.org.uk/wp-content/uploads/2024/07/086664f1-3da2-49db-8c6d-cd67dc890252.jpg
ORGANIZER;CN="All Inclusive Football Coaching":MAILTO:hello@allinclusivefc.org.uk
END:VEVENT
BEGIN:VEVENT
DTSTART;TZID=UTC:20260209T183000
DTEND;TZID=UTC:20260209T193000
DTSTAMP:20260420T213525
CREATED:20241106T144631Z
LAST-MODIFIED:20250622T151457Z
UID:10002454-1770661800-1770665400@allinclusivefc.org.uk
SUMMARY:Just For Girls Open Sessions
DESCRIPTION:
URL:https://allinclusivefc.org.uk/session/squad-girls-open-sessions-2/2026-02-09/
LOCATION:Buckden Playing Fields\, Burberry Rd\, Buckden\, St Neots\, PE19 5UY\, United Kingdom
ATTACH;FMTTYPE=image/jpeg:https://allinclusivefc.org.uk/wp-content/uploads/2024/11/IMG_3432.jpg
ORGANIZER;CN="All Inclusive Football Coaching":MAILTO:hello@allinclusivefc.org.uk
END:VEVENT
BEGIN:VEVENT
DTSTART;TZID=UTC:20260209T173000
DTEND;TZID=UTC:20260209T183000
DTSTAMP:20260420T213525
CREATED:20240712T122516Z
LAST-MODIFIED:20250622T151647Z
UID:10002160-1770658200-1770661800@allinclusivefc.org.uk
SUMMARY:Open Age Sessions 7+ Years Old
DESCRIPTION:
URL:https://allinclusivefc.org.uk/session/open-age-sessions-10-years-old/2026-02-09/
LOCATION:Buckden Playing Fields\, Burberry Rd\, Buckden\, St Neots\, PE19 5UY\, United Kingdom
ATTACH;FMTTYPE=image/jpeg:https://allinclusivefc.org.uk/wp-content/uploads/2024/07/IMG_3434.jpg
ORGANIZER;CN="All Inclusive Football Coaching":MAILTO:hello@allinclusivefc.org.uk
END:VEVENT
BEGIN:VEVENT
DTSTART;TZID=UTC:20260209T120000
DTEND;TZID=UTC:20260209T130000
DTSTAMP:20260420T213525
CREATED:20240712T120800Z
LAST-MODIFIED:20241121T203156Z
UID:10000082-1770638400-1770642000@allinclusivefc.org.uk
SUMMARY:Walking Football at The Towers
DESCRIPTION:Walking football is a low intensity version of football for all abilities and genders. No experience necessary. \nOur sessions are designed to help prevent cardiovascular disease and to also help you get fit and active.
URL:https://allinclusivefc.org.uk/session/walking-football-at-the-towers/2026-02-09/
LOCATION:Buckden Towers\, High Street\, Buckden\, St Neots\, PE19 5TA\, United Kingdom
ATTACH;FMTTYPE=image/jpeg:https://allinclusivefc.org.uk/wp-content/uploads/2024/07/086664f1-3da2-49db-8c6d-cd67dc890252.jpg
ORGANIZER;CN="All Inclusive Football Coaching":MAILTO:hello@allinclusivefc.org.uk
END:VEVENT
BEGIN:VEVENT
DTSTART;TZID=UTC:20260205T180000
DTEND;TZID=UTC:20260205T190000
DTSTAMP:20260420T213525
CREATED:20240712T121558Z
LAST-MODIFIED:20241121T205510Z
UID:10000601-1770314400-1770318000@allinclusivefc.org.uk
SUMMARY:Walking Football at The Towers
DESCRIPTION:Walking football is a low intensity version of football for all abilities and genders. No experience necessary. \nOur sessions are designed to help prevent cardiovascular disease and to also help you get fit and active.
URL:https://allinclusivefc.org.uk/session/walking-football-at-the-towers-2/2026-02-05/
LOCATION:Grafham Village Hall Van Diemens Way Grafham PE28 0GB\, Van Diemens Way\, Grafham\, PE28 0GB\, United Kingdom
ATTACH;FMTTYPE=image/jpeg:https://allinclusivefc.org.uk/wp-content/uploads/2024/07/086664f1-3da2-49db-8c6d-cd67dc890252.jpg
ORGANIZER;CN="All Inclusive Football Coaching":MAILTO:hello@allinclusivefc.org.uk
END:VEVENT
BEGIN:VEVENT
DTSTART;TZID=UTC:20260202T183000
DTEND;TZID=UTC:20260202T193000
DTSTAMP:20260420T213525
CREATED:20241106T144631Z
LAST-MODIFIED:20250622T151457Z
UID:10002453-1770057000-1770060600@allinclusivefc.org.uk
SUMMARY:Just For Girls Open Sessions
DESCRIPTION:
URL:https://allinclusivefc.org.uk/session/squad-girls-open-sessions-2/2026-02-02/
LOCATION:Buckden Playing Fields\, Burberry Rd\, Buckden\, St Neots\, PE19 5UY\, United Kingdom
ATTACH;FMTTYPE=image/jpeg:https://allinclusivefc.org.uk/wp-content/uploads/2024/11/IMG_3432.jpg
ORGANIZER;CN="All Inclusive Football Coaching":MAILTO:hello@allinclusivefc.org.uk
END:VEVENT
BEGIN:VEVENT
DTSTART;TZID=UTC:20260202T173000
DTEND;TZID=UTC:20260202T183000
DTSTAMP:20260420T213525
CREATED:20240712T122516Z
LAST-MODIFIED:20250622T151647Z
UID:10002159-1770053400-1770057000@allinclusivefc.org.uk
SUMMARY:Open Age Sessions 7+ Years Old
DESCRIPTION:
URL:https://allinclusivefc.org.uk/session/open-age-sessions-10-years-old/2026-02-02/
LOCATION:Buckden Playing Fields\, Burberry Rd\, Buckden\, St Neots\, PE19 5UY\, United Kingdom
ATTACH;FMTTYPE=image/jpeg:https://allinclusivefc.org.uk/wp-content/uploads/2024/07/IMG_3434.jpg
ORGANIZER;CN="All Inclusive Football Coaching":MAILTO:hello@allinclusivefc.org.uk
END:VEVENT
BEGIN:VEVENT
DTSTART;TZID=UTC:20260202T120000
DTEND;TZID=UTC:20260202T130000
DTSTAMP:20260420T213525
CREATED:20240712T120800Z
LAST-MODIFIED:20241121T203156Z
UID:10000081-1770033600-1770037200@allinclusivefc.org.uk
SUMMARY:Walking Football at The Towers
DESCRIPTION:Walking football is a low intensity version of football for all abilities and genders. No experience necessary. \nOur sessions are designed to help prevent cardiovascular disease and to also help you get fit and active.
URL:https://allinclusivefc.org.uk/session/walking-football-at-the-towers/2026-02-02/
LOCATION:Buckden Towers\, High Street\, Buckden\, St Neots\, PE19 5TA\, United Kingdom
ATTACH;FMTTYPE=image/jpeg:https://allinclusivefc.org.uk/wp-content/uploads/2024/07/086664f1-3da2-49db-8c6d-cd67dc890252.jpg
ORGANIZER;CN="All Inclusive Football Coaching":MAILTO:hello@allinclusivefc.org.uk
END:VEVENT
BEGIN:VEVENT
DTSTART;TZID=UTC:20260129T180000
DTEND;TZID=UTC:20260129T190000
DTSTAMP:20260420T213525
CREATED:20240712T121558Z
LAST-MODIFIED:20241121T205510Z
UID:10000600-1769709600-1769713200@allinclusivefc.org.uk
SUMMARY:Walking Football at The Towers
DESCRIPTION:Walking football is a low intensity version of football for all abilities and genders. No experience necessary. \nOur sessions are designed to help prevent cardiovascular disease and to also help you get fit and active.
URL:https://allinclusivefc.org.uk/session/walking-football-at-the-towers-2/2026-01-29/
LOCATION:Grafham Village Hall Van Diemens Way Grafham PE28 0GB\, Van Diemens Way\, Grafham\, PE28 0GB\, United Kingdom
ATTACH;FMTTYPE=image/jpeg:https://allinclusivefc.org.uk/wp-content/uploads/2024/07/086664f1-3da2-49db-8c6d-cd67dc890252.jpg
ORGANIZER;CN="All Inclusive Football Coaching":MAILTO:hello@allinclusivefc.org.uk
END:VEVENT
BEGIN:VEVENT
DTSTART;TZID=UTC:20260126T183000
DTEND;TZID=UTC:20260126T193000
DTSTAMP:20260420T213525
CREATED:20241106T144631Z
LAST-MODIFIED:20250622T151457Z
UID:10002452-1769452200-1769455800@allinclusivefc.org.uk
SUMMARY:Just For Girls Open Sessions
DESCRIPTION:
URL:https://allinclusivefc.org.uk/session/squad-girls-open-sessions-2/2026-01-26/
LOCATION:Buckden Playing Fields\, Burberry Rd\, Buckden\, St Neots\, PE19 5UY\, United Kingdom
ATTACH;FMTTYPE=image/jpeg:https://allinclusivefc.org.uk/wp-content/uploads/2024/11/IMG_3432.jpg
ORGANIZER;CN="All Inclusive Football Coaching":MAILTO:hello@allinclusivefc.org.uk
END:VEVENT
BEGIN:VEVENT
DTSTART;TZID=UTC:20260126T173000
DTEND;TZID=UTC:20260126T183000
DTSTAMP:20260420T213525
CREATED:20240712T122516Z
LAST-MODIFIED:20250622T151647Z
UID:10002158-1769448600-1769452200@allinclusivefc.org.uk
SUMMARY:Open Age Sessions 7+ Years Old
DESCRIPTION:
URL:https://allinclusivefc.org.uk/session/open-age-sessions-10-years-old/2026-01-26/
LOCATION:Buckden Playing Fields\, Burberry Rd\, Buckden\, St Neots\, PE19 5UY\, United Kingdom
ATTACH;FMTTYPE=image/jpeg:https://allinclusivefc.org.uk/wp-content/uploads/2024/07/IMG_3434.jpg
ORGANIZER;CN="All Inclusive Football Coaching":MAILTO:hello@allinclusivefc.org.uk
END:VEVENT
BEGIN:VEVENT
DTSTART;TZID=UTC:20260126T120000
DTEND;TZID=UTC:20260126T130000
DTSTAMP:20260420T213525
CREATED:20240712T120800Z
LAST-MODIFIED:20241121T203156Z
UID:10000080-1769428800-1769432400@allinclusivefc.org.uk
SUMMARY:Walking Football at The Towers
DESCRIPTION:Walking football is a low intensity version of football for all abilities and genders. No experience necessary. \nOur sessions are designed to help prevent cardiovascular disease and to also help you get fit and active.
URL:https://allinclusivefc.org.uk/session/walking-football-at-the-towers/2026-01-26/
LOCATION:Buckden Towers\, High Street\, Buckden\, St Neots\, PE19 5TA\, United Kingdom
ATTACH;FMTTYPE=image/jpeg:https://allinclusivefc.org.uk/wp-content/uploads/2024/07/086664f1-3da2-49db-8c6d-cd67dc890252.jpg
ORGANIZER;CN="All Inclusive Football Coaching":MAILTO:hello@allinclusivefc.org.uk
END:VEVENT
BEGIN:VEVENT
DTSTART;TZID=UTC:20260122T180000
DTEND;TZID=UTC:20260122T190000
DTSTAMP:20260420T213525
CREATED:20240712T121558Z
LAST-MODIFIED:20241121T205510Z
UID:10000599-1769104800-1769108400@allinclusivefc.org.uk
SUMMARY:Walking Football at The Towers
DESCRIPTION:Walking football is a low intensity version of football for all abilities and genders. No experience necessary. \nOur sessions are designed to help prevent cardiovascular disease and to also help you get fit and active.
URL:https://allinclusivefc.org.uk/session/walking-football-at-the-towers-2/2026-01-22/
LOCATION:Grafham Village Hall Van Diemens Way Grafham PE28 0GB\, Van Diemens Way\, Grafham\, PE28 0GB\, United Kingdom
ATTACH;FMTTYPE=image/jpeg:https://allinclusivefc.org.uk/wp-content/uploads/2024/07/086664f1-3da2-49db-8c6d-cd67dc890252.jpg
ORGANIZER;CN="All Inclusive Football Coaching":MAILTO:hello@allinclusivefc.org.uk
END:VEVENT
BEGIN:VEVENT
DTSTART;TZID=UTC:20260119T183000
DTEND;TZID=UTC:20260119T193000
DTSTAMP:20260420T213525
CREATED:20241106T144631Z
LAST-MODIFIED:20250622T151457Z
UID:10002451-1768847400-1768851000@allinclusivefc.org.uk
SUMMARY:Just For Girls Open Sessions
DESCRIPTION:
URL:https://allinclusivefc.org.uk/session/squad-girls-open-sessions-2/2026-01-19/
LOCATION:Buckden Playing Fields\, Burberry Rd\, Buckden\, St Neots\, PE19 5UY\, United Kingdom
ATTACH;FMTTYPE=image/jpeg:https://allinclusivefc.org.uk/wp-content/uploads/2024/11/IMG_3432.jpg
ORGANIZER;CN="All Inclusive Football Coaching":MAILTO:hello@allinclusivefc.org.uk
END:VEVENT
BEGIN:VEVENT
DTSTART;TZID=UTC:20260119T173000
DTEND;TZID=UTC:20260119T183000
DTSTAMP:20260420T213525
CREATED:20240712T122516Z
LAST-MODIFIED:20250622T151647Z
UID:10002157-1768843800-1768847400@allinclusivefc.org.uk
SUMMARY:Open Age Sessions 7+ Years Old
DESCRIPTION:
URL:https://allinclusivefc.org.uk/session/open-age-sessions-10-years-old/2026-01-19/
LOCATION:Buckden Playing Fields\, Burberry Rd\, Buckden\, St Neots\, PE19 5UY\, United Kingdom
ATTACH;FMTTYPE=image/jpeg:https://allinclusivefc.org.uk/wp-content/uploads/2024/07/IMG_3434.jpg
ORGANIZER;CN="All Inclusive Football Coaching":MAILTO:hello@allinclusivefc.org.uk
END:VEVENT
BEGIN:VEVENT
DTSTART;TZID=UTC:20260119T120000
DTEND;TZID=UTC:20260119T130000
DTSTAMP:20260420T213525
CREATED:20240712T120800Z
LAST-MODIFIED:20241121T203156Z
UID:10000079-1768824000-1768827600@allinclusivefc.org.uk
SUMMARY:Walking Football at The Towers
DESCRIPTION:Walking football is a low intensity version of football for all abilities and genders. No experience necessary. \nOur sessions are designed to help prevent cardiovascular disease and to also help you get fit and active.
URL:https://allinclusivefc.org.uk/session/walking-football-at-the-towers/2026-01-19/
LOCATION:Buckden Towers\, High Street\, Buckden\, St Neots\, PE19 5TA\, United Kingdom
ATTACH;FMTTYPE=image/jpeg:https://allinclusivefc.org.uk/wp-content/uploads/2024/07/086664f1-3da2-49db-8c6d-cd67dc890252.jpg
ORGANIZER;CN="All Inclusive Football Coaching":MAILTO:hello@allinclusivefc.org.uk
END:VEVENT
BEGIN:VEVENT
DTSTART;TZID=UTC:20260115T180000
DTEND;TZID=UTC:20260115T190000
DTSTAMP:20260420T213525
CREATED:20240712T121558Z
LAST-MODIFIED:20241121T205510Z
UID:10000598-1768500000-1768503600@allinclusivefc.org.uk
SUMMARY:Walking Football at The Towers
DESCRIPTION:Walking football is a low intensity version of football for all abilities and genders. No experience necessary. \nOur sessions are designed to help prevent cardiovascular disease and to also help you get fit and active.
URL:https://allinclusivefc.org.uk/session/walking-football-at-the-towers-2/2026-01-15/
LOCATION:Grafham Village Hall Van Diemens Way Grafham PE28 0GB\, Van Diemens Way\, Grafham\, PE28 0GB\, United Kingdom
ATTACH;FMTTYPE=image/jpeg:https://allinclusivefc.org.uk/wp-content/uploads/2024/07/086664f1-3da2-49db-8c6d-cd67dc890252.jpg
ORGANIZER;CN="All Inclusive Football Coaching":MAILTO:hello@allinclusivefc.org.uk
END:VEVENT
BEGIN:VEVENT
DTSTART;TZID=UTC:20260112T183000
DTEND;TZID=UTC:20260112T193000
DTSTAMP:20260420T213525
CREATED:20241106T144631Z
LAST-MODIFIED:20250622T151457Z
UID:10002450-1768242600-1768246200@allinclusivefc.org.uk
SUMMARY:Just For Girls Open Sessions
DESCRIPTION:
URL:https://allinclusivefc.org.uk/session/squad-girls-open-sessions-2/2026-01-12/
LOCATION:Buckden Playing Fields\, Burberry Rd\, Buckden\, St Neots\, PE19 5UY\, United Kingdom
ATTACH;FMTTYPE=image/jpeg:https://allinclusivefc.org.uk/wp-content/uploads/2024/11/IMG_3432.jpg
ORGANIZER;CN="All Inclusive Football Coaching":MAILTO:hello@allinclusivefc.org.uk
END:VEVENT
BEGIN:VEVENT
DTSTART;TZID=UTC:20260112T173000
DTEND;TZID=UTC:20260112T183000
DTSTAMP:20260420T213525
CREATED:20240712T122516Z
LAST-MODIFIED:20250622T151647Z
UID:10002156-1768239000-1768242600@allinclusivefc.org.uk
SUMMARY:Open Age Sessions 7+ Years Old
DESCRIPTION:
URL:https://allinclusivefc.org.uk/session/open-age-sessions-10-years-old/2026-01-12/
LOCATION:Buckden Playing Fields\, Burberry Rd\, Buckden\, St Neots\, PE19 5UY\, United Kingdom
ATTACH;FMTTYPE=image/jpeg:https://allinclusivefc.org.uk/wp-content/uploads/2024/07/IMG_3434.jpg
ORGANIZER;CN="All Inclusive Football Coaching":MAILTO:hello@allinclusivefc.org.uk
END:VEVENT
BEGIN:VEVENT
DTSTART;TZID=UTC:20260112T120000
DTEND;TZID=UTC:20260112T130000
DTSTAMP:20260420T213525
CREATED:20240712T120800Z
LAST-MODIFIED:20241121T203156Z
UID:10000078-1768219200-1768222800@allinclusivefc.org.uk
SUMMARY:Walking Football at The Towers
DESCRIPTION:Walking football is a low intensity version of football for all abilities and genders. No experience necessary. \nOur sessions are designed to help prevent cardiovascular disease and to also help you get fit and active.
URL:https://allinclusivefc.org.uk/session/walking-football-at-the-towers/2026-01-12/
LOCATION:Buckden Towers\, High Street\, Buckden\, St Neots\, PE19 5TA\, United Kingdom
ATTACH;FMTTYPE=image/jpeg:https://allinclusivefc.org.uk/wp-content/uploads/2024/07/086664f1-3da2-49db-8c6d-cd67dc890252.jpg
ORGANIZER;CN="All Inclusive Football Coaching":MAILTO:hello@allinclusivefc.org.uk
END:VEVENT
BEGIN:VEVENT
DTSTART;TZID=UTC:20260108T180000
DTEND;TZID=UTC:20260108T190000
DTSTAMP:20260420T213525
CREATED:20240712T121558Z
LAST-MODIFIED:20241121T205510Z
UID:10000597-1767895200-1767898800@allinclusivefc.org.uk
SUMMARY:Walking Football at The Towers
DESCRIPTION:Walking football is a low intensity version of football for all abilities and genders. No experience necessary. \nOur sessions are designed to help prevent cardiovascular disease and to also help you get fit and active.
URL:https://allinclusivefc.org.uk/session/walking-football-at-the-towers-2/2026-01-08/
LOCATION:Grafham Village Hall Van Diemens Way Grafham PE28 0GB\, Van Diemens Way\, Grafham\, PE28 0GB\, United Kingdom
ATTACH;FMTTYPE=image/jpeg:https://allinclusivefc.org.uk/wp-content/uploads/2024/07/086664f1-3da2-49db-8c6d-cd67dc890252.jpg
ORGANIZER;CN="All Inclusive Football Coaching":MAILTO:hello@allinclusivefc.org.uk
END:VEVENT
END:VCALENDAR