BEGIN:VCALENDAR
VERSION:2.0
PRODID:-//All Inclusive FC - ECPv6.7.0//NONSGML v1.0//EN
CALSCALE:GREGORIAN
METHOD:PUBLISH
X-WR-CALNAME:All Inclusive FC
X-ORIGINAL-URL:https://allinclusivefc.org.uk
X-WR-CALDESC:Events for All Inclusive FC
REFRESH-INTERVAL;VALUE=DURATION:PT1H
X-Robots-Tag:noindex
X-PUBLISHED-TTL:PT1H
BEGIN:VTIMEZONE
TZID:UTC
BEGIN:STANDARD
TZOFFSETFROM:+0000
TZOFFSETTO:+0000
TZNAME:UTC
DTSTART:20260101T000000
END:STANDARD
END:VTIMEZONE
BEGIN:VEVENT
DTSTART;TZID=UTC:20261207T173000
DTEND;TZID=UTC:20261207T183000
DTSTAMP:20260424T220906
CREATED:20240712T122516Z
LAST-MODIFIED:20250622T151647Z
UID:10002203-1796664600-1796668200@allinclusivefc.org.uk
SUMMARY:Open Age Sessions 7+ Years Old
DESCRIPTION:
URL:https://allinclusivefc.org.uk/session/open-age-sessions-10-years-old/2026-12-07/
LOCATION:Buckden Playing Fields\, Burberry Rd\, Buckden\, St Neots\, PE19 5UY\, United Kingdom
ATTACH;FMTTYPE=image/jpeg:https://allinclusivefc.org.uk/wp-content/uploads/2024/07/IMG_3434.jpg
ORGANIZER;CN="All Inclusive Football Coaching":MAILTO:hello@allinclusivefc.org.uk
END:VEVENT
BEGIN:VEVENT
DTSTART;TZID=UTC:20261207T183000
DTEND;TZID=UTC:20261207T193000
DTSTAMP:20260424T220906
CREATED:20241106T144631Z
LAST-MODIFIED:20250622T151457Z
UID:10002497-1796668200-1796671800@allinclusivefc.org.uk
SUMMARY:Just For Girls Open Sessions
DESCRIPTION:
URL:https://allinclusivefc.org.uk/session/squad-girls-open-sessions-2/2026-12-07/
LOCATION:Buckden Playing Fields\, Burberry Rd\, Buckden\, St Neots\, PE19 5UY\, United Kingdom
ATTACH;FMTTYPE=image/jpeg:https://allinclusivefc.org.uk/wp-content/uploads/2024/11/IMG_3432.jpg
ORGANIZER;CN="All Inclusive Football Coaching":MAILTO:hello@allinclusivefc.org.uk
END:VEVENT
BEGIN:VEVENT
DTSTART;TZID=UTC:20261210T180000
DTEND;TZID=UTC:20261210T190000
DTSTAMP:20260424T220906
CREATED:20240712T121558Z
LAST-MODIFIED:20241121T205510Z
UID:10000645-1796925600-1796929200@allinclusivefc.org.uk
SUMMARY:Walking Football at The Towers
DESCRIPTION:Walking football is a low intensity version of football for all abilities and genders. No experience necessary. \nOur sessions are designed to help prevent cardiovascular disease and to also help you get fit and active.
URL:https://allinclusivefc.org.uk/session/walking-football-at-the-towers-2/2026-12-10/
LOCATION:Grafham Village Hall Van Diemens Way Grafham PE28 0GB\, Van Diemens Way\, Grafham\, PE28 0GB\, United Kingdom
ATTACH;FMTTYPE=image/jpeg:https://allinclusivefc.org.uk/wp-content/uploads/2024/07/086664f1-3da2-49db-8c6d-cd67dc890252.jpg
ORGANIZER;CN="All Inclusive Football Coaching":MAILTO:hello@allinclusivefc.org.uk
END:VEVENT
BEGIN:VEVENT
DTSTART;TZID=UTC:20261214T120000
DTEND;TZID=UTC:20261214T130000
DTSTAMP:20260424T220906
CREATED:20240712T120800Z
LAST-MODIFIED:20241121T203156Z
UID:10000126-1797249600-1797253200@allinclusivefc.org.uk
SUMMARY:Walking Football at The Towers
DESCRIPTION:Walking football is a low intensity version of football for all abilities and genders. No experience necessary. \nOur sessions are designed to help prevent cardiovascular disease and to also help you get fit and active.
URL:https://allinclusivefc.org.uk/session/walking-football-at-the-towers/2026-12-14/
LOCATION:Buckden Towers\, High Street\, Buckden\, St Neots\, PE19 5TA\, United Kingdom
ATTACH;FMTTYPE=image/jpeg:https://allinclusivefc.org.uk/wp-content/uploads/2024/07/086664f1-3da2-49db-8c6d-cd67dc890252.jpg
ORGANIZER;CN="All Inclusive Football Coaching":MAILTO:hello@allinclusivefc.org.uk
END:VEVENT
BEGIN:VEVENT
DTSTART;TZID=UTC:20261214T173000
DTEND;TZID=UTC:20261214T183000
DTSTAMP:20260424T220906
CREATED:20240712T122516Z
LAST-MODIFIED:20250622T151647Z
UID:10002204-1797269400-1797273000@allinclusivefc.org.uk
SUMMARY:Open Age Sessions 7+ Years Old
DESCRIPTION:
URL:https://allinclusivefc.org.uk/session/open-age-sessions-10-years-old/2026-12-14/
LOCATION:Buckden Playing Fields\, Burberry Rd\, Buckden\, St Neots\, PE19 5UY\, United Kingdom
ATTACH;FMTTYPE=image/jpeg:https://allinclusivefc.org.uk/wp-content/uploads/2024/07/IMG_3434.jpg
ORGANIZER;CN="All Inclusive Football Coaching":MAILTO:hello@allinclusivefc.org.uk
END:VEVENT
BEGIN:VEVENT
DTSTART;TZID=UTC:20261214T183000
DTEND;TZID=UTC:20261214T193000
DTSTAMP:20260424T220906
CREATED:20241106T144631Z
LAST-MODIFIED:20250622T151457Z
UID:10002498-1797273000-1797276600@allinclusivefc.org.uk
SUMMARY:Just For Girls Open Sessions
DESCRIPTION:
URL:https://allinclusivefc.org.uk/session/squad-girls-open-sessions-2/2026-12-14/
LOCATION:Buckden Playing Fields\, Burberry Rd\, Buckden\, St Neots\, PE19 5UY\, United Kingdom
ATTACH;FMTTYPE=image/jpeg:https://allinclusivefc.org.uk/wp-content/uploads/2024/11/IMG_3432.jpg
ORGANIZER;CN="All Inclusive Football Coaching":MAILTO:hello@allinclusivefc.org.uk
END:VEVENT
BEGIN:VEVENT
DTSTART;TZID=UTC:20261217T180000
DTEND;TZID=UTC:20261217T190000
DTSTAMP:20260424T220906
CREATED:20240712T121558Z
LAST-MODIFIED:20241121T205510Z
UID:10000646-1797530400-1797534000@allinclusivefc.org.uk
SUMMARY:Walking Football at The Towers
DESCRIPTION:Walking football is a low intensity version of football for all abilities and genders. No experience necessary. \nOur sessions are designed to help prevent cardiovascular disease and to also help you get fit and active.
URL:https://allinclusivefc.org.uk/session/walking-football-at-the-towers-2/2026-12-17/
LOCATION:Grafham Village Hall Van Diemens Way Grafham PE28 0GB\, Van Diemens Way\, Grafham\, PE28 0GB\, United Kingdom
ATTACH;FMTTYPE=image/jpeg:https://allinclusivefc.org.uk/wp-content/uploads/2024/07/086664f1-3da2-49db-8c6d-cd67dc890252.jpg
ORGANIZER;CN="All Inclusive Football Coaching":MAILTO:hello@allinclusivefc.org.uk
END:VEVENT
BEGIN:VEVENT
DTSTART;TZID=UTC:20261221T120000
DTEND;TZID=UTC:20261221T130000
DTSTAMP:20260424T220906
CREATED:20240712T120800Z
LAST-MODIFIED:20241121T203156Z
UID:10000127-1797854400-1797858000@allinclusivefc.org.uk
SUMMARY:Walking Football at The Towers
DESCRIPTION:Walking football is a low intensity version of football for all abilities and genders. No experience necessary. \nOur sessions are designed to help prevent cardiovascular disease and to also help you get fit and active.
URL:https://allinclusivefc.org.uk/session/walking-football-at-the-towers/2026-12-21/
LOCATION:Buckden Towers\, High Street\, Buckden\, St Neots\, PE19 5TA\, United Kingdom
ATTACH;FMTTYPE=image/jpeg:https://allinclusivefc.org.uk/wp-content/uploads/2024/07/086664f1-3da2-49db-8c6d-cd67dc890252.jpg
ORGANIZER;CN="All Inclusive Football Coaching":MAILTO:hello@allinclusivefc.org.uk
END:VEVENT
BEGIN:VEVENT
DTSTART;TZID=UTC:20261221T173000
DTEND;TZID=UTC:20261221T183000
DTSTAMP:20260424T220906
CREATED:20240712T122516Z
LAST-MODIFIED:20250622T151647Z
UID:10002205-1797874200-1797877800@allinclusivefc.org.uk
SUMMARY:Open Age Sessions 7+ Years Old
DESCRIPTION:
URL:https://allinclusivefc.org.uk/session/open-age-sessions-10-years-old/2026-12-21/
LOCATION:Buckden Playing Fields\, Burberry Rd\, Buckden\, St Neots\, PE19 5UY\, United Kingdom
ATTACH;FMTTYPE=image/jpeg:https://allinclusivefc.org.uk/wp-content/uploads/2024/07/IMG_3434.jpg
ORGANIZER;CN="All Inclusive Football Coaching":MAILTO:hello@allinclusivefc.org.uk
END:VEVENT
BEGIN:VEVENT
DTSTART;TZID=UTC:20261221T183000
DTEND;TZID=UTC:20261221T193000
DTSTAMP:20260424T220906
CREATED:20241106T144631Z
LAST-MODIFIED:20250622T151457Z
UID:10002499-1797877800-1797881400@allinclusivefc.org.uk
SUMMARY:Just For Girls Open Sessions
DESCRIPTION:
URL:https://allinclusivefc.org.uk/session/squad-girls-open-sessions-2/2026-12-21/
LOCATION:Buckden Playing Fields\, Burberry Rd\, Buckden\, St Neots\, PE19 5UY\, United Kingdom
ATTACH;FMTTYPE=image/jpeg:https://allinclusivefc.org.uk/wp-content/uploads/2024/11/IMG_3432.jpg
ORGANIZER;CN="All Inclusive Football Coaching":MAILTO:hello@allinclusivefc.org.uk
END:VEVENT
BEGIN:VEVENT
DTSTART;TZID=UTC:20261224T180000
DTEND;TZID=UTC:20261224T190000
DTSTAMP:20260424T220906
CREATED:20240712T121558Z
LAST-MODIFIED:20241121T205510Z
UID:10000647-1798135200-1798138800@allinclusivefc.org.uk
SUMMARY:Walking Football at The Towers
DESCRIPTION:Walking football is a low intensity version of football for all abilities and genders. No experience necessary. \nOur sessions are designed to help prevent cardiovascular disease and to also help you get fit and active.
URL:https://allinclusivefc.org.uk/session/walking-football-at-the-towers-2/2026-12-24/
LOCATION:Grafham Village Hall Van Diemens Way Grafham PE28 0GB\, Van Diemens Way\, Grafham\, PE28 0GB\, United Kingdom
ATTACH;FMTTYPE=image/jpeg:https://allinclusivefc.org.uk/wp-content/uploads/2024/07/086664f1-3da2-49db-8c6d-cd67dc890252.jpg
ORGANIZER;CN="All Inclusive Football Coaching":MAILTO:hello@allinclusivefc.org.uk
END:VEVENT
BEGIN:VEVENT
DTSTART;TZID=UTC:20261228T120000
DTEND;TZID=UTC:20261228T130000
DTSTAMP:20260424T220906
CREATED:20240712T120800Z
LAST-MODIFIED:20241121T203156Z
UID:10000128-1798459200-1798462800@allinclusivefc.org.uk
SUMMARY:Walking Football at The Towers
DESCRIPTION:Walking football is a low intensity version of football for all abilities and genders. No experience necessary. \nOur sessions are designed to help prevent cardiovascular disease and to also help you get fit and active.
URL:https://allinclusivefc.org.uk/session/walking-football-at-the-towers/2026-12-28/
LOCATION:Buckden Towers\, High Street\, Buckden\, St Neots\, PE19 5TA\, United Kingdom
ATTACH;FMTTYPE=image/jpeg:https://allinclusivefc.org.uk/wp-content/uploads/2024/07/086664f1-3da2-49db-8c6d-cd67dc890252.jpg
ORGANIZER;CN="All Inclusive Football Coaching":MAILTO:hello@allinclusivefc.org.uk
END:VEVENT
BEGIN:VEVENT
DTSTART;TZID=UTC:20261228T173000
DTEND;TZID=UTC:20261228T183000
DTSTAMP:20260424T220906
CREATED:20240712T122516Z
LAST-MODIFIED:20250622T151647Z
UID:10002206-1798479000-1798482600@allinclusivefc.org.uk
SUMMARY:Open Age Sessions 7+ Years Old
DESCRIPTION:
URL:https://allinclusivefc.org.uk/session/open-age-sessions-10-years-old/2026-12-28/
LOCATION:Buckden Playing Fields\, Burberry Rd\, Buckden\, St Neots\, PE19 5UY\, United Kingdom
ATTACH;FMTTYPE=image/jpeg:https://allinclusivefc.org.uk/wp-content/uploads/2024/07/IMG_3434.jpg
ORGANIZER;CN="All Inclusive Football Coaching":MAILTO:hello@allinclusivefc.org.uk
END:VEVENT
BEGIN:VEVENT
DTSTART;TZID=UTC:20261228T183000
DTEND;TZID=UTC:20261228T193000
DTSTAMP:20260424T220906
CREATED:20241106T144631Z
LAST-MODIFIED:20250622T151457Z
UID:10002500-1798482600-1798486200@allinclusivefc.org.uk
SUMMARY:Just For Girls Open Sessions
DESCRIPTION:
URL:https://allinclusivefc.org.uk/session/squad-girls-open-sessions-2/2026-12-28/
LOCATION:Buckden Playing Fields\, Burberry Rd\, Buckden\, St Neots\, PE19 5UY\, United Kingdom
ATTACH;FMTTYPE=image/jpeg:https://allinclusivefc.org.uk/wp-content/uploads/2024/11/IMG_3432.jpg
ORGANIZER;CN="All Inclusive Football Coaching":MAILTO:hello@allinclusivefc.org.uk
END:VEVENT
BEGIN:VEVENT
DTSTART;TZID=UTC:20261231T180000
DTEND;TZID=UTC:20261231T190000
DTSTAMP:20260424T220906
CREATED:20240712T121558Z
LAST-MODIFIED:20241121T205510Z
UID:10000648-1798740000-1798743600@allinclusivefc.org.uk
SUMMARY:Walking Football at The Towers
DESCRIPTION:Walking football is a low intensity version of football for all abilities and genders. No experience necessary. \nOur sessions are designed to help prevent cardiovascular disease and to also help you get fit and active.
URL:https://allinclusivefc.org.uk/session/walking-football-at-the-towers-2/2026-12-31/
LOCATION:Grafham Village Hall Van Diemens Way Grafham PE28 0GB\, Van Diemens Way\, Grafham\, PE28 0GB\, United Kingdom
ATTACH;FMTTYPE=image/jpeg:https://allinclusivefc.org.uk/wp-content/uploads/2024/07/086664f1-3da2-49db-8c6d-cd67dc890252.jpg
ORGANIZER;CN="All Inclusive Football Coaching":MAILTO:hello@allinclusivefc.org.uk
END:VEVENT
BEGIN:VEVENT
DTSTART;TZID=UTC:20270104T120000
DTEND;TZID=UTC:20270104T130000
DTSTAMP:20260424T220906
CREATED:20240712T120800Z
LAST-MODIFIED:20241121T203156Z
UID:10000129-1799064000-1799067600@allinclusivefc.org.uk
SUMMARY:Walking Football at The Towers
DESCRIPTION:Walking football is a low intensity version of football for all abilities and genders. No experience necessary. \nOur sessions are designed to help prevent cardiovascular disease and to also help you get fit and active.
URL:https://allinclusivefc.org.uk/session/walking-football-at-the-towers/2027-01-04/
LOCATION:Buckden Towers\, High Street\, Buckden\, St Neots\, PE19 5TA\, United Kingdom
ATTACH;FMTTYPE=image/jpeg:https://allinclusivefc.org.uk/wp-content/uploads/2024/07/086664f1-3da2-49db-8c6d-cd67dc890252.jpg
ORGANIZER;CN="All Inclusive Football Coaching":MAILTO:hello@allinclusivefc.org.uk
END:VEVENT
BEGIN:VEVENT
DTSTART;TZID=UTC:20270104T173000
DTEND;TZID=UTC:20270104T183000
DTSTAMP:20260424T220906
CREATED:20240712T122516Z
LAST-MODIFIED:20250622T151647Z
UID:10002207-1799083800-1799087400@allinclusivefc.org.uk
SUMMARY:Open Age Sessions 7+ Years Old
DESCRIPTION:
URL:https://allinclusivefc.org.uk/session/open-age-sessions-10-years-old/2027-01-04/
LOCATION:Buckden Playing Fields\, Burberry Rd\, Buckden\, St Neots\, PE19 5UY\, United Kingdom
ATTACH;FMTTYPE=image/jpeg:https://allinclusivefc.org.uk/wp-content/uploads/2024/07/IMG_3434.jpg
ORGANIZER;CN="All Inclusive Football Coaching":MAILTO:hello@allinclusivefc.org.uk
END:VEVENT
BEGIN:VEVENT
DTSTART;TZID=UTC:20270104T183000
DTEND;TZID=UTC:20270104T193000
DTSTAMP:20260424T220906
CREATED:20241106T144631Z
LAST-MODIFIED:20250622T151457Z
UID:10002501-1799087400-1799091000@allinclusivefc.org.uk
SUMMARY:Just For Girls Open Sessions
DESCRIPTION:
URL:https://allinclusivefc.org.uk/session/squad-girls-open-sessions-2/2027-01-04/
LOCATION:Buckden Playing Fields\, Burberry Rd\, Buckden\, St Neots\, PE19 5UY\, United Kingdom
ATTACH;FMTTYPE=image/jpeg:https://allinclusivefc.org.uk/wp-content/uploads/2024/11/IMG_3432.jpg
ORGANIZER;CN="All Inclusive Football Coaching":MAILTO:hello@allinclusivefc.org.uk
END:VEVENT
BEGIN:VEVENT
DTSTART;TZID=UTC:20270107T180000
DTEND;TZID=UTC:20270107T190000
DTSTAMP:20260424T220906
CREATED:20240712T121558Z
LAST-MODIFIED:20241121T205510Z
UID:10000649-1799344800-1799348400@allinclusivefc.org.uk
SUMMARY:Walking Football at The Towers
DESCRIPTION:Walking football is a low intensity version of football for all abilities and genders. No experience necessary. \nOur sessions are designed to help prevent cardiovascular disease and to also help you get fit and active.
URL:https://allinclusivefc.org.uk/session/walking-football-at-the-towers-2/2027-01-07/
LOCATION:Grafham Village Hall Van Diemens Way Grafham PE28 0GB\, Van Diemens Way\, Grafham\, PE28 0GB\, United Kingdom
ATTACH;FMTTYPE=image/jpeg:https://allinclusivefc.org.uk/wp-content/uploads/2024/07/086664f1-3da2-49db-8c6d-cd67dc890252.jpg
ORGANIZER;CN="All Inclusive Football Coaching":MAILTO:hello@allinclusivefc.org.uk
END:VEVENT
BEGIN:VEVENT
DTSTART;TZID=UTC:20270111T120000
DTEND;TZID=UTC:20270111T130000
DTSTAMP:20260424T220906
CREATED:20240712T120800Z
LAST-MODIFIED:20241121T203156Z
UID:10000130-1799668800-1799672400@allinclusivefc.org.uk
SUMMARY:Walking Football at The Towers
DESCRIPTION:Walking football is a low intensity version of football for all abilities and genders. No experience necessary. \nOur sessions are designed to help prevent cardiovascular disease and to also help you get fit and active.
URL:https://allinclusivefc.org.uk/session/walking-football-at-the-towers/2027-01-11/
LOCATION:Buckden Towers\, High Street\, Buckden\, St Neots\, PE19 5TA\, United Kingdom
ATTACH;FMTTYPE=image/jpeg:https://allinclusivefc.org.uk/wp-content/uploads/2024/07/086664f1-3da2-49db-8c6d-cd67dc890252.jpg
ORGANIZER;CN="All Inclusive Football Coaching":MAILTO:hello@allinclusivefc.org.uk
END:VEVENT
BEGIN:VEVENT
DTSTART;TZID=UTC:20270111T173000
DTEND;TZID=UTC:20270111T183000
DTSTAMP:20260424T220906
CREATED:20240712T122516Z
LAST-MODIFIED:20250622T151647Z
UID:10002208-1799688600-1799692200@allinclusivefc.org.uk
SUMMARY:Open Age Sessions 7+ Years Old
DESCRIPTION:
URL:https://allinclusivefc.org.uk/session/open-age-sessions-10-years-old/2027-01-11/
LOCATION:Buckden Playing Fields\, Burberry Rd\, Buckden\, St Neots\, PE19 5UY\, United Kingdom
ATTACH;FMTTYPE=image/jpeg:https://allinclusivefc.org.uk/wp-content/uploads/2024/07/IMG_3434.jpg
ORGANIZER;CN="All Inclusive Football Coaching":MAILTO:hello@allinclusivefc.org.uk
END:VEVENT
BEGIN:VEVENT
DTSTART;TZID=UTC:20270111T183000
DTEND;TZID=UTC:20270111T193000
DTSTAMP:20260424T220906
CREATED:20241106T144631Z
LAST-MODIFIED:20250622T151457Z
UID:10002502-1799692200-1799695800@allinclusivefc.org.uk
SUMMARY:Just For Girls Open Sessions
DESCRIPTION:
URL:https://allinclusivefc.org.uk/session/squad-girls-open-sessions-2/2027-01-11/
LOCATION:Buckden Playing Fields\, Burberry Rd\, Buckden\, St Neots\, PE19 5UY\, United Kingdom
ATTACH;FMTTYPE=image/jpeg:https://allinclusivefc.org.uk/wp-content/uploads/2024/11/IMG_3432.jpg
ORGANIZER;CN="All Inclusive Football Coaching":MAILTO:hello@allinclusivefc.org.uk
END:VEVENT
BEGIN:VEVENT
DTSTART;TZID=UTC:20270114T180000
DTEND;TZID=UTC:20270114T190000
DTSTAMP:20260424T220906
CREATED:20240712T121558Z
LAST-MODIFIED:20241121T205510Z
UID:10000650-1799949600-1799953200@allinclusivefc.org.uk
SUMMARY:Walking Football at The Towers
DESCRIPTION:Walking football is a low intensity version of football for all abilities and genders. No experience necessary. \nOur sessions are designed to help prevent cardiovascular disease and to also help you get fit and active.
URL:https://allinclusivefc.org.uk/session/walking-football-at-the-towers-2/2027-01-14/
LOCATION:Grafham Village Hall Van Diemens Way Grafham PE28 0GB\, Van Diemens Way\, Grafham\, PE28 0GB\, United Kingdom
ATTACH;FMTTYPE=image/jpeg:https://allinclusivefc.org.uk/wp-content/uploads/2024/07/086664f1-3da2-49db-8c6d-cd67dc890252.jpg
ORGANIZER;CN="All Inclusive Football Coaching":MAILTO:hello@allinclusivefc.org.uk
END:VEVENT
BEGIN:VEVENT
DTSTART;TZID=UTC:20270118T120000
DTEND;TZID=UTC:20270118T130000
DTSTAMP:20260424T220906
CREATED:20240712T120800Z
LAST-MODIFIED:20241121T203156Z
UID:10000131-1800273600-1800277200@allinclusivefc.org.uk
SUMMARY:Walking Football at The Towers
DESCRIPTION:Walking football is a low intensity version of football for all abilities and genders. No experience necessary. \nOur sessions are designed to help prevent cardiovascular disease and to also help you get fit and active.
URL:https://allinclusivefc.org.uk/session/walking-football-at-the-towers/2027-01-18/
LOCATION:Buckden Towers\, High Street\, Buckden\, St Neots\, PE19 5TA\, United Kingdom
ATTACH;FMTTYPE=image/jpeg:https://allinclusivefc.org.uk/wp-content/uploads/2024/07/086664f1-3da2-49db-8c6d-cd67dc890252.jpg
ORGANIZER;CN="All Inclusive Football Coaching":MAILTO:hello@allinclusivefc.org.uk
END:VEVENT
BEGIN:VEVENT
DTSTART;TZID=UTC:20270118T173000
DTEND;TZID=UTC:20270118T183000
DTSTAMP:20260424T220906
CREATED:20240712T122516Z
LAST-MODIFIED:20250622T151647Z
UID:10002209-1800293400-1800297000@allinclusivefc.org.uk
SUMMARY:Open Age Sessions 7+ Years Old
DESCRIPTION:
URL:https://allinclusivefc.org.uk/session/open-age-sessions-10-years-old/2027-01-18/
LOCATION:Buckden Playing Fields\, Burberry Rd\, Buckden\, St Neots\, PE19 5UY\, United Kingdom
ATTACH;FMTTYPE=image/jpeg:https://allinclusivefc.org.uk/wp-content/uploads/2024/07/IMG_3434.jpg
ORGANIZER;CN="All Inclusive Football Coaching":MAILTO:hello@allinclusivefc.org.uk
END:VEVENT
BEGIN:VEVENT
DTSTART;TZID=UTC:20270118T183000
DTEND;TZID=UTC:20270118T193000
DTSTAMP:20260424T220906
CREATED:20241106T144631Z
LAST-MODIFIED:20250622T151457Z
UID:10002503-1800297000-1800300600@allinclusivefc.org.uk
SUMMARY:Just For Girls Open Sessions
DESCRIPTION:
URL:https://allinclusivefc.org.uk/session/squad-girls-open-sessions-2/2027-01-18/
LOCATION:Buckden Playing Fields\, Burberry Rd\, Buckden\, St Neots\, PE19 5UY\, United Kingdom
ATTACH;FMTTYPE=image/jpeg:https://allinclusivefc.org.uk/wp-content/uploads/2024/11/IMG_3432.jpg
ORGANIZER;CN="All Inclusive Football Coaching":MAILTO:hello@allinclusivefc.org.uk
END:VEVENT
BEGIN:VEVENT
DTSTART;TZID=UTC:20270121T180000
DTEND;TZID=UTC:20270121T190000
DTSTAMP:20260424T220906
CREATED:20240712T121558Z
LAST-MODIFIED:20241121T205510Z
UID:10000651-1800554400-1800558000@allinclusivefc.org.uk
SUMMARY:Walking Football at The Towers
DESCRIPTION:Walking football is a low intensity version of football for all abilities and genders. No experience necessary. \nOur sessions are designed to help prevent cardiovascular disease and to also help you get fit and active.
URL:https://allinclusivefc.org.uk/session/walking-football-at-the-towers-2/2027-01-21/
LOCATION:Grafham Village Hall Van Diemens Way Grafham PE28 0GB\, Van Diemens Way\, Grafham\, PE28 0GB\, United Kingdom
ATTACH;FMTTYPE=image/jpeg:https://allinclusivefc.org.uk/wp-content/uploads/2024/07/086664f1-3da2-49db-8c6d-cd67dc890252.jpg
ORGANIZER;CN="All Inclusive Football Coaching":MAILTO:hello@allinclusivefc.org.uk
END:VEVENT
BEGIN:VEVENT
DTSTART;TZID=UTC:20270125T120000
DTEND;TZID=UTC:20270125T130000
DTSTAMP:20260424T220906
CREATED:20240712T120800Z
LAST-MODIFIED:20241121T203156Z
UID:10000132-1800878400-1800882000@allinclusivefc.org.uk
SUMMARY:Walking Football at The Towers
DESCRIPTION:Walking football is a low intensity version of football for all abilities and genders. No experience necessary. \nOur sessions are designed to help prevent cardiovascular disease and to also help you get fit and active.
URL:https://allinclusivefc.org.uk/session/walking-football-at-the-towers/2027-01-25/
LOCATION:Buckden Towers\, High Street\, Buckden\, St Neots\, PE19 5TA\, United Kingdom
ATTACH;FMTTYPE=image/jpeg:https://allinclusivefc.org.uk/wp-content/uploads/2024/07/086664f1-3da2-49db-8c6d-cd67dc890252.jpg
ORGANIZER;CN="All Inclusive Football Coaching":MAILTO:hello@allinclusivefc.org.uk
END:VEVENT
BEGIN:VEVENT
DTSTART;TZID=UTC:20270125T173000
DTEND;TZID=UTC:20270125T183000
DTSTAMP:20260424T220906
CREATED:20240712T122516Z
LAST-MODIFIED:20250622T151647Z
UID:10002210-1800898200-1800901800@allinclusivefc.org.uk
SUMMARY:Open Age Sessions 7+ Years Old
DESCRIPTION:
URL:https://allinclusivefc.org.uk/session/open-age-sessions-10-years-old/2027-01-25/
LOCATION:Buckden Playing Fields\, Burberry Rd\, Buckden\, St Neots\, PE19 5UY\, United Kingdom
ATTACH;FMTTYPE=image/jpeg:https://allinclusivefc.org.uk/wp-content/uploads/2024/07/IMG_3434.jpg
ORGANIZER;CN="All Inclusive Football Coaching":MAILTO:hello@allinclusivefc.org.uk
END:VEVENT
BEGIN:VEVENT
DTSTART;TZID=UTC:20270125T183000
DTEND;TZID=UTC:20270125T193000
DTSTAMP:20260424T220906
CREATED:20241106T144631Z
LAST-MODIFIED:20250622T151457Z
UID:10002504-1800901800-1800905400@allinclusivefc.org.uk
SUMMARY:Just For Girls Open Sessions
DESCRIPTION:
URL:https://allinclusivefc.org.uk/session/squad-girls-open-sessions-2/2027-01-25/
LOCATION:Buckden Playing Fields\, Burberry Rd\, Buckden\, St Neots\, PE19 5UY\, United Kingdom
ATTACH;FMTTYPE=image/jpeg:https://allinclusivefc.org.uk/wp-content/uploads/2024/11/IMG_3432.jpg
ORGANIZER;CN="All Inclusive Football Coaching":MAILTO:hello@allinclusivefc.org.uk
END:VEVENT
END:VCALENDAR