BEGIN:VCALENDAR
VERSION:2.0
PRODID:-//All Inclusive FC - ECPv6.7.0//NONSGML v1.0//EN
CALSCALE:GREGORIAN
METHOD:PUBLISH
X-WR-CALNAME:All Inclusive FC
X-ORIGINAL-URL:https://allinclusivefc.org.uk
X-WR-CALDESC:Events for All Inclusive FC
REFRESH-INTERVAL;VALUE=DURATION:PT1H
X-Robots-Tag:noindex
X-PUBLISHED-TTL:PT1H
BEGIN:VTIMEZONE
TZID:UTC
BEGIN:STANDARD
TZOFFSETFROM:+0000
TZOFFSETTO:+0000
TZNAME:UTC
DTSTART:20250101T000000
END:STANDARD
END:VTIMEZONE
BEGIN:VEVENT
DTSTART;TZID=UTC:20250901T183000
DTEND;TZID=UTC:20250901T193000
DTSTAMP:20260422T230611
CREATED:20241106T144631Z
LAST-MODIFIED:20250622T151457Z
UID:10002431-1756751400-1756755000@allinclusivefc.org.uk
SUMMARY:Just For Girls Open Sessions
DESCRIPTION:
URL:https://allinclusivefc.org.uk/session/squad-girls-open-sessions-2/2025-09-01/
LOCATION:Buckden Playing Fields\, Burberry Rd\, Buckden\, St Neots\, PE19 5UY\, United Kingdom
ATTACH;FMTTYPE=image/jpeg:https://allinclusivefc.org.uk/wp-content/uploads/2024/11/IMG_3432.jpg
ORGANIZER;CN="All Inclusive Football Coaching":MAILTO:hello@allinclusivefc.org.uk
END:VEVENT
BEGIN:VEVENT
DTSTART;TZID=UTC:20250901T173000
DTEND;TZID=UTC:20250901T183000
DTSTAMP:20260422T230611
CREATED:20240712T122516Z
LAST-MODIFIED:20250622T151647Z
UID:10002137-1756747800-1756751400@allinclusivefc.org.uk
SUMMARY:Open Age Sessions 7+ Years Old
DESCRIPTION:
URL:https://allinclusivefc.org.uk/session/open-age-sessions-10-years-old/2025-09-01/
LOCATION:Buckden Playing Fields\, Burberry Rd\, Buckden\, St Neots\, PE19 5UY\, United Kingdom
ATTACH;FMTTYPE=image/jpeg:https://allinclusivefc.org.uk/wp-content/uploads/2024/07/IMG_3434.jpg
ORGANIZER;CN="All Inclusive Football Coaching":MAILTO:hello@allinclusivefc.org.uk
END:VEVENT
BEGIN:VEVENT
DTSTART;TZID=UTC:20250901T120000
DTEND;TZID=UTC:20250901T130000
DTSTAMP:20260422T230611
CREATED:20240712T120800Z
LAST-MODIFIED:20241121T203156Z
UID:10000059-1756728000-1756731600@allinclusivefc.org.uk
SUMMARY:Walking Football at The Towers
DESCRIPTION:Walking football is a low intensity version of football for all abilities and genders. No experience necessary. \nOur sessions are designed to help prevent cardiovascular disease and to also help you get fit and active.
URL:https://allinclusivefc.org.uk/session/walking-football-at-the-towers/2025-09-01/
LOCATION:Buckden Towers\, High Street\, Buckden\, St Neots\, PE19 5TA\, United Kingdom
ATTACH;FMTTYPE=image/jpeg:https://allinclusivefc.org.uk/wp-content/uploads/2024/07/086664f1-3da2-49db-8c6d-cd67dc890252.jpg
ORGANIZER;CN="All Inclusive Football Coaching":MAILTO:hello@allinclusivefc.org.uk
END:VEVENT
BEGIN:VEVENT
DTSTART;TZID=UTC:20250828T180000
DTEND;TZID=UTC:20250828T190000
DTSTAMP:20260422T230611
CREATED:20240712T121558Z
LAST-MODIFIED:20241121T205510Z
UID:10000578-1756404000-1756407600@allinclusivefc.org.uk
SUMMARY:Walking Football at The Towers
DESCRIPTION:Walking football is a low intensity version of football for all abilities and genders. No experience necessary. \nOur sessions are designed to help prevent cardiovascular disease and to also help you get fit and active.
URL:https://allinclusivefc.org.uk/session/walking-football-at-the-towers-2/2025-08-28/
LOCATION:Grafham Village Hall Van Diemens Way Grafham PE28 0GB\, Van Diemens Way\, Grafham\, PE28 0GB\, United Kingdom
ATTACH;FMTTYPE=image/jpeg:https://allinclusivefc.org.uk/wp-content/uploads/2024/07/086664f1-3da2-49db-8c6d-cd67dc890252.jpg
ORGANIZER;CN="All Inclusive Football Coaching":MAILTO:hello@allinclusivefc.org.uk
END:VEVENT
BEGIN:VEVENT
DTSTART;TZID=UTC:20250825T183000
DTEND;TZID=UTC:20250825T193000
DTSTAMP:20260422T230611
CREATED:20241106T144631Z
LAST-MODIFIED:20250622T151457Z
UID:10002430-1756146600-1756150200@allinclusivefc.org.uk
SUMMARY:Just For Girls Open Sessions
DESCRIPTION:
URL:https://allinclusivefc.org.uk/session/squad-girls-open-sessions-2/2025-08-25/
LOCATION:Buckden Playing Fields\, Burberry Rd\, Buckden\, St Neots\, PE19 5UY\, United Kingdom
ATTACH;FMTTYPE=image/jpeg:https://allinclusivefc.org.uk/wp-content/uploads/2024/11/IMG_3432.jpg
ORGANIZER;CN="All Inclusive Football Coaching":MAILTO:hello@allinclusivefc.org.uk
END:VEVENT
BEGIN:VEVENT
DTSTART;TZID=UTC:20250825T173000
DTEND;TZID=UTC:20250825T183000
DTSTAMP:20260422T230611
CREATED:20240712T122516Z
LAST-MODIFIED:20250622T151647Z
UID:10002136-1756143000-1756146600@allinclusivefc.org.uk
SUMMARY:Open Age Sessions 7+ Years Old
DESCRIPTION:
URL:https://allinclusivefc.org.uk/session/open-age-sessions-10-years-old/2025-08-25/
LOCATION:Buckden Playing Fields\, Burberry Rd\, Buckden\, St Neots\, PE19 5UY\, United Kingdom
ATTACH;FMTTYPE=image/jpeg:https://allinclusivefc.org.uk/wp-content/uploads/2024/07/IMG_3434.jpg
ORGANIZER;CN="All Inclusive Football Coaching":MAILTO:hello@allinclusivefc.org.uk
END:VEVENT
BEGIN:VEVENT
DTSTART;TZID=UTC:20250825T120000
DTEND;TZID=UTC:20250825T130000
DTSTAMP:20260422T230611
CREATED:20240712T120800Z
LAST-MODIFIED:20241121T203156Z
UID:10000058-1756123200-1756126800@allinclusivefc.org.uk
SUMMARY:Walking Football at The Towers
DESCRIPTION:Walking football is a low intensity version of football for all abilities and genders. No experience necessary. \nOur sessions are designed to help prevent cardiovascular disease and to also help you get fit and active.
URL:https://allinclusivefc.org.uk/session/walking-football-at-the-towers/2025-08-25/
LOCATION:Buckden Towers\, High Street\, Buckden\, St Neots\, PE19 5TA\, United Kingdom
ATTACH;FMTTYPE=image/jpeg:https://allinclusivefc.org.uk/wp-content/uploads/2024/07/086664f1-3da2-49db-8c6d-cd67dc890252.jpg
ORGANIZER;CN="All Inclusive Football Coaching":MAILTO:hello@allinclusivefc.org.uk
END:VEVENT
BEGIN:VEVENT
DTSTART;TZID=UTC:20250821T180000
DTEND;TZID=UTC:20250821T190000
DTSTAMP:20260422T230611
CREATED:20240712T121558Z
LAST-MODIFIED:20241121T205510Z
UID:10000577-1755799200-1755802800@allinclusivefc.org.uk
SUMMARY:Walking Football at The Towers
DESCRIPTION:Walking football is a low intensity version of football for all abilities and genders. No experience necessary. \nOur sessions are designed to help prevent cardiovascular disease and to also help you get fit and active.
URL:https://allinclusivefc.org.uk/session/walking-football-at-the-towers-2/2025-08-21/
LOCATION:Grafham Village Hall Van Diemens Way Grafham PE28 0GB\, Van Diemens Way\, Grafham\, PE28 0GB\, United Kingdom
ATTACH;FMTTYPE=image/jpeg:https://allinclusivefc.org.uk/wp-content/uploads/2024/07/086664f1-3da2-49db-8c6d-cd67dc890252.jpg
ORGANIZER;CN="All Inclusive Football Coaching":MAILTO:hello@allinclusivefc.org.uk
END:VEVENT
BEGIN:VEVENT
DTSTART;TZID=UTC:20250818T183000
DTEND;TZID=UTC:20250818T193000
DTSTAMP:20260422T230611
CREATED:20241106T144631Z
LAST-MODIFIED:20250622T151457Z
UID:10002429-1755541800-1755545400@allinclusivefc.org.uk
SUMMARY:Just For Girls Open Sessions
DESCRIPTION:
URL:https://allinclusivefc.org.uk/session/squad-girls-open-sessions-2/2025-08-18/
LOCATION:Buckden Playing Fields\, Burberry Rd\, Buckden\, St Neots\, PE19 5UY\, United Kingdom
ATTACH;FMTTYPE=image/jpeg:https://allinclusivefc.org.uk/wp-content/uploads/2024/11/IMG_3432.jpg
ORGANIZER;CN="All Inclusive Football Coaching":MAILTO:hello@allinclusivefc.org.uk
END:VEVENT
BEGIN:VEVENT
DTSTART;TZID=UTC:20250818T173000
DTEND;TZID=UTC:20250818T183000
DTSTAMP:20260422T230611
CREATED:20240712T122516Z
LAST-MODIFIED:20250622T151647Z
UID:10002135-1755538200-1755541800@allinclusivefc.org.uk
SUMMARY:Open Age Sessions 7+ Years Old
DESCRIPTION:
URL:https://allinclusivefc.org.uk/session/open-age-sessions-10-years-old/2025-08-18/
LOCATION:Buckden Playing Fields\, Burberry Rd\, Buckden\, St Neots\, PE19 5UY\, United Kingdom
ATTACH;FMTTYPE=image/jpeg:https://allinclusivefc.org.uk/wp-content/uploads/2024/07/IMG_3434.jpg
ORGANIZER;CN="All Inclusive Football Coaching":MAILTO:hello@allinclusivefc.org.uk
END:VEVENT
BEGIN:VEVENT
DTSTART;TZID=UTC:20250818T120000
DTEND;TZID=UTC:20250818T130000
DTSTAMP:20260422T230611
CREATED:20240712T120800Z
LAST-MODIFIED:20241121T203156Z
UID:10000057-1755518400-1755522000@allinclusivefc.org.uk
SUMMARY:Walking Football at The Towers
DESCRIPTION:Walking football is a low intensity version of football for all abilities and genders. No experience necessary. \nOur sessions are designed to help prevent cardiovascular disease and to also help you get fit and active.
URL:https://allinclusivefc.org.uk/session/walking-football-at-the-towers/2025-08-18/
LOCATION:Buckden Towers\, High Street\, Buckden\, St Neots\, PE19 5TA\, United Kingdom
ATTACH;FMTTYPE=image/jpeg:https://allinclusivefc.org.uk/wp-content/uploads/2024/07/086664f1-3da2-49db-8c6d-cd67dc890252.jpg
ORGANIZER;CN="All Inclusive Football Coaching":MAILTO:hello@allinclusivefc.org.uk
END:VEVENT
BEGIN:VEVENT
DTSTART;TZID=UTC:20250814T180000
DTEND;TZID=UTC:20250814T190000
DTSTAMP:20260422T230611
CREATED:20240712T121558Z
LAST-MODIFIED:20241121T205510Z
UID:10000576-1755194400-1755198000@allinclusivefc.org.uk
SUMMARY:Walking Football at The Towers
DESCRIPTION:Walking football is a low intensity version of football for all abilities and genders. No experience necessary. \nOur sessions are designed to help prevent cardiovascular disease and to also help you get fit and active.
URL:https://allinclusivefc.org.uk/session/walking-football-at-the-towers-2/2025-08-14/
LOCATION:Grafham Village Hall Van Diemens Way Grafham PE28 0GB\, Van Diemens Way\, Grafham\, PE28 0GB\, United Kingdom
ATTACH;FMTTYPE=image/jpeg:https://allinclusivefc.org.uk/wp-content/uploads/2024/07/086664f1-3da2-49db-8c6d-cd67dc890252.jpg
ORGANIZER;CN="All Inclusive Football Coaching":MAILTO:hello@allinclusivefc.org.uk
END:VEVENT
BEGIN:VEVENT
DTSTART;TZID=UTC:20250811T183000
DTEND;TZID=UTC:20250811T193000
DTSTAMP:20260422T230611
CREATED:20241106T144631Z
LAST-MODIFIED:20250622T151457Z
UID:10002428-1754937000-1754940600@allinclusivefc.org.uk
SUMMARY:Just For Girls Open Sessions
DESCRIPTION:
URL:https://allinclusivefc.org.uk/session/squad-girls-open-sessions-2/2025-08-11/
LOCATION:Buckden Playing Fields\, Burberry Rd\, Buckden\, St Neots\, PE19 5UY\, United Kingdom
ATTACH;FMTTYPE=image/jpeg:https://allinclusivefc.org.uk/wp-content/uploads/2024/11/IMG_3432.jpg
ORGANIZER;CN="All Inclusive Football Coaching":MAILTO:hello@allinclusivefc.org.uk
END:VEVENT
BEGIN:VEVENT
DTSTART;TZID=UTC:20250811T173000
DTEND;TZID=UTC:20250811T183000
DTSTAMP:20260422T230611
CREATED:20240712T122516Z
LAST-MODIFIED:20250622T151647Z
UID:10002134-1754933400-1754937000@allinclusivefc.org.uk
SUMMARY:Open Age Sessions 7+ Years Old
DESCRIPTION:
URL:https://allinclusivefc.org.uk/session/open-age-sessions-10-years-old/2025-08-11/
LOCATION:Buckden Playing Fields\, Burberry Rd\, Buckden\, St Neots\, PE19 5UY\, United Kingdom
ATTACH;FMTTYPE=image/jpeg:https://allinclusivefc.org.uk/wp-content/uploads/2024/07/IMG_3434.jpg
ORGANIZER;CN="All Inclusive Football Coaching":MAILTO:hello@allinclusivefc.org.uk
END:VEVENT
BEGIN:VEVENT
DTSTART;TZID=UTC:20250811T120000
DTEND;TZID=UTC:20250811T130000
DTSTAMP:20260422T230611
CREATED:20240712T120800Z
LAST-MODIFIED:20241121T203156Z
UID:10000056-1754913600-1754917200@allinclusivefc.org.uk
SUMMARY:Walking Football at The Towers
DESCRIPTION:Walking football is a low intensity version of football for all abilities and genders. No experience necessary. \nOur sessions are designed to help prevent cardiovascular disease and to also help you get fit and active.
URL:https://allinclusivefc.org.uk/session/walking-football-at-the-towers/2025-08-11/
LOCATION:Buckden Towers\, High Street\, Buckden\, St Neots\, PE19 5TA\, United Kingdom
ATTACH;FMTTYPE=image/jpeg:https://allinclusivefc.org.uk/wp-content/uploads/2024/07/086664f1-3da2-49db-8c6d-cd67dc890252.jpg
ORGANIZER;CN="All Inclusive Football Coaching":MAILTO:hello@allinclusivefc.org.uk
END:VEVENT
BEGIN:VEVENT
DTSTART;TZID=UTC:20250807T180000
DTEND;TZID=UTC:20250807T190000
DTSTAMP:20260422T230611
CREATED:20240712T121558Z
LAST-MODIFIED:20241121T205510Z
UID:10000575-1754589600-1754593200@allinclusivefc.org.uk
SUMMARY:Walking Football at The Towers
DESCRIPTION:Walking football is a low intensity version of football for all abilities and genders. No experience necessary. \nOur sessions are designed to help prevent cardiovascular disease and to also help you get fit and active.
URL:https://allinclusivefc.org.uk/session/walking-football-at-the-towers-2/2025-08-07/
LOCATION:Grafham Village Hall Van Diemens Way Grafham PE28 0GB\, Van Diemens Way\, Grafham\, PE28 0GB\, United Kingdom
ATTACH;FMTTYPE=image/jpeg:https://allinclusivefc.org.uk/wp-content/uploads/2024/07/086664f1-3da2-49db-8c6d-cd67dc890252.jpg
ORGANIZER;CN="All Inclusive Football Coaching":MAILTO:hello@allinclusivefc.org.uk
END:VEVENT
BEGIN:VEVENT
DTSTART;TZID=UTC:20250804T183000
DTEND;TZID=UTC:20250804T193000
DTSTAMP:20260422T230611
CREATED:20241106T144631Z
LAST-MODIFIED:20250622T151457Z
UID:10002427-1754332200-1754335800@allinclusivefc.org.uk
SUMMARY:Just For Girls Open Sessions
DESCRIPTION:
URL:https://allinclusivefc.org.uk/session/squad-girls-open-sessions-2/2025-08-04/
LOCATION:Buckden Playing Fields\, Burberry Rd\, Buckden\, St Neots\, PE19 5UY\, United Kingdom
ATTACH;FMTTYPE=image/jpeg:https://allinclusivefc.org.uk/wp-content/uploads/2024/11/IMG_3432.jpg
ORGANIZER;CN="All Inclusive Football Coaching":MAILTO:hello@allinclusivefc.org.uk
END:VEVENT
BEGIN:VEVENT
DTSTART;TZID=UTC:20250804T173000
DTEND;TZID=UTC:20250804T183000
DTSTAMP:20260422T230611
CREATED:20240712T122516Z
LAST-MODIFIED:20250622T151647Z
UID:10002133-1754328600-1754332200@allinclusivefc.org.uk
SUMMARY:Open Age Sessions 7+ Years Old
DESCRIPTION:
URL:https://allinclusivefc.org.uk/session/open-age-sessions-10-years-old/2025-08-04/
LOCATION:Buckden Playing Fields\, Burberry Rd\, Buckden\, St Neots\, PE19 5UY\, United Kingdom
ATTACH;FMTTYPE=image/jpeg:https://allinclusivefc.org.uk/wp-content/uploads/2024/07/IMG_3434.jpg
ORGANIZER;CN="All Inclusive Football Coaching":MAILTO:hello@allinclusivefc.org.uk
END:VEVENT
BEGIN:VEVENT
DTSTART;TZID=UTC:20250804T120000
DTEND;TZID=UTC:20250804T130000
DTSTAMP:20260422T230611
CREATED:20240712T120800Z
LAST-MODIFIED:20241121T203156Z
UID:10000055-1754308800-1754312400@allinclusivefc.org.uk
SUMMARY:Walking Football at The Towers
DESCRIPTION:Walking football is a low intensity version of football for all abilities and genders. No experience necessary. \nOur sessions are designed to help prevent cardiovascular disease and to also help you get fit and active.
URL:https://allinclusivefc.org.uk/session/walking-football-at-the-towers/2025-08-04/
LOCATION:Buckden Towers\, High Street\, Buckden\, St Neots\, PE19 5TA\, United Kingdom
ATTACH;FMTTYPE=image/jpeg:https://allinclusivefc.org.uk/wp-content/uploads/2024/07/086664f1-3da2-49db-8c6d-cd67dc890252.jpg
ORGANIZER;CN="All Inclusive Football Coaching":MAILTO:hello@allinclusivefc.org.uk
END:VEVENT
BEGIN:VEVENT
DTSTART;TZID=UTC:20250731T180000
DTEND;TZID=UTC:20250731T190000
DTSTAMP:20260422T230611
CREATED:20240712T121558Z
LAST-MODIFIED:20241121T205510Z
UID:10000574-1753984800-1753988400@allinclusivefc.org.uk
SUMMARY:Walking Football at The Towers
DESCRIPTION:Walking football is a low intensity version of football for all abilities and genders. No experience necessary. \nOur sessions are designed to help prevent cardiovascular disease and to also help you get fit and active.
URL:https://allinclusivefc.org.uk/session/walking-football-at-the-towers-2/2025-07-31/
LOCATION:Grafham Village Hall Van Diemens Way Grafham PE28 0GB\, Van Diemens Way\, Grafham\, PE28 0GB\, United Kingdom
ATTACH;FMTTYPE=image/jpeg:https://allinclusivefc.org.uk/wp-content/uploads/2024/07/086664f1-3da2-49db-8c6d-cd67dc890252.jpg
ORGANIZER;CN="All Inclusive Football Coaching":MAILTO:hello@allinclusivefc.org.uk
END:VEVENT
BEGIN:VEVENT
DTSTART;TZID=UTC:20250728T183000
DTEND;TZID=UTC:20250728T193000
DTSTAMP:20260422T230611
CREATED:20241106T144631Z
LAST-MODIFIED:20250622T151457Z
UID:10002426-1753727400-1753731000@allinclusivefc.org.uk
SUMMARY:Just For Girls Open Sessions
DESCRIPTION:
URL:https://allinclusivefc.org.uk/session/squad-girls-open-sessions-2/2025-07-28/
LOCATION:Buckden Playing Fields\, Burberry Rd\, Buckden\, St Neots\, PE19 5UY\, United Kingdom
ATTACH;FMTTYPE=image/jpeg:https://allinclusivefc.org.uk/wp-content/uploads/2024/11/IMG_3432.jpg
ORGANIZER;CN="All Inclusive Football Coaching":MAILTO:hello@allinclusivefc.org.uk
END:VEVENT
BEGIN:VEVENT
DTSTART;TZID=UTC:20250728T173000
DTEND;TZID=UTC:20250728T183000
DTSTAMP:20260422T230611
CREATED:20240712T122516Z
LAST-MODIFIED:20250622T151647Z
UID:10002132-1753723800-1753727400@allinclusivefc.org.uk
SUMMARY:Open Age Sessions 7+ Years Old
DESCRIPTION:
URL:https://allinclusivefc.org.uk/session/open-age-sessions-10-years-old/2025-07-28/
LOCATION:Buckden Playing Fields\, Burberry Rd\, Buckden\, St Neots\, PE19 5UY\, United Kingdom
ATTACH;FMTTYPE=image/jpeg:https://allinclusivefc.org.uk/wp-content/uploads/2024/07/IMG_3434.jpg
ORGANIZER;CN="All Inclusive Football Coaching":MAILTO:hello@allinclusivefc.org.uk
END:VEVENT
BEGIN:VEVENT
DTSTART;TZID=UTC:20250728T120000
DTEND;TZID=UTC:20250728T130000
DTSTAMP:20260422T230611
CREATED:20240712T120800Z
LAST-MODIFIED:20241121T203156Z
UID:10000054-1753704000-1753707600@allinclusivefc.org.uk
SUMMARY:Walking Football at The Towers
DESCRIPTION:Walking football is a low intensity version of football for all abilities and genders. No experience necessary. \nOur sessions are designed to help prevent cardiovascular disease and to also help you get fit and active.
URL:https://allinclusivefc.org.uk/session/walking-football-at-the-towers/2025-07-28/
LOCATION:Buckden Towers\, High Street\, Buckden\, St Neots\, PE19 5TA\, United Kingdom
ATTACH;FMTTYPE=image/jpeg:https://allinclusivefc.org.uk/wp-content/uploads/2024/07/086664f1-3da2-49db-8c6d-cd67dc890252.jpg
ORGANIZER;CN="All Inclusive Football Coaching":MAILTO:hello@allinclusivefc.org.uk
END:VEVENT
BEGIN:VEVENT
DTSTART;TZID=UTC:20250724T180000
DTEND;TZID=UTC:20250724T190000
DTSTAMP:20260422T230611
CREATED:20240712T121558Z
LAST-MODIFIED:20241121T205510Z
UID:10000573-1753380000-1753383600@allinclusivefc.org.uk
SUMMARY:Walking Football at The Towers
DESCRIPTION:Walking football is a low intensity version of football for all abilities and genders. No experience necessary. \nOur sessions are designed to help prevent cardiovascular disease and to also help you get fit and active.
URL:https://allinclusivefc.org.uk/session/walking-football-at-the-towers-2/2025-07-24/
LOCATION:Grafham Village Hall Van Diemens Way Grafham PE28 0GB\, Van Diemens Way\, Grafham\, PE28 0GB\, United Kingdom
ATTACH;FMTTYPE=image/jpeg:https://allinclusivefc.org.uk/wp-content/uploads/2024/07/086664f1-3da2-49db-8c6d-cd67dc890252.jpg
ORGANIZER;CN="All Inclusive Football Coaching":MAILTO:hello@allinclusivefc.org.uk
END:VEVENT
BEGIN:VEVENT
DTSTART;TZID=UTC:20250721T183000
DTEND;TZID=UTC:20250721T193000
DTSTAMP:20260422T230611
CREATED:20241106T144631Z
LAST-MODIFIED:20250622T151457Z
UID:10002425-1753122600-1753126200@allinclusivefc.org.uk
SUMMARY:Just For Girls Open Sessions
DESCRIPTION:
URL:https://allinclusivefc.org.uk/session/squad-girls-open-sessions-2/2025-07-21/
LOCATION:Buckden Playing Fields\, Burberry Rd\, Buckden\, St Neots\, PE19 5UY\, United Kingdom
ATTACH;FMTTYPE=image/jpeg:https://allinclusivefc.org.uk/wp-content/uploads/2024/11/IMG_3432.jpg
ORGANIZER;CN="All Inclusive Football Coaching":MAILTO:hello@allinclusivefc.org.uk
END:VEVENT
BEGIN:VEVENT
DTSTART;TZID=UTC:20250721T173000
DTEND;TZID=UTC:20250721T183000
DTSTAMP:20260422T230611
CREATED:20240712T122516Z
LAST-MODIFIED:20250622T151647Z
UID:10002131-1753119000-1753122600@allinclusivefc.org.uk
SUMMARY:Open Age Sessions 7+ Years Old
DESCRIPTION:
URL:https://allinclusivefc.org.uk/session/open-age-sessions-10-years-old/2025-07-21/
LOCATION:Buckden Playing Fields\, Burberry Rd\, Buckden\, St Neots\, PE19 5UY\, United Kingdom
ATTACH;FMTTYPE=image/jpeg:https://allinclusivefc.org.uk/wp-content/uploads/2024/07/IMG_3434.jpg
ORGANIZER;CN="All Inclusive Football Coaching":MAILTO:hello@allinclusivefc.org.uk
END:VEVENT
BEGIN:VEVENT
DTSTART;TZID=UTC:20250721T120000
DTEND;TZID=UTC:20250721T130000
DTSTAMP:20260422T230611
CREATED:20240712T120800Z
LAST-MODIFIED:20241121T203156Z
UID:10000053-1753099200-1753102800@allinclusivefc.org.uk
SUMMARY:Walking Football at The Towers
DESCRIPTION:Walking football is a low intensity version of football for all abilities and genders. No experience necessary. \nOur sessions are designed to help prevent cardiovascular disease and to also help you get fit and active.
URL:https://allinclusivefc.org.uk/session/walking-football-at-the-towers/2025-07-21/
LOCATION:Buckden Towers\, High Street\, Buckden\, St Neots\, PE19 5TA\, United Kingdom
ATTACH;FMTTYPE=image/jpeg:https://allinclusivefc.org.uk/wp-content/uploads/2024/07/086664f1-3da2-49db-8c6d-cd67dc890252.jpg
ORGANIZER;CN="All Inclusive Football Coaching":MAILTO:hello@allinclusivefc.org.uk
END:VEVENT
BEGIN:VEVENT
DTSTART;TZID=UTC:20250717T180000
DTEND;TZID=UTC:20250717T190000
DTSTAMP:20260422T230611
CREATED:20240712T121558Z
LAST-MODIFIED:20241121T205510Z
UID:10000572-1752775200-1752778800@allinclusivefc.org.uk
SUMMARY:Walking Football at The Towers
DESCRIPTION:Walking football is a low intensity version of football for all abilities and genders. No experience necessary. \nOur sessions are designed to help prevent cardiovascular disease and to also help you get fit and active.
URL:https://allinclusivefc.org.uk/session/walking-football-at-the-towers-2/2025-07-17/
LOCATION:Grafham Village Hall Van Diemens Way Grafham PE28 0GB\, Van Diemens Way\, Grafham\, PE28 0GB\, United Kingdom
ATTACH;FMTTYPE=image/jpeg:https://allinclusivefc.org.uk/wp-content/uploads/2024/07/086664f1-3da2-49db-8c6d-cd67dc890252.jpg
ORGANIZER;CN="All Inclusive Football Coaching":MAILTO:hello@allinclusivefc.org.uk
END:VEVENT
BEGIN:VEVENT
DTSTART;TZID=UTC:20250714T183000
DTEND;TZID=UTC:20250714T193000
DTSTAMP:20260422T230611
CREATED:20241106T144631Z
LAST-MODIFIED:20250622T151457Z
UID:10002424-1752517800-1752521400@allinclusivefc.org.uk
SUMMARY:Just For Girls Open Sessions
DESCRIPTION:
URL:https://allinclusivefc.org.uk/session/squad-girls-open-sessions-2/2025-07-14/
LOCATION:Buckden Playing Fields\, Burberry Rd\, Buckden\, St Neots\, PE19 5UY\, United Kingdom
ATTACH;FMTTYPE=image/jpeg:https://allinclusivefc.org.uk/wp-content/uploads/2024/11/IMG_3432.jpg
ORGANIZER;CN="All Inclusive Football Coaching":MAILTO:hello@allinclusivefc.org.uk
END:VEVENT
BEGIN:VEVENT
DTSTART;TZID=UTC:20250714T173000
DTEND;TZID=UTC:20250714T183000
DTSTAMP:20260422T230611
CREATED:20240712T122516Z
LAST-MODIFIED:20250622T151647Z
UID:10002130-1752514200-1752517800@allinclusivefc.org.uk
SUMMARY:Open Age Sessions 7+ Years Old
DESCRIPTION:
URL:https://allinclusivefc.org.uk/session/open-age-sessions-10-years-old/2025-07-14/
LOCATION:Buckden Playing Fields\, Burberry Rd\, Buckden\, St Neots\, PE19 5UY\, United Kingdom
ATTACH;FMTTYPE=image/jpeg:https://allinclusivefc.org.uk/wp-content/uploads/2024/07/IMG_3434.jpg
ORGANIZER;CN="All Inclusive Football Coaching":MAILTO:hello@allinclusivefc.org.uk
END:VEVENT
END:VCALENDAR