BEGIN:VCALENDAR
VERSION:2.0
PRODID:-//All Inclusive FC - ECPv6.7.0//NONSGML v1.0//EN
CALSCALE:GREGORIAN
METHOD:PUBLISH
X-ORIGINAL-URL:https://allinclusivefc.org.uk
X-WR-CALDESC:Events for All Inclusive FC
REFRESH-INTERVAL;VALUE=DURATION:PT1H
X-Robots-Tag:noindex
X-PUBLISHED-TTL:PT1H
BEGIN:VTIMEZONE
TZID:UTC
BEGIN:STANDARD
TZOFFSETFROM:+0000
TZOFFSETTO:+0000
TZNAME:UTC
DTSTART:20270101T000000
END:STANDARD
END:VTIMEZONE
BEGIN:VEVENT
DTSTART;TZID=UTC:20270523T100000
DTEND;TZID=UTC:20320516T110000
DTSTAMP:20260421T014955
CREATED:20241121T204811Z
LAST-MODIFIED:20250622T154115Z
UID:10002787-1811066400-1968318000@allinclusivefc.org.uk
SUMMARY:SEND Inclusion Sessions - Buckden
DESCRIPTION:Inclusion Development sessions for children with disabilities and additional needs. Run in conjunction with Buckden Football Club\, These are open to children of all ages\, with fun at the heart of everything we do. Come and join us to learn some new skills and make some friends in a supportive inclusive environment.
URL:https://allinclusivefc.org.uk/session/inclusion-development-pan-disability-youth/2027-05-23/
LOCATION:Buckden Playing Fields\, Burberry Rd\, Buckden\, St Neots\, PE19 5UY\, United Kingdom
ATTACH;FMTTYPE=image/jpeg:https://allinclusivefc.org.uk/wp-content/uploads/2024/11/IMG_6949.jpg
END:VEVENT
BEGIN:VEVENT
DTSTART;TZID=UTC:20270524T120000
DTEND;TZID=UTC:20270524T130000
DTSTAMP:20260421T014955
CREATED:20240712T120800Z
LAST-MODIFIED:20241121T203156Z
UID:10000149-1811160000-1811163600@allinclusivefc.org.uk
SUMMARY:Walking Football at The Towers
DESCRIPTION:Walking football is a low intensity version of football for all abilities and genders. No experience necessary. \nOur sessions are designed to help prevent cardiovascular disease and to also help you get fit and active.
URL:https://allinclusivefc.org.uk/session/walking-football-at-the-towers/2027-05-24/
LOCATION:Buckden Towers\, High Street\, Buckden\, St Neots\, PE19 5TA\, United Kingdom
ATTACH;FMTTYPE=image/jpeg:https://allinclusivefc.org.uk/wp-content/uploads/2024/07/086664f1-3da2-49db-8c6d-cd67dc890252.jpg
ORGANIZER;CN="All Inclusive Football Coaching":MAILTO:hello@allinclusivefc.org.uk
END:VEVENT
BEGIN:VEVENT
DTSTART;TZID=UTC:20270524T160000
DTEND;TZID=UTC:20270524T170000
DTSTAMP:20260421T014955
CREATED:20250622T152557Z
LAST-MODIFIED:20250622T153851Z
UID:10003370-1811174400-1811178000@allinclusivefc.org.uk
SUMMARY:SEND Inclusion Sessions - Huntingdon
DESCRIPTION:In partnership with the Huntingdon Freemens Trust\, these fun and inclusive sessions are open to any age group – no experience necessary. We aim to teach new skills\, improve fitness and mental wellbeing and help build new friendships. \nThese sessions are free of charge and take place at One Leisure in Huntingdon.
URL:https://allinclusivefc.org.uk/session/hunts-open-send-sessions/2027-05-24/
LOCATION:One Leisure\, Huntingdon\, St Peters Road\, Huntingdon\, United Kingdom
ATTACH;FMTTYPE=image/jpeg:https://allinclusivefc.org.uk/wp-content/uploads/2025/06/D8F0C39A-CAB2-4F23-990C-490512A85828.jpg
END:VEVENT
BEGIN:VEVENT
DTSTART;TZID=UTC:20270524T173000
DTEND;TZID=UTC:20270524T183000
DTSTAMP:20260421T014955
CREATED:20240712T122516Z
LAST-MODIFIED:20250622T151647Z
UID:10002227-1811179800-1811183400@allinclusivefc.org.uk
SUMMARY:Open Age Sessions 7+ Years Old
DESCRIPTION:
URL:https://allinclusivefc.org.uk/session/open-age-sessions-10-years-old/2027-05-24/
LOCATION:Buckden Playing Fields\, Burberry Rd\, Buckden\, St Neots\, PE19 5UY\, United Kingdom
ATTACH;FMTTYPE=image/jpeg:https://allinclusivefc.org.uk/wp-content/uploads/2024/07/IMG_3434.jpg
ORGANIZER;CN="All Inclusive Football Coaching":MAILTO:hello@allinclusivefc.org.uk
END:VEVENT
BEGIN:VEVENT
DTSTART;TZID=UTC:20270524T183000
DTEND;TZID=UTC:20270524T193000
DTSTAMP:20260421T014955
CREATED:20241106T144631Z
LAST-MODIFIED:20250622T151457Z
UID:10002521-1811183400-1811187000@allinclusivefc.org.uk
SUMMARY:Just For Girls Open Sessions
DESCRIPTION:
URL:https://allinclusivefc.org.uk/session/squad-girls-open-sessions-2/2027-05-24/
LOCATION:Buckden Playing Fields\, Burberry Rd\, Buckden\, St Neots\, PE19 5UY\, United Kingdom
ATTACH;FMTTYPE=image/jpeg:https://allinclusivefc.org.uk/wp-content/uploads/2024/11/IMG_3432.jpg
ORGANIZER;CN="All Inclusive Football Coaching":MAILTO:hello@allinclusivefc.org.uk
END:VEVENT
BEGIN:VEVENT
DTSTART;TZID=UTC:20270525T170000
DTEND;TZID=UTC:20270525T180000
DTSTAMP:20260421T014955
CREATED:20250622T153807Z
LAST-MODIFIED:20250622T153807Z
UID:10003840-1811264400-1811268000@allinclusivefc.org.uk
SUMMARY:SEND Inclusion Sessions - Peterborough
DESCRIPTION:These fun\, inclusive sessions are open to any age group\, no experience necessary. We aim to teach new skills\, improve fitness and mental wellbeing and help build new friendships. \nThese sessions are free of charge and take place at Power League Peterborough\, Stanground.
URL:https://allinclusivefc.org.uk/session/send-inclusion-sessions-peterborough/2027-05-25/
LOCATION:Power League Peterborough\, Power League Peterborough\, Peterborough\, Stanground\, PE7 3BW\, United Kingdom
ATTACH;FMTTYPE=image/jpeg:https://allinclusivefc.org.uk/wp-content/uploads/2025/06/2702689c-a189-4ea9-8053-eed32921a54d.jpg
END:VEVENT
BEGIN:VEVENT
DTSTART;TZID=UTC:20270527T180000
DTEND;TZID=UTC:20270527T190000
DTSTAMP:20260421T014955
CREATED:20240712T121558Z
LAST-MODIFIED:20241121T205510Z
UID:10000669-1811440800-1811444400@allinclusivefc.org.uk
SUMMARY:Walking Football at The Towers
DESCRIPTION:Walking football is a low intensity version of football for all abilities and genders. No experience necessary. \nOur sessions are designed to help prevent cardiovascular disease and to also help you get fit and active.
URL:https://allinclusivefc.org.uk/session/walking-football-at-the-towers-2/2027-05-27/
LOCATION:Grafham Village Hall Van Diemens Way Grafham PE28 0GB\, Van Diemens Way\, Grafham\, PE28 0GB\, United Kingdom
ATTACH;FMTTYPE=image/jpeg:https://allinclusivefc.org.uk/wp-content/uploads/2024/07/086664f1-3da2-49db-8c6d-cd67dc890252.jpg
ORGANIZER;CN="All Inclusive Football Coaching":MAILTO:hello@allinclusivefc.org.uk
END:VEVENT
BEGIN:VEVENT
DTSTART;TZID=UTC:20270530T100000
DTEND;TZID=UTC:20320523T110000
DTSTAMP:20260421T014955
CREATED:20241121T204811Z
LAST-MODIFIED:20250622T154115Z
UID:10002788-1811671200-1968922800@allinclusivefc.org.uk
SUMMARY:SEND Inclusion Sessions - Buckden
DESCRIPTION:Inclusion Development sessions for children with disabilities and additional needs. Run in conjunction with Buckden Football Club\, These are open to children of all ages\, with fun at the heart of everything we do. Come and join us to learn some new skills and make some friends in a supportive inclusive environment.
URL:https://allinclusivefc.org.uk/session/inclusion-development-pan-disability-youth/2027-05-30/
LOCATION:Buckden Playing Fields\, Burberry Rd\, Buckden\, St Neots\, PE19 5UY\, United Kingdom
ATTACH;FMTTYPE=image/jpeg:https://allinclusivefc.org.uk/wp-content/uploads/2024/11/IMG_6949.jpg
END:VEVENT
BEGIN:VEVENT
DTSTART;TZID=UTC:20270531T120000
DTEND;TZID=UTC:20270531T130000
DTSTAMP:20260421T014955
CREATED:20240712T120800Z
LAST-MODIFIED:20241121T203156Z
UID:10000150-1811764800-1811768400@allinclusivefc.org.uk
SUMMARY:Walking Football at The Towers
DESCRIPTION:Walking football is a low intensity version of football for all abilities and genders. No experience necessary. \nOur sessions are designed to help prevent cardiovascular disease and to also help you get fit and active.
URL:https://allinclusivefc.org.uk/session/walking-football-at-the-towers/2027-05-31/
LOCATION:Buckden Towers\, High Street\, Buckden\, St Neots\, PE19 5TA\, United Kingdom
ATTACH;FMTTYPE=image/jpeg:https://allinclusivefc.org.uk/wp-content/uploads/2024/07/086664f1-3da2-49db-8c6d-cd67dc890252.jpg
ORGANIZER;CN="All Inclusive Football Coaching":MAILTO:hello@allinclusivefc.org.uk
END:VEVENT
BEGIN:VEVENT
DTSTART;TZID=UTC:20270531T160000
DTEND;TZID=UTC:20270531T170000
DTSTAMP:20260421T014955
CREATED:20250622T152557Z
LAST-MODIFIED:20250622T153851Z
UID:10003371-1811779200-1811782800@allinclusivefc.org.uk
SUMMARY:SEND Inclusion Sessions - Huntingdon
DESCRIPTION:In partnership with the Huntingdon Freemens Trust\, these fun and inclusive sessions are open to any age group – no experience necessary. We aim to teach new skills\, improve fitness and mental wellbeing and help build new friendships. \nThese sessions are free of charge and take place at One Leisure in Huntingdon.
URL:https://allinclusivefc.org.uk/session/hunts-open-send-sessions/2027-05-31/
LOCATION:One Leisure\, Huntingdon\, St Peters Road\, Huntingdon\, United Kingdom
ATTACH;FMTTYPE=image/jpeg:https://allinclusivefc.org.uk/wp-content/uploads/2025/06/D8F0C39A-CAB2-4F23-990C-490512A85828.jpg
END:VEVENT
BEGIN:VEVENT
DTSTART;TZID=UTC:20270531T173000
DTEND;TZID=UTC:20270531T183000
DTSTAMP:20260421T014955
CREATED:20240712T122516Z
LAST-MODIFIED:20250622T151647Z
UID:10002228-1811784600-1811788200@allinclusivefc.org.uk
SUMMARY:Open Age Sessions 7+ Years Old
DESCRIPTION:
URL:https://allinclusivefc.org.uk/session/open-age-sessions-10-years-old/2027-05-31/
LOCATION:Buckden Playing Fields\, Burberry Rd\, Buckden\, St Neots\, PE19 5UY\, United Kingdom
ATTACH;FMTTYPE=image/jpeg:https://allinclusivefc.org.uk/wp-content/uploads/2024/07/IMG_3434.jpg
ORGANIZER;CN="All Inclusive Football Coaching":MAILTO:hello@allinclusivefc.org.uk
END:VEVENT
BEGIN:VEVENT
DTSTART;TZID=UTC:20270531T183000
DTEND;TZID=UTC:20270531T193000
DTSTAMP:20260421T014955
CREATED:20241106T144631Z
LAST-MODIFIED:20250622T151457Z
UID:10002522-1811788200-1811791800@allinclusivefc.org.uk
SUMMARY:Just For Girls Open Sessions
DESCRIPTION:
URL:https://allinclusivefc.org.uk/session/squad-girls-open-sessions-2/2027-05-31/
LOCATION:Buckden Playing Fields\, Burberry Rd\, Buckden\, St Neots\, PE19 5UY\, United Kingdom
ATTACH;FMTTYPE=image/jpeg:https://allinclusivefc.org.uk/wp-content/uploads/2024/11/IMG_3432.jpg
ORGANIZER;CN="All Inclusive Football Coaching":MAILTO:hello@allinclusivefc.org.uk
END:VEVENT
BEGIN:VEVENT
DTSTART;TZID=UTC:20270601T170000
DTEND;TZID=UTC:20270601T180000
DTSTAMP:20260421T014955
CREATED:20250622T153807Z
LAST-MODIFIED:20250622T153807Z
UID:10003841-1811869200-1811872800@allinclusivefc.org.uk
SUMMARY:SEND Inclusion Sessions - Peterborough
DESCRIPTION:These fun\, inclusive sessions are open to any age group\, no experience necessary. We aim to teach new skills\, improve fitness and mental wellbeing and help build new friendships. \nThese sessions are free of charge and take place at Power League Peterborough\, Stanground.
URL:https://allinclusivefc.org.uk/session/send-inclusion-sessions-peterborough/2027-06-01/
LOCATION:Power League Peterborough\, Power League Peterborough\, Peterborough\, Stanground\, PE7 3BW\, United Kingdom
ATTACH;FMTTYPE=image/jpeg:https://allinclusivefc.org.uk/wp-content/uploads/2025/06/2702689c-a189-4ea9-8053-eed32921a54d.jpg
END:VEVENT
BEGIN:VEVENT
DTSTART;TZID=UTC:20270603T180000
DTEND;TZID=UTC:20270603T190000
DTSTAMP:20260421T014955
CREATED:20240712T121558Z
LAST-MODIFIED:20241121T205510Z
UID:10000670-1812045600-1812049200@allinclusivefc.org.uk
SUMMARY:Walking Football at The Towers
DESCRIPTION:Walking football is a low intensity version of football for all abilities and genders. No experience necessary. \nOur sessions are designed to help prevent cardiovascular disease and to also help you get fit and active.
URL:https://allinclusivefc.org.uk/session/walking-football-at-the-towers-2/2027-06-03/
LOCATION:Grafham Village Hall Van Diemens Way Grafham PE28 0GB\, Van Diemens Way\, Grafham\, PE28 0GB\, United Kingdom
ATTACH;FMTTYPE=image/jpeg:https://allinclusivefc.org.uk/wp-content/uploads/2024/07/086664f1-3da2-49db-8c6d-cd67dc890252.jpg
ORGANIZER;CN="All Inclusive Football Coaching":MAILTO:hello@allinclusivefc.org.uk
END:VEVENT
BEGIN:VEVENT
DTSTART;TZID=UTC:20270606T100000
DTEND;TZID=UTC:20320530T110000
DTSTAMP:20260421T014955
CREATED:20241121T204811Z
LAST-MODIFIED:20250622T154115Z
UID:10002789-1812276000-1969527600@allinclusivefc.org.uk
SUMMARY:SEND Inclusion Sessions - Buckden
DESCRIPTION:Inclusion Development sessions for children with disabilities and additional needs. Run in conjunction with Buckden Football Club\, These are open to children of all ages\, with fun at the heart of everything we do. Come and join us to learn some new skills and make some friends in a supportive inclusive environment.
URL:https://allinclusivefc.org.uk/session/inclusion-development-pan-disability-youth/2027-06-06/
LOCATION:Buckden Playing Fields\, Burberry Rd\, Buckden\, St Neots\, PE19 5UY\, United Kingdom
ATTACH;FMTTYPE=image/jpeg:https://allinclusivefc.org.uk/wp-content/uploads/2024/11/IMG_6949.jpg
END:VEVENT
BEGIN:VEVENT
DTSTART;TZID=UTC:20270607T120000
DTEND;TZID=UTC:20270607T130000
DTSTAMP:20260421T014955
CREATED:20240712T120800Z
LAST-MODIFIED:20241121T203156Z
UID:10000151-1812369600-1812373200@allinclusivefc.org.uk
SUMMARY:Walking Football at The Towers
DESCRIPTION:Walking football is a low intensity version of football for all abilities and genders. No experience necessary. \nOur sessions are designed to help prevent cardiovascular disease and to also help you get fit and active.
URL:https://allinclusivefc.org.uk/session/walking-football-at-the-towers/2027-06-07/
LOCATION:Buckden Towers\, High Street\, Buckden\, St Neots\, PE19 5TA\, United Kingdom
ATTACH;FMTTYPE=image/jpeg:https://allinclusivefc.org.uk/wp-content/uploads/2024/07/086664f1-3da2-49db-8c6d-cd67dc890252.jpg
ORGANIZER;CN="All Inclusive Football Coaching":MAILTO:hello@allinclusivefc.org.uk
END:VEVENT
BEGIN:VEVENT
DTSTART;TZID=UTC:20270607T160000
DTEND;TZID=UTC:20270607T170000
DTSTAMP:20260421T014955
CREATED:20250622T152557Z
LAST-MODIFIED:20250622T153851Z
UID:10003372-1812384000-1812387600@allinclusivefc.org.uk
SUMMARY:SEND Inclusion Sessions - Huntingdon
DESCRIPTION:In partnership with the Huntingdon Freemens Trust\, these fun and inclusive sessions are open to any age group – no experience necessary. We aim to teach new skills\, improve fitness and mental wellbeing and help build new friendships. \nThese sessions are free of charge and take place at One Leisure in Huntingdon.
URL:https://allinclusivefc.org.uk/session/hunts-open-send-sessions/2027-06-07/
LOCATION:One Leisure\, Huntingdon\, St Peters Road\, Huntingdon\, United Kingdom
ATTACH;FMTTYPE=image/jpeg:https://allinclusivefc.org.uk/wp-content/uploads/2025/06/D8F0C39A-CAB2-4F23-990C-490512A85828.jpg
END:VEVENT
BEGIN:VEVENT
DTSTART;TZID=UTC:20270607T173000
DTEND;TZID=UTC:20270607T183000
DTSTAMP:20260421T014955
CREATED:20240712T122516Z
LAST-MODIFIED:20250622T151647Z
UID:10002229-1812389400-1812393000@allinclusivefc.org.uk
SUMMARY:Open Age Sessions 7+ Years Old
DESCRIPTION:
URL:https://allinclusivefc.org.uk/session/open-age-sessions-10-years-old/2027-06-07/
LOCATION:Buckden Playing Fields\, Burberry Rd\, Buckden\, St Neots\, PE19 5UY\, United Kingdom
ATTACH;FMTTYPE=image/jpeg:https://allinclusivefc.org.uk/wp-content/uploads/2024/07/IMG_3434.jpg
ORGANIZER;CN="All Inclusive Football Coaching":MAILTO:hello@allinclusivefc.org.uk
END:VEVENT
BEGIN:VEVENT
DTSTART;TZID=UTC:20270607T183000
DTEND;TZID=UTC:20270607T193000
DTSTAMP:20260421T014955
CREATED:20241106T144631Z
LAST-MODIFIED:20250622T151457Z
UID:10002523-1812393000-1812396600@allinclusivefc.org.uk
SUMMARY:Just For Girls Open Sessions
DESCRIPTION:
URL:https://allinclusivefc.org.uk/session/squad-girls-open-sessions-2/2027-06-07/
LOCATION:Buckden Playing Fields\, Burberry Rd\, Buckden\, St Neots\, PE19 5UY\, United Kingdom
ATTACH;FMTTYPE=image/jpeg:https://allinclusivefc.org.uk/wp-content/uploads/2024/11/IMG_3432.jpg
ORGANIZER;CN="All Inclusive Football Coaching":MAILTO:hello@allinclusivefc.org.uk
END:VEVENT
BEGIN:VEVENT
DTSTART;TZID=UTC:20270608T170000
DTEND;TZID=UTC:20270608T180000
DTSTAMP:20260421T014955
CREATED:20250622T153807Z
LAST-MODIFIED:20250622T153807Z
UID:10003842-1812474000-1812477600@allinclusivefc.org.uk
SUMMARY:SEND Inclusion Sessions - Peterborough
DESCRIPTION:These fun\, inclusive sessions are open to any age group\, no experience necessary. We aim to teach new skills\, improve fitness and mental wellbeing and help build new friendships. \nThese sessions are free of charge and take place at Power League Peterborough\, Stanground.
URL:https://allinclusivefc.org.uk/session/send-inclusion-sessions-peterborough/2027-06-08/
LOCATION:Power League Peterborough\, Power League Peterborough\, Peterborough\, Stanground\, PE7 3BW\, United Kingdom
ATTACH;FMTTYPE=image/jpeg:https://allinclusivefc.org.uk/wp-content/uploads/2025/06/2702689c-a189-4ea9-8053-eed32921a54d.jpg
END:VEVENT
BEGIN:VEVENT
DTSTART;TZID=UTC:20270610T180000
DTEND;TZID=UTC:20270610T190000
DTSTAMP:20260421T014955
CREATED:20240712T121558Z
LAST-MODIFIED:20241121T205510Z
UID:10000671-1812650400-1812654000@allinclusivefc.org.uk
SUMMARY:Walking Football at The Towers
DESCRIPTION:Walking football is a low intensity version of football for all abilities and genders. No experience necessary. \nOur sessions are designed to help prevent cardiovascular disease and to also help you get fit and active.
URL:https://allinclusivefc.org.uk/session/walking-football-at-the-towers-2/2027-06-10/
LOCATION:Grafham Village Hall Van Diemens Way Grafham PE28 0GB\, Van Diemens Way\, Grafham\, PE28 0GB\, United Kingdom
ATTACH;FMTTYPE=image/jpeg:https://allinclusivefc.org.uk/wp-content/uploads/2024/07/086664f1-3da2-49db-8c6d-cd67dc890252.jpg
ORGANIZER;CN="All Inclusive Football Coaching":MAILTO:hello@allinclusivefc.org.uk
END:VEVENT
BEGIN:VEVENT
DTSTART;TZID=UTC:20270613T100000
DTEND;TZID=UTC:20320606T110000
DTSTAMP:20260421T014955
CREATED:20241121T204811Z
LAST-MODIFIED:20250622T154115Z
UID:10002790-1812880800-1970132400@allinclusivefc.org.uk
SUMMARY:SEND Inclusion Sessions - Buckden
DESCRIPTION:Inclusion Development sessions for children with disabilities and additional needs. Run in conjunction with Buckden Football Club\, These are open to children of all ages\, with fun at the heart of everything we do. Come and join us to learn some new skills and make some friends in a supportive inclusive environment.
URL:https://allinclusivefc.org.uk/session/inclusion-development-pan-disability-youth/2027-06-13/
LOCATION:Buckden Playing Fields\, Burberry Rd\, Buckden\, St Neots\, PE19 5UY\, United Kingdom
ATTACH;FMTTYPE=image/jpeg:https://allinclusivefc.org.uk/wp-content/uploads/2024/11/IMG_6949.jpg
END:VEVENT
BEGIN:VEVENT
DTSTART;TZID=UTC:20270614T120000
DTEND;TZID=UTC:20270614T130000
DTSTAMP:20260421T014955
CREATED:20240712T120800Z
LAST-MODIFIED:20241121T203156Z
UID:10000152-1812974400-1812978000@allinclusivefc.org.uk
SUMMARY:Walking Football at The Towers
DESCRIPTION:Walking football is a low intensity version of football for all abilities and genders. No experience necessary. \nOur sessions are designed to help prevent cardiovascular disease and to also help you get fit and active.
URL:https://allinclusivefc.org.uk/session/walking-football-at-the-towers/2027-06-14/
LOCATION:Buckden Towers\, High Street\, Buckden\, St Neots\, PE19 5TA\, United Kingdom
ATTACH;FMTTYPE=image/jpeg:https://allinclusivefc.org.uk/wp-content/uploads/2024/07/086664f1-3da2-49db-8c6d-cd67dc890252.jpg
ORGANIZER;CN="All Inclusive Football Coaching":MAILTO:hello@allinclusivefc.org.uk
END:VEVENT
BEGIN:VEVENT
DTSTART;TZID=UTC:20270614T160000
DTEND;TZID=UTC:20270614T170000
DTSTAMP:20260421T014955
CREATED:20250622T152557Z
LAST-MODIFIED:20250622T153851Z
UID:10003373-1812988800-1812992400@allinclusivefc.org.uk
SUMMARY:SEND Inclusion Sessions - Huntingdon
DESCRIPTION:In partnership with the Huntingdon Freemens Trust\, these fun and inclusive sessions are open to any age group – no experience necessary. We aim to teach new skills\, improve fitness and mental wellbeing and help build new friendships. \nThese sessions are free of charge and take place at One Leisure in Huntingdon.
URL:https://allinclusivefc.org.uk/session/hunts-open-send-sessions/2027-06-14/
LOCATION:One Leisure\, Huntingdon\, St Peters Road\, Huntingdon\, United Kingdom
ATTACH;FMTTYPE=image/jpeg:https://allinclusivefc.org.uk/wp-content/uploads/2025/06/D8F0C39A-CAB2-4F23-990C-490512A85828.jpg
END:VEVENT
BEGIN:VEVENT
DTSTART;TZID=UTC:20270614T173000
DTEND;TZID=UTC:20270614T183000
DTSTAMP:20260421T014955
CREATED:20240712T122516Z
LAST-MODIFIED:20250622T151647Z
UID:10002230-1812994200-1812997800@allinclusivefc.org.uk
SUMMARY:Open Age Sessions 7+ Years Old
DESCRIPTION:
URL:https://allinclusivefc.org.uk/session/open-age-sessions-10-years-old/2027-06-14/
LOCATION:Buckden Playing Fields\, Burberry Rd\, Buckden\, St Neots\, PE19 5UY\, United Kingdom
ATTACH;FMTTYPE=image/jpeg:https://allinclusivefc.org.uk/wp-content/uploads/2024/07/IMG_3434.jpg
ORGANIZER;CN="All Inclusive Football Coaching":MAILTO:hello@allinclusivefc.org.uk
END:VEVENT
BEGIN:VEVENT
DTSTART;TZID=UTC:20270614T183000
DTEND;TZID=UTC:20270614T193000
DTSTAMP:20260421T014955
CREATED:20241106T144631Z
LAST-MODIFIED:20250622T151457Z
UID:10002524-1812997800-1813001400@allinclusivefc.org.uk
SUMMARY:Just For Girls Open Sessions
DESCRIPTION:
URL:https://allinclusivefc.org.uk/session/squad-girls-open-sessions-2/2027-06-14/
LOCATION:Buckden Playing Fields\, Burberry Rd\, Buckden\, St Neots\, PE19 5UY\, United Kingdom
ATTACH;FMTTYPE=image/jpeg:https://allinclusivefc.org.uk/wp-content/uploads/2024/11/IMG_3432.jpg
ORGANIZER;CN="All Inclusive Football Coaching":MAILTO:hello@allinclusivefc.org.uk
END:VEVENT
BEGIN:VEVENT
DTSTART;TZID=UTC:20270615T170000
DTEND;TZID=UTC:20270615T180000
DTSTAMP:20260421T014955
CREATED:20250622T153807Z
LAST-MODIFIED:20250622T153807Z
UID:10003843-1813078800-1813082400@allinclusivefc.org.uk
SUMMARY:SEND Inclusion Sessions - Peterborough
DESCRIPTION:These fun\, inclusive sessions are open to any age group\, no experience necessary. We aim to teach new skills\, improve fitness and mental wellbeing and help build new friendships. \nThese sessions are free of charge and take place at Power League Peterborough\, Stanground.
URL:https://allinclusivefc.org.uk/session/send-inclusion-sessions-peterborough/2027-06-15/
LOCATION:Power League Peterborough\, Power League Peterborough\, Peterborough\, Stanground\, PE7 3BW\, United Kingdom
ATTACH;FMTTYPE=image/jpeg:https://allinclusivefc.org.uk/wp-content/uploads/2025/06/2702689c-a189-4ea9-8053-eed32921a54d.jpg
END:VEVENT
BEGIN:VEVENT
DTSTART;TZID=UTC:20270617T180000
DTEND;TZID=UTC:20270617T190000
DTSTAMP:20260421T014955
CREATED:20240712T121558Z
LAST-MODIFIED:20241121T205510Z
UID:10000672-1813255200-1813258800@allinclusivefc.org.uk
SUMMARY:Walking Football at The Towers
DESCRIPTION:Walking football is a low intensity version of football for all abilities and genders. No experience necessary. \nOur sessions are designed to help prevent cardiovascular disease and to also help you get fit and active.
URL:https://allinclusivefc.org.uk/session/walking-football-at-the-towers-2/2027-06-17/
LOCATION:Grafham Village Hall Van Diemens Way Grafham PE28 0GB\, Van Diemens Way\, Grafham\, PE28 0GB\, United Kingdom
ATTACH;FMTTYPE=image/jpeg:https://allinclusivefc.org.uk/wp-content/uploads/2024/07/086664f1-3da2-49db-8c6d-cd67dc890252.jpg
ORGANIZER;CN="All Inclusive Football Coaching":MAILTO:hello@allinclusivefc.org.uk
END:VEVENT
BEGIN:VEVENT
DTSTART;TZID=UTC:20270620T100000
DTEND;TZID=UTC:20320613T110000
DTSTAMP:20260421T014955
CREATED:20241121T204811Z
LAST-MODIFIED:20250622T154115Z
UID:10002791-1813485600-1970737200@allinclusivefc.org.uk
SUMMARY:SEND Inclusion Sessions - Buckden
DESCRIPTION:Inclusion Development sessions for children with disabilities and additional needs. Run in conjunction with Buckden Football Club\, These are open to children of all ages\, with fun at the heart of everything we do. Come and join us to learn some new skills and make some friends in a supportive inclusive environment.
URL:https://allinclusivefc.org.uk/session/inclusion-development-pan-disability-youth/2027-06-20/
LOCATION:Buckden Playing Fields\, Burberry Rd\, Buckden\, St Neots\, PE19 5UY\, United Kingdom
ATTACH;FMTTYPE=image/jpeg:https://allinclusivefc.org.uk/wp-content/uploads/2024/11/IMG_6949.jpg
END:VEVENT
BEGIN:VEVENT
DTSTART;TZID=UTC:20270621T120000
DTEND;TZID=UTC:20270621T130000
DTSTAMP:20260421T014955
CREATED:20240712T120800Z
LAST-MODIFIED:20241121T203156Z
UID:10000153-1813579200-1813582800@allinclusivefc.org.uk
SUMMARY:Walking Football at The Towers
DESCRIPTION:Walking football is a low intensity version of football for all abilities and genders. No experience necessary. \nOur sessions are designed to help prevent cardiovascular disease and to also help you get fit and active.
URL:https://allinclusivefc.org.uk/session/walking-football-at-the-towers/2027-06-21/
LOCATION:Buckden Towers\, High Street\, Buckden\, St Neots\, PE19 5TA\, United Kingdom
ATTACH;FMTTYPE=image/jpeg:https://allinclusivefc.org.uk/wp-content/uploads/2024/07/086664f1-3da2-49db-8c6d-cd67dc890252.jpg
ORGANIZER;CN="All Inclusive Football Coaching":MAILTO:hello@allinclusivefc.org.uk
END:VEVENT
END:VCALENDAR