BEGIN:VCALENDAR
VERSION:2.0
PRODID:-//All Inclusive FC - ECPv6.7.0//NONSGML v1.0//EN
CALSCALE:GREGORIAN
METHOD:PUBLISH
X-WR-CALNAME:All Inclusive FC
X-ORIGINAL-URL:https://allinclusivefc.org.uk
X-WR-CALDESC:Events for All Inclusive FC
REFRESH-INTERVAL;VALUE=DURATION:PT1H
X-Robots-Tag:noindex
X-PUBLISHED-TTL:PT1H
BEGIN:VTIMEZONE
TZID:UTC
BEGIN:STANDARD
TZOFFSETFROM:+0000
TZOFFSETTO:+0000
TZNAME:UTC
DTSTART:20240101T000000
END:STANDARD
END:VTIMEZONE
BEGIN:VEVENT
DTSTART;TZID=UTC:20241017T180000
DTEND;TZID=UTC:20241017T190000
DTSTAMP:20260420T170509
CREATED:20240712T121558Z
LAST-MODIFIED:20241121T205510Z
UID:10000533-1729188000-1729191600@allinclusivefc.org.uk
SUMMARY:Walking Football at The Towers
DESCRIPTION:Walking football is a low intensity version of football for all abilities and genders. No experience necessary. \nOur sessions are designed to help prevent cardiovascular disease and to also help you get fit and active.
URL:https://allinclusivefc.org.uk/session/walking-football-at-the-towers-2/2024-10-17/
LOCATION:Grafham Village Hall Van Diemens Way Grafham PE28 0GB\, Van Diemens Way\, Grafham\, PE28 0GB\, United Kingdom
ATTACH;FMTTYPE=image/jpeg:https://allinclusivefc.org.uk/wp-content/uploads/2024/07/086664f1-3da2-49db-8c6d-cd67dc890252.jpg
ORGANIZER;CN="All Inclusive Football Coaching":MAILTO:hello@allinclusivefc.org.uk
END:VEVENT
BEGIN:VEVENT
DTSTART;TZID=UTC:20241014T173000
DTEND;TZID=UTC:20241014T183000
DTSTAMP:20260420T170509
CREATED:20240712T122516Z
LAST-MODIFIED:20250622T151647Z
UID:10002091-1728927000-1728930600@allinclusivefc.org.uk
SUMMARY:Open Age Sessions 7+ Years Old
DESCRIPTION:
URL:https://allinclusivefc.org.uk/session/open-age-sessions-10-years-old/2024-10-14/
LOCATION:Buckden Playing Fields\, Burberry Rd\, Buckden\, St Neots\, PE19 5UY\, United Kingdom
ATTACH;FMTTYPE=image/jpeg:https://allinclusivefc.org.uk/wp-content/uploads/2024/07/IMG_3434.jpg
ORGANIZER;CN="All Inclusive Football Coaching":MAILTO:hello@allinclusivefc.org.uk
END:VEVENT
BEGIN:VEVENT
DTSTART;TZID=UTC:20241014T120000
DTEND;TZID=UTC:20241014T130000
DTSTAMP:20260420T170509
CREATED:20240712T120800Z
LAST-MODIFIED:20241121T203156Z
UID:10000013-1728907200-1728910800@allinclusivefc.org.uk
SUMMARY:Walking Football at The Towers
DESCRIPTION:Walking football is a low intensity version of football for all abilities and genders. No experience necessary. \nOur sessions are designed to help prevent cardiovascular disease and to also help you get fit and active.
URL:https://allinclusivefc.org.uk/session/walking-football-at-the-towers/2024-10-14/
LOCATION:Buckden Towers\, High Street\, Buckden\, St Neots\, PE19 5TA\, United Kingdom
ATTACH;FMTTYPE=image/jpeg:https://allinclusivefc.org.uk/wp-content/uploads/2024/07/086664f1-3da2-49db-8c6d-cd67dc890252.jpg
ORGANIZER;CN="All Inclusive Football Coaching":MAILTO:hello@allinclusivefc.org.uk
END:VEVENT
BEGIN:VEVENT
DTSTART;TZID=UTC:20241011T180000
DTEND;TZID=UTC:20241011T190000
DTSTAMP:20260420T170509
CREATED:20240712T123234Z
LAST-MODIFIED:20240712T124041Z
UID:10001828-1728669600-1728673200@allinclusivefc.org.uk
SUMMARY:Squad Girls Open Sessions
DESCRIPTION:
URL:https://allinclusivefc.org.uk/session/squad-girls-open-sessions/2024-10-11/
LOCATION:Buckden Playing Fields\, Burberry Rd\, Buckden\, St Neots\, PE19 5UY\, United Kingdom
ATTACH;FMTTYPE=image/png:https://allinclusivefc.org.uk/wp-content/uploads/2024/07/Screenshot-2024-07-12-at-13.31.28.png
ORGANIZER;CN="All Inclusive Football Coaching":MAILTO:hello@allinclusivefc.org.uk
END:VEVENT
BEGIN:VEVENT
DTSTART;TZID=UTC:20241010T180000
DTEND;TZID=UTC:20241010T190000
DTSTAMP:20260420T170509
CREATED:20240712T121558Z
LAST-MODIFIED:20241121T205510Z
UID:10000532-1728583200-1728586800@allinclusivefc.org.uk
SUMMARY:Walking Football at The Towers
DESCRIPTION:Walking football is a low intensity version of football for all abilities and genders. No experience necessary. \nOur sessions are designed to help prevent cardiovascular disease and to also help you get fit and active.
URL:https://allinclusivefc.org.uk/session/walking-football-at-the-towers-2/2024-10-10/
LOCATION:Grafham Village Hall Van Diemens Way Grafham PE28 0GB\, Van Diemens Way\, Grafham\, PE28 0GB\, United Kingdom
ATTACH;FMTTYPE=image/jpeg:https://allinclusivefc.org.uk/wp-content/uploads/2024/07/086664f1-3da2-49db-8c6d-cd67dc890252.jpg
ORGANIZER;CN="All Inclusive Football Coaching":MAILTO:hello@allinclusivefc.org.uk
END:VEVENT
BEGIN:VEVENT
DTSTART;TZID=UTC:20241007T173000
DTEND;TZID=UTC:20241007T183000
DTSTAMP:20260420T170509
CREATED:20240712T122516Z
LAST-MODIFIED:20250622T151647Z
UID:10002090-1728322200-1728325800@allinclusivefc.org.uk
SUMMARY:Open Age Sessions 7+ Years Old
DESCRIPTION:
URL:https://allinclusivefc.org.uk/session/open-age-sessions-10-years-old/2024-10-07/
LOCATION:Buckden Playing Fields\, Burberry Rd\, Buckden\, St Neots\, PE19 5UY\, United Kingdom
ATTACH;FMTTYPE=image/jpeg:https://allinclusivefc.org.uk/wp-content/uploads/2024/07/IMG_3434.jpg
ORGANIZER;CN="All Inclusive Football Coaching":MAILTO:hello@allinclusivefc.org.uk
END:VEVENT
BEGIN:VEVENT
DTSTART;TZID=UTC:20241007T120000
DTEND;TZID=UTC:20241007T130000
DTSTAMP:20260420T170509
CREATED:20240712T120800Z
LAST-MODIFIED:20241121T203156Z
UID:10000012-1728302400-1728306000@allinclusivefc.org.uk
SUMMARY:Walking Football at The Towers
DESCRIPTION:Walking football is a low intensity version of football for all abilities and genders. No experience necessary. \nOur sessions are designed to help prevent cardiovascular disease and to also help you get fit and active.
URL:https://allinclusivefc.org.uk/session/walking-football-at-the-towers/2024-10-07/
LOCATION:Buckden Towers\, High Street\, Buckden\, St Neots\, PE19 5TA\, United Kingdom
ATTACH;FMTTYPE=image/jpeg:https://allinclusivefc.org.uk/wp-content/uploads/2024/07/086664f1-3da2-49db-8c6d-cd67dc890252.jpg
ORGANIZER;CN="All Inclusive Football Coaching":MAILTO:hello@allinclusivefc.org.uk
END:VEVENT
BEGIN:VEVENT
DTSTART;TZID=UTC:20241004T180000
DTEND;TZID=UTC:20241004T190000
DTSTAMP:20260420T170509
CREATED:20240712T123234Z
LAST-MODIFIED:20240712T124041Z
UID:10001827-1728064800-1728068400@allinclusivefc.org.uk
SUMMARY:Squad Girls Open Sessions
DESCRIPTION:
URL:https://allinclusivefc.org.uk/session/squad-girls-open-sessions/2024-10-04/
LOCATION:Buckden Playing Fields\, Burberry Rd\, Buckden\, St Neots\, PE19 5UY\, United Kingdom
ATTACH;FMTTYPE=image/png:https://allinclusivefc.org.uk/wp-content/uploads/2024/07/Screenshot-2024-07-12-at-13.31.28.png
ORGANIZER;CN="All Inclusive Football Coaching":MAILTO:hello@allinclusivefc.org.uk
END:VEVENT
BEGIN:VEVENT
DTSTART;TZID=UTC:20241003T180000
DTEND;TZID=UTC:20241003T190000
DTSTAMP:20260420T170509
CREATED:20240712T121558Z
LAST-MODIFIED:20241121T205510Z
UID:10000531-1727978400-1727982000@allinclusivefc.org.uk
SUMMARY:Walking Football at The Towers
DESCRIPTION:Walking football is a low intensity version of football for all abilities and genders. No experience necessary. \nOur sessions are designed to help prevent cardiovascular disease and to also help you get fit and active.
URL:https://allinclusivefc.org.uk/session/walking-football-at-the-towers-2/2024-10-03/
LOCATION:Grafham Village Hall Van Diemens Way Grafham PE28 0GB\, Van Diemens Way\, Grafham\, PE28 0GB\, United Kingdom
ATTACH;FMTTYPE=image/jpeg:https://allinclusivefc.org.uk/wp-content/uploads/2024/07/086664f1-3da2-49db-8c6d-cd67dc890252.jpg
ORGANIZER;CN="All Inclusive Football Coaching":MAILTO:hello@allinclusivefc.org.uk
END:VEVENT
BEGIN:VEVENT
DTSTART;TZID=UTC:20240930T173000
DTEND;TZID=UTC:20240930T183000
DTSTAMP:20260420T170509
CREATED:20240712T122516Z
LAST-MODIFIED:20250622T151647Z
UID:10002089-1727717400-1727721000@allinclusivefc.org.uk
SUMMARY:Open Age Sessions 7+ Years Old
DESCRIPTION:
URL:https://allinclusivefc.org.uk/session/open-age-sessions-10-years-old/2024-09-30/
LOCATION:Buckden Playing Fields\, Burberry Rd\, Buckden\, St Neots\, PE19 5UY\, United Kingdom
ATTACH;FMTTYPE=image/jpeg:https://allinclusivefc.org.uk/wp-content/uploads/2024/07/IMG_3434.jpg
ORGANIZER;CN="All Inclusive Football Coaching":MAILTO:hello@allinclusivefc.org.uk
END:VEVENT
BEGIN:VEVENT
DTSTART;TZID=UTC:20240930T120000
DTEND;TZID=UTC:20240930T130000
DTSTAMP:20260420T170509
CREATED:20240712T120800Z
LAST-MODIFIED:20241121T203156Z
UID:10000011-1727697600-1727701200@allinclusivefc.org.uk
SUMMARY:Walking Football at The Towers
DESCRIPTION:Walking football is a low intensity version of football for all abilities and genders. No experience necessary. \nOur sessions are designed to help prevent cardiovascular disease and to also help you get fit and active.
URL:https://allinclusivefc.org.uk/session/walking-football-at-the-towers/2024-09-30/
LOCATION:Buckden Towers\, High Street\, Buckden\, St Neots\, PE19 5TA\, United Kingdom
ATTACH;FMTTYPE=image/jpeg:https://allinclusivefc.org.uk/wp-content/uploads/2024/07/086664f1-3da2-49db-8c6d-cd67dc890252.jpg
ORGANIZER;CN="All Inclusive Football Coaching":MAILTO:hello@allinclusivefc.org.uk
END:VEVENT
BEGIN:VEVENT
DTSTART;TZID=UTC:20240927T180000
DTEND;TZID=UTC:20240927T190000
DTSTAMP:20260420T170509
CREATED:20240712T123234Z
LAST-MODIFIED:20240712T124041Z
UID:10001826-1727460000-1727463600@allinclusivefc.org.uk
SUMMARY:Squad Girls Open Sessions
DESCRIPTION:
URL:https://allinclusivefc.org.uk/session/squad-girls-open-sessions/2024-09-27/
LOCATION:Buckden Playing Fields\, Burberry Rd\, Buckden\, St Neots\, PE19 5UY\, United Kingdom
ATTACH;FMTTYPE=image/png:https://allinclusivefc.org.uk/wp-content/uploads/2024/07/Screenshot-2024-07-12-at-13.31.28.png
ORGANIZER;CN="All Inclusive Football Coaching":MAILTO:hello@allinclusivefc.org.uk
END:VEVENT
BEGIN:VEVENT
DTSTART;TZID=UTC:20240926T180000
DTEND;TZID=UTC:20240926T190000
DTSTAMP:20260420T170509
CREATED:20240712T121558Z
LAST-MODIFIED:20241121T205510Z
UID:10000530-1727373600-1727377200@allinclusivefc.org.uk
SUMMARY:Walking Football at The Towers
DESCRIPTION:Walking football is a low intensity version of football for all abilities and genders. No experience necessary. \nOur sessions are designed to help prevent cardiovascular disease and to also help you get fit and active.
URL:https://allinclusivefc.org.uk/session/walking-football-at-the-towers-2/2024-09-26/
LOCATION:Grafham Village Hall Van Diemens Way Grafham PE28 0GB\, Van Diemens Way\, Grafham\, PE28 0GB\, United Kingdom
ATTACH;FMTTYPE=image/jpeg:https://allinclusivefc.org.uk/wp-content/uploads/2024/07/086664f1-3da2-49db-8c6d-cd67dc890252.jpg
ORGANIZER;CN="All Inclusive Football Coaching":MAILTO:hello@allinclusivefc.org.uk
END:VEVENT
BEGIN:VEVENT
DTSTART;TZID=UTC:20240923T173000
DTEND;TZID=UTC:20240923T183000
DTSTAMP:20260420T170509
CREATED:20240712T122516Z
LAST-MODIFIED:20250622T151647Z
UID:10002088-1727112600-1727116200@allinclusivefc.org.uk
SUMMARY:Open Age Sessions 7+ Years Old
DESCRIPTION:
URL:https://allinclusivefc.org.uk/session/open-age-sessions-10-years-old/2024-09-23/
LOCATION:Buckden Playing Fields\, Burberry Rd\, Buckden\, St Neots\, PE19 5UY\, United Kingdom
ATTACH;FMTTYPE=image/jpeg:https://allinclusivefc.org.uk/wp-content/uploads/2024/07/IMG_3434.jpg
ORGANIZER;CN="All Inclusive Football Coaching":MAILTO:hello@allinclusivefc.org.uk
END:VEVENT
BEGIN:VEVENT
DTSTART;TZID=UTC:20240923T120000
DTEND;TZID=UTC:20240923T130000
DTSTAMP:20260420T170509
CREATED:20240712T120800Z
LAST-MODIFIED:20241121T203156Z
UID:10000010-1727092800-1727096400@allinclusivefc.org.uk
SUMMARY:Walking Football at The Towers
DESCRIPTION:Walking football is a low intensity version of football for all abilities and genders. No experience necessary. \nOur sessions are designed to help prevent cardiovascular disease and to also help you get fit and active.
URL:https://allinclusivefc.org.uk/session/walking-football-at-the-towers/2024-09-23/
LOCATION:Buckden Towers\, High Street\, Buckden\, St Neots\, PE19 5TA\, United Kingdom
ATTACH;FMTTYPE=image/jpeg:https://allinclusivefc.org.uk/wp-content/uploads/2024/07/086664f1-3da2-49db-8c6d-cd67dc890252.jpg
ORGANIZER;CN="All Inclusive Football Coaching":MAILTO:hello@allinclusivefc.org.uk
END:VEVENT
BEGIN:VEVENT
DTSTART;TZID=UTC:20240920T180000
DTEND;TZID=UTC:20240920T190000
DTSTAMP:20260420T170509
CREATED:20240712T123234Z
LAST-MODIFIED:20240712T124041Z
UID:10001825-1726855200-1726858800@allinclusivefc.org.uk
SUMMARY:Squad Girls Open Sessions
DESCRIPTION:
URL:https://allinclusivefc.org.uk/session/squad-girls-open-sessions/2024-09-20/
LOCATION:Buckden Playing Fields\, Burberry Rd\, Buckden\, St Neots\, PE19 5UY\, United Kingdom
ATTACH;FMTTYPE=image/png:https://allinclusivefc.org.uk/wp-content/uploads/2024/07/Screenshot-2024-07-12-at-13.31.28.png
ORGANIZER;CN="All Inclusive Football Coaching":MAILTO:hello@allinclusivefc.org.uk
END:VEVENT
BEGIN:VEVENT
DTSTART;TZID=UTC:20240919T180000
DTEND;TZID=UTC:20240919T190000
DTSTAMP:20260420T170509
CREATED:20240712T121558Z
LAST-MODIFIED:20241121T205510Z
UID:10000529-1726768800-1726772400@allinclusivefc.org.uk
SUMMARY:Walking Football at The Towers
DESCRIPTION:Walking football is a low intensity version of football for all abilities and genders. No experience necessary. \nOur sessions are designed to help prevent cardiovascular disease and to also help you get fit and active.
URL:https://allinclusivefc.org.uk/session/walking-football-at-the-towers-2/2024-09-19/
LOCATION:Grafham Village Hall Van Diemens Way Grafham PE28 0GB\, Van Diemens Way\, Grafham\, PE28 0GB\, United Kingdom
ATTACH;FMTTYPE=image/jpeg:https://allinclusivefc.org.uk/wp-content/uploads/2024/07/086664f1-3da2-49db-8c6d-cd67dc890252.jpg
ORGANIZER;CN="All Inclusive Football Coaching":MAILTO:hello@allinclusivefc.org.uk
END:VEVENT
BEGIN:VEVENT
DTSTART;TZID=UTC:20240916T173000
DTEND;TZID=UTC:20240916T183000
DTSTAMP:20260420T170509
CREATED:20240712T122516Z
LAST-MODIFIED:20250622T151647Z
UID:10002087-1726507800-1726511400@allinclusivefc.org.uk
SUMMARY:Open Age Sessions 7+ Years Old
DESCRIPTION:
URL:https://allinclusivefc.org.uk/session/open-age-sessions-10-years-old/2024-09-16/
LOCATION:Buckden Playing Fields\, Burberry Rd\, Buckden\, St Neots\, PE19 5UY\, United Kingdom
ATTACH;FMTTYPE=image/jpeg:https://allinclusivefc.org.uk/wp-content/uploads/2024/07/IMG_3434.jpg
ORGANIZER;CN="All Inclusive Football Coaching":MAILTO:hello@allinclusivefc.org.uk
END:VEVENT
BEGIN:VEVENT
DTSTART;TZID=UTC:20240916T120000
DTEND;TZID=UTC:20240916T130000
DTSTAMP:20260420T170509
CREATED:20240712T120800Z
LAST-MODIFIED:20241121T203156Z
UID:10000009-1726488000-1726491600@allinclusivefc.org.uk
SUMMARY:Walking Football at The Towers
DESCRIPTION:Walking football is a low intensity version of football for all abilities and genders. No experience necessary. \nOur sessions are designed to help prevent cardiovascular disease and to also help you get fit and active.
URL:https://allinclusivefc.org.uk/session/walking-football-at-the-towers/2024-09-16/
LOCATION:Buckden Towers\, High Street\, Buckden\, St Neots\, PE19 5TA\, United Kingdom
ATTACH;FMTTYPE=image/jpeg:https://allinclusivefc.org.uk/wp-content/uploads/2024/07/086664f1-3da2-49db-8c6d-cd67dc890252.jpg
ORGANIZER;CN="All Inclusive Football Coaching":MAILTO:hello@allinclusivefc.org.uk
END:VEVENT
BEGIN:VEVENT
DTSTART;TZID=UTC:20240913T180000
DTEND;TZID=UTC:20240913T190000
DTSTAMP:20260420T170509
CREATED:20240712T123234Z
LAST-MODIFIED:20240712T124041Z
UID:10001824-1726250400-1726254000@allinclusivefc.org.uk
SUMMARY:Squad Girls Open Sessions
DESCRIPTION:
URL:https://allinclusivefc.org.uk/session/squad-girls-open-sessions/2024-09-13/
LOCATION:Buckden Playing Fields\, Burberry Rd\, Buckden\, St Neots\, PE19 5UY\, United Kingdom
ATTACH;FMTTYPE=image/png:https://allinclusivefc.org.uk/wp-content/uploads/2024/07/Screenshot-2024-07-12-at-13.31.28.png
ORGANIZER;CN="All Inclusive Football Coaching":MAILTO:hello@allinclusivefc.org.uk
END:VEVENT
BEGIN:VEVENT
DTSTART;TZID=UTC:20240912T180000
DTEND;TZID=UTC:20240912T190000
DTSTAMP:20260420T170509
CREATED:20240712T121558Z
LAST-MODIFIED:20241121T205510Z
UID:10000528-1726164000-1726167600@allinclusivefc.org.uk
SUMMARY:Walking Football at The Towers
DESCRIPTION:Walking football is a low intensity version of football for all abilities and genders. No experience necessary. \nOur sessions are designed to help prevent cardiovascular disease and to also help you get fit and active.
URL:https://allinclusivefc.org.uk/session/walking-football-at-the-towers-2/2024-09-12/
LOCATION:Grafham Village Hall Van Diemens Way Grafham PE28 0GB\, Van Diemens Way\, Grafham\, PE28 0GB\, United Kingdom
ATTACH;FMTTYPE=image/jpeg:https://allinclusivefc.org.uk/wp-content/uploads/2024/07/086664f1-3da2-49db-8c6d-cd67dc890252.jpg
ORGANIZER;CN="All Inclusive Football Coaching":MAILTO:hello@allinclusivefc.org.uk
END:VEVENT
BEGIN:VEVENT
DTSTART;TZID=UTC:20240909T173000
DTEND;TZID=UTC:20240909T183000
DTSTAMP:20260420T170509
CREATED:20240712T122516Z
LAST-MODIFIED:20250622T151647Z
UID:10002086-1725903000-1725906600@allinclusivefc.org.uk
SUMMARY:Open Age Sessions 7+ Years Old
DESCRIPTION:
URL:https://allinclusivefc.org.uk/session/open-age-sessions-10-years-old/2024-09-09/
LOCATION:Buckden Playing Fields\, Burberry Rd\, Buckden\, St Neots\, PE19 5UY\, United Kingdom
ATTACH;FMTTYPE=image/jpeg:https://allinclusivefc.org.uk/wp-content/uploads/2024/07/IMG_3434.jpg
ORGANIZER;CN="All Inclusive Football Coaching":MAILTO:hello@allinclusivefc.org.uk
END:VEVENT
BEGIN:VEVENT
DTSTART;TZID=UTC:20240909T120000
DTEND;TZID=UTC:20240909T130000
DTSTAMP:20260420T170509
CREATED:20240712T120800Z
LAST-MODIFIED:20241121T203156Z
UID:10000008-1725883200-1725886800@allinclusivefc.org.uk
SUMMARY:Walking Football at The Towers
DESCRIPTION:Walking football is a low intensity version of football for all abilities and genders. No experience necessary. \nOur sessions are designed to help prevent cardiovascular disease and to also help you get fit and active.
URL:https://allinclusivefc.org.uk/session/walking-football-at-the-towers/2024-09-09/
LOCATION:Buckden Towers\, High Street\, Buckden\, St Neots\, PE19 5TA\, United Kingdom
ATTACH;FMTTYPE=image/jpeg:https://allinclusivefc.org.uk/wp-content/uploads/2024/07/086664f1-3da2-49db-8c6d-cd67dc890252.jpg
ORGANIZER;CN="All Inclusive Football Coaching":MAILTO:hello@allinclusivefc.org.uk
END:VEVENT
BEGIN:VEVENT
DTSTART;TZID=UTC:20240906T180000
DTEND;TZID=UTC:20240906T190000
DTSTAMP:20260420T170509
CREATED:20240712T123234Z
LAST-MODIFIED:20240712T124041Z
UID:10001823-1725645600-1725649200@allinclusivefc.org.uk
SUMMARY:Squad Girls Open Sessions
DESCRIPTION:
URL:https://allinclusivefc.org.uk/session/squad-girls-open-sessions/2024-09-06/
LOCATION:Buckden Playing Fields\, Burberry Rd\, Buckden\, St Neots\, PE19 5UY\, United Kingdom
ATTACH;FMTTYPE=image/png:https://allinclusivefc.org.uk/wp-content/uploads/2024/07/Screenshot-2024-07-12-at-13.31.28.png
ORGANIZER;CN="All Inclusive Football Coaching":MAILTO:hello@allinclusivefc.org.uk
END:VEVENT
BEGIN:VEVENT
DTSTART;TZID=UTC:20240905T180000
DTEND;TZID=UTC:20240905T190000
DTSTAMP:20260420T170509
CREATED:20240712T121558Z
LAST-MODIFIED:20241121T205510Z
UID:10000527-1725559200-1725562800@allinclusivefc.org.uk
SUMMARY:Walking Football at The Towers
DESCRIPTION:Walking football is a low intensity version of football for all abilities and genders. No experience necessary. \nOur sessions are designed to help prevent cardiovascular disease and to also help you get fit and active.
URL:https://allinclusivefc.org.uk/session/walking-football-at-the-towers-2/2024-09-05/
LOCATION:Grafham Village Hall Van Diemens Way Grafham PE28 0GB\, Van Diemens Way\, Grafham\, PE28 0GB\, United Kingdom
ATTACH;FMTTYPE=image/jpeg:https://allinclusivefc.org.uk/wp-content/uploads/2024/07/086664f1-3da2-49db-8c6d-cd67dc890252.jpg
ORGANIZER;CN="All Inclusive Football Coaching":MAILTO:hello@allinclusivefc.org.uk
END:VEVENT
BEGIN:VEVENT
DTSTART;TZID=UTC:20240902T173000
DTEND;TZID=UTC:20240902T183000
DTSTAMP:20260420T170509
CREATED:20240712T122516Z
LAST-MODIFIED:20250622T151647Z
UID:10002085-1725298200-1725301800@allinclusivefc.org.uk
SUMMARY:Open Age Sessions 7+ Years Old
DESCRIPTION:
URL:https://allinclusivefc.org.uk/session/open-age-sessions-10-years-old/2024-09-02/
LOCATION:Buckden Playing Fields\, Burberry Rd\, Buckden\, St Neots\, PE19 5UY\, United Kingdom
ATTACH;FMTTYPE=image/jpeg:https://allinclusivefc.org.uk/wp-content/uploads/2024/07/IMG_3434.jpg
ORGANIZER;CN="All Inclusive Football Coaching":MAILTO:hello@allinclusivefc.org.uk
END:VEVENT
BEGIN:VEVENT
DTSTART;TZID=UTC:20240902T120000
DTEND;TZID=UTC:20240902T130000
DTSTAMP:20260420T170509
CREATED:20240712T120800Z
LAST-MODIFIED:20241121T203156Z
UID:10000007-1725278400-1725282000@allinclusivefc.org.uk
SUMMARY:Walking Football at The Towers
DESCRIPTION:Walking football is a low intensity version of football for all abilities and genders. No experience necessary. \nOur sessions are designed to help prevent cardiovascular disease and to also help you get fit and active.
URL:https://allinclusivefc.org.uk/session/walking-football-at-the-towers/2024-09-02/
LOCATION:Buckden Towers\, High Street\, Buckden\, St Neots\, PE19 5TA\, United Kingdom
ATTACH;FMTTYPE=image/jpeg:https://allinclusivefc.org.uk/wp-content/uploads/2024/07/086664f1-3da2-49db-8c6d-cd67dc890252.jpg
ORGANIZER;CN="All Inclusive Football Coaching":MAILTO:hello@allinclusivefc.org.uk
END:VEVENT
BEGIN:VEVENT
DTSTART;TZID=UTC:20240830T180000
DTEND;TZID=UTC:20240830T190000
DTSTAMP:20260420T170509
CREATED:20240712T123234Z
LAST-MODIFIED:20240712T124041Z
UID:10001822-1725040800-1725044400@allinclusivefc.org.uk
SUMMARY:Squad Girls Open Sessions
DESCRIPTION:
URL:https://allinclusivefc.org.uk/session/squad-girls-open-sessions/2024-08-30/
LOCATION:Buckden Playing Fields\, Burberry Rd\, Buckden\, St Neots\, PE19 5UY\, United Kingdom
ATTACH;FMTTYPE=image/png:https://allinclusivefc.org.uk/wp-content/uploads/2024/07/Screenshot-2024-07-12-at-13.31.28.png
ORGANIZER;CN="All Inclusive Football Coaching":MAILTO:hello@allinclusivefc.org.uk
END:VEVENT
BEGIN:VEVENT
DTSTART;TZID=UTC:20240829T180000
DTEND;TZID=UTC:20240829T190000
DTSTAMP:20260420T170509
CREATED:20240712T121558Z
LAST-MODIFIED:20241121T205510Z
UID:10000526-1724954400-1724958000@allinclusivefc.org.uk
SUMMARY:Walking Football at The Towers
DESCRIPTION:Walking football is a low intensity version of football for all abilities and genders. No experience necessary. \nOur sessions are designed to help prevent cardiovascular disease and to also help you get fit and active.
URL:https://allinclusivefc.org.uk/session/walking-football-at-the-towers-2/2024-08-29/
LOCATION:Grafham Village Hall Van Diemens Way Grafham PE28 0GB\, Van Diemens Way\, Grafham\, PE28 0GB\, United Kingdom
ATTACH;FMTTYPE=image/jpeg:https://allinclusivefc.org.uk/wp-content/uploads/2024/07/086664f1-3da2-49db-8c6d-cd67dc890252.jpg
ORGANIZER;CN="All Inclusive Football Coaching":MAILTO:hello@allinclusivefc.org.uk
END:VEVENT
BEGIN:VEVENT
DTSTART;TZID=UTC:20240826T173000
DTEND;TZID=UTC:20240826T183000
DTSTAMP:20260420T170509
CREATED:20240712T122516Z
LAST-MODIFIED:20250622T151647Z
UID:10002084-1724693400-1724697000@allinclusivefc.org.uk
SUMMARY:Open Age Sessions 7+ Years Old
DESCRIPTION:
URL:https://allinclusivefc.org.uk/session/open-age-sessions-10-years-old/2024-08-26/
LOCATION:Buckden Playing Fields\, Burberry Rd\, Buckden\, St Neots\, PE19 5UY\, United Kingdom
ATTACH;FMTTYPE=image/jpeg:https://allinclusivefc.org.uk/wp-content/uploads/2024/07/IMG_3434.jpg
ORGANIZER;CN="All Inclusive Football Coaching":MAILTO:hello@allinclusivefc.org.uk
END:VEVENT
END:VCALENDAR