BEGIN:VCALENDAR
VERSION:2.0
PRODID:-//All Inclusive FC - ECPv6.7.0//NONSGML v1.0//EN
CALSCALE:GREGORIAN
METHOD:PUBLISH
X-WR-CALNAME:All Inclusive FC
X-ORIGINAL-URL:https://allinclusivefc.org.uk
X-WR-CALDESC:Events for All Inclusive FC
REFRESH-INTERVAL;VALUE=DURATION:PT1H
X-Robots-Tag:noindex
X-PUBLISHED-TTL:PT1H
BEGIN:VTIMEZONE
TZID:UTC
BEGIN:STANDARD
TZOFFSETFROM:+0000
TZOFFSETTO:+0000
TZNAME:UTC
DTSTART:20240101T000000
END:STANDARD
END:VTIMEZONE
BEGIN:VEVENT
DTSTART;TZID=UTC:20240705T180000
DTEND;TZID=UTC:20240705T190000
DTSTAMP:20260422T221533
CREATED:20240712T123234Z
LAST-MODIFIED:20240712T124041Z
UID:10002076-1720202400-1720206000@allinclusivefc.org.uk
SUMMARY:Squad Girls Open Sessions
DESCRIPTION:
URL:https://allinclusivefc.org.uk/session/squad-girls-open-sessions/2024-07-05/
LOCATION:Buckden Playing Fields\, Burberry Rd\, Buckden\, St Neots\, PE19 5UY\, United Kingdom
ATTACH;FMTTYPE=image/png:https://allinclusivefc.org.uk/wp-content/uploads/2024/07/Screenshot-2024-07-12-at-13.31.28.png
ORGANIZER;CN="All Inclusive Football Coaching":MAILTO:hello@allinclusivefc.org.uk
END:VEVENT
END:VCALENDAR