BEGIN:VCALENDAR
VERSION:2.0
PRODID:-//All Inclusive FC - ECPv6.7.0//NONSGML v1.0//EN
CALSCALE:GREGORIAN
METHOD:PUBLISH
X-ORIGINAL-URL:https://allinclusivefc.org.uk
X-WR-CALDESC:Events for All Inclusive FC
REFRESH-INTERVAL;VALUE=DURATION:PT1H
X-Robots-Tag:noindex
X-PUBLISHED-TTL:PT1H
BEGIN:VTIMEZONE
TZID:UTC
BEGIN:STANDARD
TZOFFSETFROM:+0000
TZOFFSETTO:+0000
TZNAME:UTC
DTSTART:20270101T000000
END:STANDARD
END:VTIMEZONE
BEGIN:VEVENT
DTSTART;TZID=UTC:20270810T170000
DTEND;TZID=UTC:20270810T180000
DTSTAMP:20260422T214912
CREATED:20250622T153807Z
LAST-MODIFIED:20250622T153807Z
UID:10003851-1817917200-1817920800@allinclusivefc.org.uk
SUMMARY:SEND Inclusion Sessions - Peterborough
DESCRIPTION:These fun\, inclusive sessions are open to any age group\, no experience necessary. We aim to teach new skills\, improve fitness and mental wellbeing and help build new friendships. \nThese sessions are free of charge and take place at Power League Peterborough\, Stanground.
URL:https://allinclusivefc.org.uk/session/send-inclusion-sessions-peterborough/2027-08-10/
LOCATION:Power League Peterborough\, Power League Peterborough\, Peterborough\, Stanground\, PE7 3BW\, United Kingdom
ATTACH;FMTTYPE=image/jpeg:https://allinclusivefc.org.uk/wp-content/uploads/2025/06/2702689c-a189-4ea9-8053-eed32921a54d.jpg
END:VEVENT
BEGIN:VEVENT
DTSTART;TZID=UTC:20270812T180000
DTEND;TZID=UTC:20270812T190000
DTSTAMP:20260422T214912
CREATED:20240712T121558Z
LAST-MODIFIED:20241121T205510Z
UID:10000680-1818093600-1818097200@allinclusivefc.org.uk
SUMMARY:Walking Football at The Towers
DESCRIPTION:Walking football is a low intensity version of football for all abilities and genders. No experience necessary. \nOur sessions are designed to help prevent cardiovascular disease and to also help you get fit and active.
URL:https://allinclusivefc.org.uk/session/walking-football-at-the-towers-2/2027-08-12/
LOCATION:Grafham Village Hall Van Diemens Way Grafham PE28 0GB\, Van Diemens Way\, Grafham\, PE28 0GB\, United Kingdom
ATTACH;FMTTYPE=image/jpeg:https://allinclusivefc.org.uk/wp-content/uploads/2024/07/086664f1-3da2-49db-8c6d-cd67dc890252.jpg
ORGANIZER;CN="All Inclusive Football Coaching":MAILTO:hello@allinclusivefc.org.uk
END:VEVENT
BEGIN:VEVENT
DTSTART;TZID=UTC:20270815T100000
DTEND;TZID=UTC:20320808T110000
DTSTAMP:20260422T214912
CREATED:20241121T204811Z
LAST-MODIFIED:20250622T154115Z
UID:10002799-1818324000-1975575600@allinclusivefc.org.uk
SUMMARY:SEND Inclusion Sessions - Buckden
DESCRIPTION:Inclusion Development sessions for children with disabilities and additional needs. Run in conjunction with Buckden Football Club\, These are open to children of all ages\, with fun at the heart of everything we do. Come and join us to learn some new skills and make some friends in a supportive inclusive environment.
URL:https://allinclusivefc.org.uk/session/inclusion-development-pan-disability-youth/2027-08-15/
LOCATION:Buckden Playing Fields\, Burberry Rd\, Buckden\, St Neots\, PE19 5UY\, United Kingdom
ATTACH;FMTTYPE=image/jpeg:https://allinclusivefc.org.uk/wp-content/uploads/2024/11/IMG_6949.jpg
END:VEVENT
BEGIN:VEVENT
DTSTART;TZID=UTC:20270816T120000
DTEND;TZID=UTC:20270816T130000
DTSTAMP:20260422T214912
CREATED:20240712T120800Z
LAST-MODIFIED:20241121T203156Z
UID:10000161-1818417600-1818421200@allinclusivefc.org.uk
SUMMARY:Walking Football at The Towers
DESCRIPTION:Walking football is a low intensity version of football for all abilities and genders. No experience necessary. \nOur sessions are designed to help prevent cardiovascular disease and to also help you get fit and active.
URL:https://allinclusivefc.org.uk/session/walking-football-at-the-towers/2027-08-16/
LOCATION:Buckden Towers\, High Street\, Buckden\, St Neots\, PE19 5TA\, United Kingdom
ATTACH;FMTTYPE=image/jpeg:https://allinclusivefc.org.uk/wp-content/uploads/2024/07/086664f1-3da2-49db-8c6d-cd67dc890252.jpg
ORGANIZER;CN="All Inclusive Football Coaching":MAILTO:hello@allinclusivefc.org.uk
END:VEVENT
BEGIN:VEVENT
DTSTART;TZID=UTC:20270816T160000
DTEND;TZID=UTC:20270816T170000
DTSTAMP:20260422T214912
CREATED:20250622T152557Z
LAST-MODIFIED:20250622T153851Z
UID:10003382-1818432000-1818435600@allinclusivefc.org.uk
SUMMARY:SEND Inclusion Sessions - Huntingdon
DESCRIPTION:In partnership with the Huntingdon Freemens Trust\, these fun and inclusive sessions are open to any age group – no experience necessary. We aim to teach new skills\, improve fitness and mental wellbeing and help build new friendships. \nThese sessions are free of charge and take place at One Leisure in Huntingdon.
URL:https://allinclusivefc.org.uk/session/hunts-open-send-sessions/2027-08-16/
LOCATION:One Leisure\, Huntingdon\, St Peters Road\, Huntingdon\, United Kingdom
ATTACH;FMTTYPE=image/jpeg:https://allinclusivefc.org.uk/wp-content/uploads/2025/06/D8F0C39A-CAB2-4F23-990C-490512A85828.jpg
END:VEVENT
BEGIN:VEVENT
DTSTART;TZID=UTC:20270816T173000
DTEND;TZID=UTC:20270816T183000
DTSTAMP:20260422T214912
CREATED:20240712T122516Z
LAST-MODIFIED:20250622T151647Z
UID:10002239-1818437400-1818441000@allinclusivefc.org.uk
SUMMARY:Open Age Sessions 7+ Years Old
DESCRIPTION:
URL:https://allinclusivefc.org.uk/session/open-age-sessions-10-years-old/2027-08-16/
LOCATION:Buckden Playing Fields\, Burberry Rd\, Buckden\, St Neots\, PE19 5UY\, United Kingdom
ATTACH;FMTTYPE=image/jpeg:https://allinclusivefc.org.uk/wp-content/uploads/2024/07/IMG_3434.jpg
ORGANIZER;CN="All Inclusive Football Coaching":MAILTO:hello@allinclusivefc.org.uk
END:VEVENT
BEGIN:VEVENT
DTSTART;TZID=UTC:20270816T183000
DTEND;TZID=UTC:20270816T193000
DTSTAMP:20260422T214912
CREATED:20241106T144631Z
LAST-MODIFIED:20250622T151457Z
UID:10002533-1818441000-1818444600@allinclusivefc.org.uk
SUMMARY:Just For Girls Open Sessions
DESCRIPTION:
URL:https://allinclusivefc.org.uk/session/squad-girls-open-sessions-2/2027-08-16/
LOCATION:Buckden Playing Fields\, Burberry Rd\, Buckden\, St Neots\, PE19 5UY\, United Kingdom
ATTACH;FMTTYPE=image/jpeg:https://allinclusivefc.org.uk/wp-content/uploads/2024/11/IMG_3432.jpg
ORGANIZER;CN="All Inclusive Football Coaching":MAILTO:hello@allinclusivefc.org.uk
END:VEVENT
BEGIN:VEVENT
DTSTART;TZID=UTC:20270817T170000
DTEND;TZID=UTC:20270817T180000
DTSTAMP:20260422T214912
CREATED:20250622T153807Z
LAST-MODIFIED:20250622T153807Z
UID:10003852-1818522000-1818525600@allinclusivefc.org.uk
SUMMARY:SEND Inclusion Sessions - Peterborough
DESCRIPTION:These fun\, inclusive sessions are open to any age group\, no experience necessary. We aim to teach new skills\, improve fitness and mental wellbeing and help build new friendships. \nThese sessions are free of charge and take place at Power League Peterborough\, Stanground.
URL:https://allinclusivefc.org.uk/session/send-inclusion-sessions-peterborough/2027-08-17/
LOCATION:Power League Peterborough\, Power League Peterborough\, Peterborough\, Stanground\, PE7 3BW\, United Kingdom
ATTACH;FMTTYPE=image/jpeg:https://allinclusivefc.org.uk/wp-content/uploads/2025/06/2702689c-a189-4ea9-8053-eed32921a54d.jpg
END:VEVENT
BEGIN:VEVENT
DTSTART;TZID=UTC:20270819T180000
DTEND;TZID=UTC:20270819T190000
DTSTAMP:20260422T214912
CREATED:20240712T121558Z
LAST-MODIFIED:20241121T205510Z
UID:10000681-1818698400-1818702000@allinclusivefc.org.uk
SUMMARY:Walking Football at The Towers
DESCRIPTION:Walking football is a low intensity version of football for all abilities and genders. No experience necessary. \nOur sessions are designed to help prevent cardiovascular disease and to also help you get fit and active.
URL:https://allinclusivefc.org.uk/session/walking-football-at-the-towers-2/2027-08-19/
LOCATION:Grafham Village Hall Van Diemens Way Grafham PE28 0GB\, Van Diemens Way\, Grafham\, PE28 0GB\, United Kingdom
ATTACH;FMTTYPE=image/jpeg:https://allinclusivefc.org.uk/wp-content/uploads/2024/07/086664f1-3da2-49db-8c6d-cd67dc890252.jpg
ORGANIZER;CN="All Inclusive Football Coaching":MAILTO:hello@allinclusivefc.org.uk
END:VEVENT
BEGIN:VEVENT
DTSTART;TZID=UTC:20270822T100000
DTEND;TZID=UTC:20320815T110000
DTSTAMP:20260422T214912
CREATED:20241121T204811Z
LAST-MODIFIED:20250622T154115Z
UID:10002800-1818928800-1976180400@allinclusivefc.org.uk
SUMMARY:SEND Inclusion Sessions - Buckden
DESCRIPTION:Inclusion Development sessions for children with disabilities and additional needs. Run in conjunction with Buckden Football Club\, These are open to children of all ages\, with fun at the heart of everything we do. Come and join us to learn some new skills and make some friends in a supportive inclusive environment.
URL:https://allinclusivefc.org.uk/session/inclusion-development-pan-disability-youth/2027-08-22/
LOCATION:Buckden Playing Fields\, Burberry Rd\, Buckden\, St Neots\, PE19 5UY\, United Kingdom
ATTACH;FMTTYPE=image/jpeg:https://allinclusivefc.org.uk/wp-content/uploads/2024/11/IMG_6949.jpg
END:VEVENT
BEGIN:VEVENT
DTSTART;TZID=UTC:20270823T120000
DTEND;TZID=UTC:20270823T130000
DTSTAMP:20260422T214912
CREATED:20240712T120800Z
LAST-MODIFIED:20241121T203156Z
UID:10000162-1819022400-1819026000@allinclusivefc.org.uk
SUMMARY:Walking Football at The Towers
DESCRIPTION:Walking football is a low intensity version of football for all abilities and genders. No experience necessary. \nOur sessions are designed to help prevent cardiovascular disease and to also help you get fit and active.
URL:https://allinclusivefc.org.uk/session/walking-football-at-the-towers/2027-08-23/
LOCATION:Buckden Towers\, High Street\, Buckden\, St Neots\, PE19 5TA\, United Kingdom
ATTACH;FMTTYPE=image/jpeg:https://allinclusivefc.org.uk/wp-content/uploads/2024/07/086664f1-3da2-49db-8c6d-cd67dc890252.jpg
ORGANIZER;CN="All Inclusive Football Coaching":MAILTO:hello@allinclusivefc.org.uk
END:VEVENT
BEGIN:VEVENT
DTSTART;TZID=UTC:20270823T160000
DTEND;TZID=UTC:20270823T170000
DTSTAMP:20260422T214912
CREATED:20250622T152557Z
LAST-MODIFIED:20250622T153851Z
UID:10003383-1819036800-1819040400@allinclusivefc.org.uk
SUMMARY:SEND Inclusion Sessions - Huntingdon
DESCRIPTION:In partnership with the Huntingdon Freemens Trust\, these fun and inclusive sessions are open to any age group – no experience necessary. We aim to teach new skills\, improve fitness and mental wellbeing and help build new friendships. \nThese sessions are free of charge and take place at One Leisure in Huntingdon.
URL:https://allinclusivefc.org.uk/session/hunts-open-send-sessions/2027-08-23/
LOCATION:One Leisure\, Huntingdon\, St Peters Road\, Huntingdon\, United Kingdom
ATTACH;FMTTYPE=image/jpeg:https://allinclusivefc.org.uk/wp-content/uploads/2025/06/D8F0C39A-CAB2-4F23-990C-490512A85828.jpg
END:VEVENT
BEGIN:VEVENT
DTSTART;TZID=UTC:20270823T173000
DTEND;TZID=UTC:20270823T183000
DTSTAMP:20260422T214912
CREATED:20240712T122516Z
LAST-MODIFIED:20250622T151647Z
UID:10002240-1819042200-1819045800@allinclusivefc.org.uk
SUMMARY:Open Age Sessions 7+ Years Old
DESCRIPTION:
URL:https://allinclusivefc.org.uk/session/open-age-sessions-10-years-old/2027-08-23/
LOCATION:Buckden Playing Fields\, Burberry Rd\, Buckden\, St Neots\, PE19 5UY\, United Kingdom
ATTACH;FMTTYPE=image/jpeg:https://allinclusivefc.org.uk/wp-content/uploads/2024/07/IMG_3434.jpg
ORGANIZER;CN="All Inclusive Football Coaching":MAILTO:hello@allinclusivefc.org.uk
END:VEVENT
BEGIN:VEVENT
DTSTART;TZID=UTC:20270823T183000
DTEND;TZID=UTC:20270823T193000
DTSTAMP:20260422T214912
CREATED:20241106T144631Z
LAST-MODIFIED:20250622T151457Z
UID:10002534-1819045800-1819049400@allinclusivefc.org.uk
SUMMARY:Just For Girls Open Sessions
DESCRIPTION:
URL:https://allinclusivefc.org.uk/session/squad-girls-open-sessions-2/2027-08-23/
LOCATION:Buckden Playing Fields\, Burberry Rd\, Buckden\, St Neots\, PE19 5UY\, United Kingdom
ATTACH;FMTTYPE=image/jpeg:https://allinclusivefc.org.uk/wp-content/uploads/2024/11/IMG_3432.jpg
ORGANIZER;CN="All Inclusive Football Coaching":MAILTO:hello@allinclusivefc.org.uk
END:VEVENT
BEGIN:VEVENT
DTSTART;TZID=UTC:20270824T170000
DTEND;TZID=UTC:20270824T180000
DTSTAMP:20260422T214912
CREATED:20250622T153807Z
LAST-MODIFIED:20250622T153807Z
UID:10003853-1819126800-1819130400@allinclusivefc.org.uk
SUMMARY:SEND Inclusion Sessions - Peterborough
DESCRIPTION:These fun\, inclusive sessions are open to any age group\, no experience necessary. We aim to teach new skills\, improve fitness and mental wellbeing and help build new friendships. \nThese sessions are free of charge and take place at Power League Peterborough\, Stanground.
URL:https://allinclusivefc.org.uk/session/send-inclusion-sessions-peterborough/2027-08-24/
LOCATION:Power League Peterborough\, Power League Peterborough\, Peterborough\, Stanground\, PE7 3BW\, United Kingdom
ATTACH;FMTTYPE=image/jpeg:https://allinclusivefc.org.uk/wp-content/uploads/2025/06/2702689c-a189-4ea9-8053-eed32921a54d.jpg
END:VEVENT
BEGIN:VEVENT
DTSTART;TZID=UTC:20270826T180000
DTEND;TZID=UTC:20270826T190000
DTSTAMP:20260422T214912
CREATED:20240712T121558Z
LAST-MODIFIED:20241121T205510Z
UID:10000682-1819303200-1819306800@allinclusivefc.org.uk
SUMMARY:Walking Football at The Towers
DESCRIPTION:Walking football is a low intensity version of football for all abilities and genders. No experience necessary. \nOur sessions are designed to help prevent cardiovascular disease and to also help you get fit and active.
URL:https://allinclusivefc.org.uk/session/walking-football-at-the-towers-2/2027-08-26/
LOCATION:Grafham Village Hall Van Diemens Way Grafham PE28 0GB\, Van Diemens Way\, Grafham\, PE28 0GB\, United Kingdom
ATTACH;FMTTYPE=image/jpeg:https://allinclusivefc.org.uk/wp-content/uploads/2024/07/086664f1-3da2-49db-8c6d-cd67dc890252.jpg
ORGANIZER;CN="All Inclusive Football Coaching":MAILTO:hello@allinclusivefc.org.uk
END:VEVENT
BEGIN:VEVENT
DTSTART;TZID=UTC:20270829T100000
DTEND;TZID=UTC:20320822T110000
DTSTAMP:20260422T214912
CREATED:20241121T204811Z
LAST-MODIFIED:20250622T154115Z
UID:10002801-1819533600-1976785200@allinclusivefc.org.uk
SUMMARY:SEND Inclusion Sessions - Buckden
DESCRIPTION:Inclusion Development sessions for children with disabilities and additional needs. Run in conjunction with Buckden Football Club\, These are open to children of all ages\, with fun at the heart of everything we do. Come and join us to learn some new skills and make some friends in a supportive inclusive environment.
URL:https://allinclusivefc.org.uk/session/inclusion-development-pan-disability-youth/2027-08-29/
LOCATION:Buckden Playing Fields\, Burberry Rd\, Buckden\, St Neots\, PE19 5UY\, United Kingdom
ATTACH;FMTTYPE=image/jpeg:https://allinclusivefc.org.uk/wp-content/uploads/2024/11/IMG_6949.jpg
END:VEVENT
BEGIN:VEVENT
DTSTART;TZID=UTC:20270830T120000
DTEND;TZID=UTC:20270830T130000
DTSTAMP:20260422T214912
CREATED:20240712T120800Z
LAST-MODIFIED:20241121T203156Z
UID:10000163-1819627200-1819630800@allinclusivefc.org.uk
SUMMARY:Walking Football at The Towers
DESCRIPTION:Walking football is a low intensity version of football for all abilities and genders. No experience necessary. \nOur sessions are designed to help prevent cardiovascular disease and to also help you get fit and active.
URL:https://allinclusivefc.org.uk/session/walking-football-at-the-towers/2027-08-30/
LOCATION:Buckden Towers\, High Street\, Buckden\, St Neots\, PE19 5TA\, United Kingdom
ATTACH;FMTTYPE=image/jpeg:https://allinclusivefc.org.uk/wp-content/uploads/2024/07/086664f1-3da2-49db-8c6d-cd67dc890252.jpg
ORGANIZER;CN="All Inclusive Football Coaching":MAILTO:hello@allinclusivefc.org.uk
END:VEVENT
BEGIN:VEVENT
DTSTART;TZID=UTC:20270830T160000
DTEND;TZID=UTC:20270830T170000
DTSTAMP:20260422T214912
CREATED:20250622T152557Z
LAST-MODIFIED:20250622T153851Z
UID:10003384-1819641600-1819645200@allinclusivefc.org.uk
SUMMARY:SEND Inclusion Sessions - Huntingdon
DESCRIPTION:In partnership with the Huntingdon Freemens Trust\, these fun and inclusive sessions are open to any age group – no experience necessary. We aim to teach new skills\, improve fitness and mental wellbeing and help build new friendships. \nThese sessions are free of charge and take place at One Leisure in Huntingdon.
URL:https://allinclusivefc.org.uk/session/hunts-open-send-sessions/2027-08-30/
LOCATION:One Leisure\, Huntingdon\, St Peters Road\, Huntingdon\, United Kingdom
ATTACH;FMTTYPE=image/jpeg:https://allinclusivefc.org.uk/wp-content/uploads/2025/06/D8F0C39A-CAB2-4F23-990C-490512A85828.jpg
END:VEVENT
BEGIN:VEVENT
DTSTART;TZID=UTC:20270830T173000
DTEND;TZID=UTC:20270830T183000
DTSTAMP:20260422T214912
CREATED:20240712T122516Z
LAST-MODIFIED:20250622T151647Z
UID:10002241-1819647000-1819650600@allinclusivefc.org.uk
SUMMARY:Open Age Sessions 7+ Years Old
DESCRIPTION:
URL:https://allinclusivefc.org.uk/session/open-age-sessions-10-years-old/2027-08-30/
LOCATION:Buckden Playing Fields\, Burberry Rd\, Buckden\, St Neots\, PE19 5UY\, United Kingdom
ATTACH;FMTTYPE=image/jpeg:https://allinclusivefc.org.uk/wp-content/uploads/2024/07/IMG_3434.jpg
ORGANIZER;CN="All Inclusive Football Coaching":MAILTO:hello@allinclusivefc.org.uk
END:VEVENT
BEGIN:VEVENT
DTSTART;TZID=UTC:20270830T183000
DTEND;TZID=UTC:20270830T193000
DTSTAMP:20260422T214912
CREATED:20241106T144631Z
LAST-MODIFIED:20250622T151457Z
UID:10002535-1819650600-1819654200@allinclusivefc.org.uk
SUMMARY:Just For Girls Open Sessions
DESCRIPTION:
URL:https://allinclusivefc.org.uk/session/squad-girls-open-sessions-2/2027-08-30/
LOCATION:Buckden Playing Fields\, Burberry Rd\, Buckden\, St Neots\, PE19 5UY\, United Kingdom
ATTACH;FMTTYPE=image/jpeg:https://allinclusivefc.org.uk/wp-content/uploads/2024/11/IMG_3432.jpg
ORGANIZER;CN="All Inclusive Football Coaching":MAILTO:hello@allinclusivefc.org.uk
END:VEVENT
BEGIN:VEVENT
DTSTART;TZID=UTC:20270831T170000
DTEND;TZID=UTC:20270831T180000
DTSTAMP:20260422T214912
CREATED:20250622T153807Z
LAST-MODIFIED:20250622T153807Z
UID:10003854-1819731600-1819735200@allinclusivefc.org.uk
SUMMARY:SEND Inclusion Sessions - Peterborough
DESCRIPTION:These fun\, inclusive sessions are open to any age group\, no experience necessary. We aim to teach new skills\, improve fitness and mental wellbeing and help build new friendships. \nThese sessions are free of charge and take place at Power League Peterborough\, Stanground.
URL:https://allinclusivefc.org.uk/session/send-inclusion-sessions-peterborough/2027-08-31/
LOCATION:Power League Peterborough\, Power League Peterborough\, Peterborough\, Stanground\, PE7 3BW\, United Kingdom
ATTACH;FMTTYPE=image/jpeg:https://allinclusivefc.org.uk/wp-content/uploads/2025/06/2702689c-a189-4ea9-8053-eed32921a54d.jpg
END:VEVENT
BEGIN:VEVENT
DTSTART;TZID=UTC:20270902T180000
DTEND;TZID=UTC:20270902T190000
DTSTAMP:20260422T214912
CREATED:20240712T121558Z
LAST-MODIFIED:20241121T205510Z
UID:10000683-1819908000-1819911600@allinclusivefc.org.uk
SUMMARY:Walking Football at The Towers
DESCRIPTION:Walking football is a low intensity version of football for all abilities and genders. No experience necessary. \nOur sessions are designed to help prevent cardiovascular disease and to also help you get fit and active.
URL:https://allinclusivefc.org.uk/session/walking-football-at-the-towers-2/2027-09-02/
LOCATION:Grafham Village Hall Van Diemens Way Grafham PE28 0GB\, Van Diemens Way\, Grafham\, PE28 0GB\, United Kingdom
ATTACH;FMTTYPE=image/jpeg:https://allinclusivefc.org.uk/wp-content/uploads/2024/07/086664f1-3da2-49db-8c6d-cd67dc890252.jpg
ORGANIZER;CN="All Inclusive Football Coaching":MAILTO:hello@allinclusivefc.org.uk
END:VEVENT
BEGIN:VEVENT
DTSTART;TZID=UTC:20270905T100000
DTEND;TZID=UTC:20320829T110000
DTSTAMP:20260422T214912
CREATED:20241121T204811Z
LAST-MODIFIED:20250622T154115Z
UID:10002802-1820138400-1977390000@allinclusivefc.org.uk
SUMMARY:SEND Inclusion Sessions - Buckden
DESCRIPTION:Inclusion Development sessions for children with disabilities and additional needs. Run in conjunction with Buckden Football Club\, These are open to children of all ages\, with fun at the heart of everything we do. Come and join us to learn some new skills and make some friends in a supportive inclusive environment.
URL:https://allinclusivefc.org.uk/session/inclusion-development-pan-disability-youth/2027-09-05/
LOCATION:Buckden Playing Fields\, Burberry Rd\, Buckden\, St Neots\, PE19 5UY\, United Kingdom
ATTACH;FMTTYPE=image/jpeg:https://allinclusivefc.org.uk/wp-content/uploads/2024/11/IMG_6949.jpg
END:VEVENT
BEGIN:VEVENT
DTSTART;TZID=UTC:20270906T120000
DTEND;TZID=UTC:20270906T130000
DTSTAMP:20260422T214912
CREATED:20240712T120800Z
LAST-MODIFIED:20241121T203156Z
UID:10000164-1820232000-1820235600@allinclusivefc.org.uk
SUMMARY:Walking Football at The Towers
DESCRIPTION:Walking football is a low intensity version of football for all abilities and genders. No experience necessary. \nOur sessions are designed to help prevent cardiovascular disease and to also help you get fit and active.
URL:https://allinclusivefc.org.uk/session/walking-football-at-the-towers/2027-09-06/
LOCATION:Buckden Towers\, High Street\, Buckden\, St Neots\, PE19 5TA\, United Kingdom
ATTACH;FMTTYPE=image/jpeg:https://allinclusivefc.org.uk/wp-content/uploads/2024/07/086664f1-3da2-49db-8c6d-cd67dc890252.jpg
ORGANIZER;CN="All Inclusive Football Coaching":MAILTO:hello@allinclusivefc.org.uk
END:VEVENT
BEGIN:VEVENT
DTSTART;TZID=UTC:20270906T160000
DTEND;TZID=UTC:20270906T170000
DTSTAMP:20260422T214912
CREATED:20250622T152557Z
LAST-MODIFIED:20250622T153851Z
UID:10003385-1820246400-1820250000@allinclusivefc.org.uk
SUMMARY:SEND Inclusion Sessions - Huntingdon
DESCRIPTION:In partnership with the Huntingdon Freemens Trust\, these fun and inclusive sessions are open to any age group – no experience necessary. We aim to teach new skills\, improve fitness and mental wellbeing and help build new friendships. \nThese sessions are free of charge and take place at One Leisure in Huntingdon.
URL:https://allinclusivefc.org.uk/session/hunts-open-send-sessions/2027-09-06/
LOCATION:One Leisure\, Huntingdon\, St Peters Road\, Huntingdon\, United Kingdom
ATTACH;FMTTYPE=image/jpeg:https://allinclusivefc.org.uk/wp-content/uploads/2025/06/D8F0C39A-CAB2-4F23-990C-490512A85828.jpg
END:VEVENT
BEGIN:VEVENT
DTSTART;TZID=UTC:20270906T173000
DTEND;TZID=UTC:20270906T183000
DTSTAMP:20260422T214912
CREATED:20240712T122516Z
LAST-MODIFIED:20250622T151647Z
UID:10002242-1820251800-1820255400@allinclusivefc.org.uk
SUMMARY:Open Age Sessions 7+ Years Old
DESCRIPTION:
URL:https://allinclusivefc.org.uk/session/open-age-sessions-10-years-old/2027-09-06/
LOCATION:Buckden Playing Fields\, Burberry Rd\, Buckden\, St Neots\, PE19 5UY\, United Kingdom
ATTACH;FMTTYPE=image/jpeg:https://allinclusivefc.org.uk/wp-content/uploads/2024/07/IMG_3434.jpg
ORGANIZER;CN="All Inclusive Football Coaching":MAILTO:hello@allinclusivefc.org.uk
END:VEVENT
BEGIN:VEVENT
DTSTART;TZID=UTC:20270906T183000
DTEND;TZID=UTC:20270906T193000
DTSTAMP:20260422T214912
CREATED:20241106T144631Z
LAST-MODIFIED:20250622T151457Z
UID:10002536-1820255400-1820259000@allinclusivefc.org.uk
SUMMARY:Just For Girls Open Sessions
DESCRIPTION:
URL:https://allinclusivefc.org.uk/session/squad-girls-open-sessions-2/2027-09-06/
LOCATION:Buckden Playing Fields\, Burberry Rd\, Buckden\, St Neots\, PE19 5UY\, United Kingdom
ATTACH;FMTTYPE=image/jpeg:https://allinclusivefc.org.uk/wp-content/uploads/2024/11/IMG_3432.jpg
ORGANIZER;CN="All Inclusive Football Coaching":MAILTO:hello@allinclusivefc.org.uk
END:VEVENT
BEGIN:VEVENT
DTSTART;TZID=UTC:20270907T170000
DTEND;TZID=UTC:20270907T180000
DTSTAMP:20260422T214912
CREATED:20250622T153807Z
LAST-MODIFIED:20250622T153807Z
UID:10003855-1820336400-1820340000@allinclusivefc.org.uk
SUMMARY:SEND Inclusion Sessions - Peterborough
DESCRIPTION:These fun\, inclusive sessions are open to any age group\, no experience necessary. We aim to teach new skills\, improve fitness and mental wellbeing and help build new friendships. \nThese sessions are free of charge and take place at Power League Peterborough\, Stanground.
URL:https://allinclusivefc.org.uk/session/send-inclusion-sessions-peterborough/2027-09-07/
LOCATION:Power League Peterborough\, Power League Peterborough\, Peterborough\, Stanground\, PE7 3BW\, United Kingdom
ATTACH;FMTTYPE=image/jpeg:https://allinclusivefc.org.uk/wp-content/uploads/2025/06/2702689c-a189-4ea9-8053-eed32921a54d.jpg
END:VEVENT
BEGIN:VEVENT
DTSTART;TZID=UTC:20270909T180000
DTEND;TZID=UTC:20270909T190000
DTSTAMP:20260422T214912
CREATED:20240712T121558Z
LAST-MODIFIED:20241121T205510Z
UID:10000684-1820512800-1820516400@allinclusivefc.org.uk
SUMMARY:Walking Football at The Towers
DESCRIPTION:Walking football is a low intensity version of football for all abilities and genders. No experience necessary. \nOur sessions are designed to help prevent cardiovascular disease and to also help you get fit and active.
URL:https://allinclusivefc.org.uk/session/walking-football-at-the-towers-2/2027-09-09/
LOCATION:Grafham Village Hall Van Diemens Way Grafham PE28 0GB\, Van Diemens Way\, Grafham\, PE28 0GB\, United Kingdom
ATTACH;FMTTYPE=image/jpeg:https://allinclusivefc.org.uk/wp-content/uploads/2024/07/086664f1-3da2-49db-8c6d-cd67dc890252.jpg
ORGANIZER;CN="All Inclusive Football Coaching":MAILTO:hello@allinclusivefc.org.uk
END:VEVENT
END:VCALENDAR