BEGIN:VCALENDAR
VERSION:2.0
PRODID:-//All Inclusive FC - ECPv6.7.0//NONSGML v1.0//EN
CALSCALE:GREGORIAN
METHOD:PUBLISH
X-WR-CALNAME:All Inclusive FC
X-ORIGINAL-URL:https://allinclusivefc.org.uk
X-WR-CALDESC:Events for All Inclusive FC
REFRESH-INTERVAL;VALUE=DURATION:PT1H
X-Robots-Tag:noindex
X-PUBLISHED-TTL:PT1H
BEGIN:VTIMEZONE
TZID:UTC
BEGIN:STANDARD
TZOFFSETFROM:+0000
TZOFFSETTO:+0000
TZNAME:UTC
DTSTART:20280101T000000
END:STANDARD
END:VTIMEZONE
BEGIN:VEVENT
DTSTART;TZID=UTC:20280501T120000
DTEND;TZID=UTC:20280501T130000
DTSTAMP:20260422T184918
CREATED:20240712T120800Z
LAST-MODIFIED:20241121T203156Z
UID:10000198-1840795200-1840798800@allinclusivefc.org.uk
SUMMARY:Walking Football at The Towers
DESCRIPTION:Walking football is a low intensity version of football for all abilities and genders. No experience necessary. \nOur sessions are designed to help prevent cardiovascular disease and to also help you get fit and active.
URL:https://allinclusivefc.org.uk/session/walking-football-at-the-towers/2028-05-01/
LOCATION:Buckden Towers\, High Street\, Buckden\, St Neots\, PE19 5TA\, United Kingdom
ATTACH;FMTTYPE=image/jpeg:https://allinclusivefc.org.uk/wp-content/uploads/2024/07/086664f1-3da2-49db-8c6d-cd67dc890252.jpg
ORGANIZER;CN="All Inclusive Football Coaching":MAILTO:hello@allinclusivefc.org.uk
END:VEVENT
BEGIN:VEVENT
DTSTART;TZID=UTC:20280508T120000
DTEND;TZID=UTC:20280508T130000
DTSTAMP:20260422T184918
CREATED:20240712T120800Z
LAST-MODIFIED:20241121T203156Z
UID:10000199-1841400000-1841403600@allinclusivefc.org.uk
SUMMARY:Walking Football at The Towers
DESCRIPTION:Walking football is a low intensity version of football for all abilities and genders. No experience necessary. \nOur sessions are designed to help prevent cardiovascular disease and to also help you get fit and active.
URL:https://allinclusivefc.org.uk/session/walking-football-at-the-towers/2028-05-08/
LOCATION:Buckden Towers\, High Street\, Buckden\, St Neots\, PE19 5TA\, United Kingdom
ATTACH;FMTTYPE=image/jpeg:https://allinclusivefc.org.uk/wp-content/uploads/2024/07/086664f1-3da2-49db-8c6d-cd67dc890252.jpg
ORGANIZER;CN="All Inclusive Football Coaching":MAILTO:hello@allinclusivefc.org.uk
END:VEVENT
BEGIN:VEVENT
DTSTART;TZID=UTC:20280515T120000
DTEND;TZID=UTC:20280515T130000
DTSTAMP:20260422T184918
CREATED:20240712T120800Z
LAST-MODIFIED:20241121T203156Z
UID:10000200-1842004800-1842008400@allinclusivefc.org.uk
SUMMARY:Walking Football at The Towers
DESCRIPTION:Walking football is a low intensity version of football for all abilities and genders. No experience necessary. \nOur sessions are designed to help prevent cardiovascular disease and to also help you get fit and active.
URL:https://allinclusivefc.org.uk/session/walking-football-at-the-towers/2028-05-15/
LOCATION:Buckden Towers\, High Street\, Buckden\, St Neots\, PE19 5TA\, United Kingdom
ATTACH;FMTTYPE=image/jpeg:https://allinclusivefc.org.uk/wp-content/uploads/2024/07/086664f1-3da2-49db-8c6d-cd67dc890252.jpg
ORGANIZER;CN="All Inclusive Football Coaching":MAILTO:hello@allinclusivefc.org.uk
END:VEVENT
BEGIN:VEVENT
DTSTART;TZID=UTC:20280522T120000
DTEND;TZID=UTC:20280522T130000
DTSTAMP:20260422T184918
CREATED:20240712T120800Z
LAST-MODIFIED:20241121T203156Z
UID:10000201-1842609600-1842613200@allinclusivefc.org.uk
SUMMARY:Walking Football at The Towers
DESCRIPTION:Walking football is a low intensity version of football for all abilities and genders. No experience necessary. \nOur sessions are designed to help prevent cardiovascular disease and to also help you get fit and active.
URL:https://allinclusivefc.org.uk/session/walking-football-at-the-towers/2028-05-22/
LOCATION:Buckden Towers\, High Street\, Buckden\, St Neots\, PE19 5TA\, United Kingdom
ATTACH;FMTTYPE=image/jpeg:https://allinclusivefc.org.uk/wp-content/uploads/2024/07/086664f1-3da2-49db-8c6d-cd67dc890252.jpg
ORGANIZER;CN="All Inclusive Football Coaching":MAILTO:hello@allinclusivefc.org.uk
END:VEVENT
BEGIN:VEVENT
DTSTART;TZID=UTC:20280529T120000
DTEND;TZID=UTC:20280529T130000
DTSTAMP:20260422T184918
CREATED:20240712T120800Z
LAST-MODIFIED:20241121T203156Z
UID:10000202-1843214400-1843218000@allinclusivefc.org.uk
SUMMARY:Walking Football at The Towers
DESCRIPTION:Walking football is a low intensity version of football for all abilities and genders. No experience necessary. \nOur sessions are designed to help prevent cardiovascular disease and to also help you get fit and active.
URL:https://allinclusivefc.org.uk/session/walking-football-at-the-towers/2028-05-29/
LOCATION:Buckden Towers\, High Street\, Buckden\, St Neots\, PE19 5TA\, United Kingdom
ATTACH;FMTTYPE=image/jpeg:https://allinclusivefc.org.uk/wp-content/uploads/2024/07/086664f1-3da2-49db-8c6d-cd67dc890252.jpg
ORGANIZER;CN="All Inclusive Football Coaching":MAILTO:hello@allinclusivefc.org.uk
END:VEVENT
BEGIN:VEVENT
DTSTART;TZID=UTC:20280605T120000
DTEND;TZID=UTC:20280605T130000
DTSTAMP:20260422T184918
CREATED:20240712T120800Z
LAST-MODIFIED:20241121T203156Z
UID:10000203-1843819200-1843822800@allinclusivefc.org.uk
SUMMARY:Walking Football at The Towers
DESCRIPTION:Walking football is a low intensity version of football for all abilities and genders. No experience necessary. \nOur sessions are designed to help prevent cardiovascular disease and to also help you get fit and active.
URL:https://allinclusivefc.org.uk/session/walking-football-at-the-towers/2028-06-05/
LOCATION:Buckden Towers\, High Street\, Buckden\, St Neots\, PE19 5TA\, United Kingdom
ATTACH;FMTTYPE=image/jpeg:https://allinclusivefc.org.uk/wp-content/uploads/2024/07/086664f1-3da2-49db-8c6d-cd67dc890252.jpg
ORGANIZER;CN="All Inclusive Football Coaching":MAILTO:hello@allinclusivefc.org.uk
END:VEVENT
BEGIN:VEVENT
DTSTART;TZID=UTC:20280612T120000
DTEND;TZID=UTC:20280612T130000
DTSTAMP:20260422T184918
CREATED:20240712T120800Z
LAST-MODIFIED:20241121T203156Z
UID:10000204-1844424000-1844427600@allinclusivefc.org.uk
SUMMARY:Walking Football at The Towers
DESCRIPTION:Walking football is a low intensity version of football for all abilities and genders. No experience necessary. \nOur sessions are designed to help prevent cardiovascular disease and to also help you get fit and active.
URL:https://allinclusivefc.org.uk/session/walking-football-at-the-towers/2028-06-12/
LOCATION:Buckden Towers\, High Street\, Buckden\, St Neots\, PE19 5TA\, United Kingdom
ATTACH;FMTTYPE=image/jpeg:https://allinclusivefc.org.uk/wp-content/uploads/2024/07/086664f1-3da2-49db-8c6d-cd67dc890252.jpg
ORGANIZER;CN="All Inclusive Football Coaching":MAILTO:hello@allinclusivefc.org.uk
END:VEVENT
BEGIN:VEVENT
DTSTART;TZID=UTC:20280619T120000
DTEND;TZID=UTC:20280619T130000
DTSTAMP:20260422T184918
CREATED:20240712T120800Z
LAST-MODIFIED:20241121T203156Z
UID:10000205-1845028800-1845032400@allinclusivefc.org.uk
SUMMARY:Walking Football at The Towers
DESCRIPTION:Walking football is a low intensity version of football for all abilities and genders. No experience necessary. \nOur sessions are designed to help prevent cardiovascular disease and to also help you get fit and active.
URL:https://allinclusivefc.org.uk/session/walking-football-at-the-towers/2028-06-19/
LOCATION:Buckden Towers\, High Street\, Buckden\, St Neots\, PE19 5TA\, United Kingdom
ATTACH;FMTTYPE=image/jpeg:https://allinclusivefc.org.uk/wp-content/uploads/2024/07/086664f1-3da2-49db-8c6d-cd67dc890252.jpg
ORGANIZER;CN="All Inclusive Football Coaching":MAILTO:hello@allinclusivefc.org.uk
END:VEVENT
BEGIN:VEVENT
DTSTART;TZID=UTC:20280626T120000
DTEND;TZID=UTC:20280626T130000
DTSTAMP:20260422T184918
CREATED:20240712T120800Z
LAST-MODIFIED:20241121T203156Z
UID:10000206-1845633600-1845637200@allinclusivefc.org.uk
SUMMARY:Walking Football at The Towers
DESCRIPTION:Walking football is a low intensity version of football for all abilities and genders. No experience necessary. \nOur sessions are designed to help prevent cardiovascular disease and to also help you get fit and active.
URL:https://allinclusivefc.org.uk/session/walking-football-at-the-towers/2028-06-26/
LOCATION:Buckden Towers\, High Street\, Buckden\, St Neots\, PE19 5TA\, United Kingdom
ATTACH;FMTTYPE=image/jpeg:https://allinclusivefc.org.uk/wp-content/uploads/2024/07/086664f1-3da2-49db-8c6d-cd67dc890252.jpg
ORGANIZER;CN="All Inclusive Football Coaching":MAILTO:hello@allinclusivefc.org.uk
END:VEVENT
BEGIN:VEVENT
DTSTART;TZID=UTC:20280703T120000
DTEND;TZID=UTC:20280703T130000
DTSTAMP:20260422T184918
CREATED:20240712T120800Z
LAST-MODIFIED:20241121T203156Z
UID:10000207-1846238400-1846242000@allinclusivefc.org.uk
SUMMARY:Walking Football at The Towers
DESCRIPTION:Walking football is a low intensity version of football for all abilities and genders. No experience necessary. \nOur sessions are designed to help prevent cardiovascular disease and to also help you get fit and active.
URL:https://allinclusivefc.org.uk/session/walking-football-at-the-towers/2028-07-03/
LOCATION:Buckden Towers\, High Street\, Buckden\, St Neots\, PE19 5TA\, United Kingdom
ATTACH;FMTTYPE=image/jpeg:https://allinclusivefc.org.uk/wp-content/uploads/2024/07/086664f1-3da2-49db-8c6d-cd67dc890252.jpg
ORGANIZER;CN="All Inclusive Football Coaching":MAILTO:hello@allinclusivefc.org.uk
END:VEVENT
BEGIN:VEVENT
DTSTART;TZID=UTC:20280710T120000
DTEND;TZID=UTC:20280710T130000
DTSTAMP:20260422T184918
CREATED:20240712T120800Z
LAST-MODIFIED:20241121T203156Z
UID:10000208-1846843200-1846846800@allinclusivefc.org.uk
SUMMARY:Walking Football at The Towers
DESCRIPTION:Walking football is a low intensity version of football for all abilities and genders. No experience necessary. \nOur sessions are designed to help prevent cardiovascular disease and to also help you get fit and active.
URL:https://allinclusivefc.org.uk/session/walking-football-at-the-towers/2028-07-10/
LOCATION:Buckden Towers\, High Street\, Buckden\, St Neots\, PE19 5TA\, United Kingdom
ATTACH;FMTTYPE=image/jpeg:https://allinclusivefc.org.uk/wp-content/uploads/2024/07/086664f1-3da2-49db-8c6d-cd67dc890252.jpg
ORGANIZER;CN="All Inclusive Football Coaching":MAILTO:hello@allinclusivefc.org.uk
END:VEVENT
BEGIN:VEVENT
DTSTART;TZID=UTC:20280717T120000
DTEND;TZID=UTC:20280717T130000
DTSTAMP:20260422T184918
CREATED:20240712T120800Z
LAST-MODIFIED:20241121T203156Z
UID:10000209-1847448000-1847451600@allinclusivefc.org.uk
SUMMARY:Walking Football at The Towers
DESCRIPTION:Walking football is a low intensity version of football for all abilities and genders. No experience necessary. \nOur sessions are designed to help prevent cardiovascular disease and to also help you get fit and active.
URL:https://allinclusivefc.org.uk/session/walking-football-at-the-towers/2028-07-17/
LOCATION:Buckden Towers\, High Street\, Buckden\, St Neots\, PE19 5TA\, United Kingdom
ATTACH;FMTTYPE=image/jpeg:https://allinclusivefc.org.uk/wp-content/uploads/2024/07/086664f1-3da2-49db-8c6d-cd67dc890252.jpg
ORGANIZER;CN="All Inclusive Football Coaching":MAILTO:hello@allinclusivefc.org.uk
END:VEVENT
BEGIN:VEVENT
DTSTART;TZID=UTC:20280724T120000
DTEND;TZID=UTC:20280724T130000
DTSTAMP:20260422T184918
CREATED:20240712T120800Z
LAST-MODIFIED:20241121T203156Z
UID:10000210-1848052800-1848056400@allinclusivefc.org.uk
SUMMARY:Walking Football at The Towers
DESCRIPTION:Walking football is a low intensity version of football for all abilities and genders. No experience necessary. \nOur sessions are designed to help prevent cardiovascular disease and to also help you get fit and active.
URL:https://allinclusivefc.org.uk/session/walking-football-at-the-towers/2028-07-24/
LOCATION:Buckden Towers\, High Street\, Buckden\, St Neots\, PE19 5TA\, United Kingdom
ATTACH;FMTTYPE=image/jpeg:https://allinclusivefc.org.uk/wp-content/uploads/2024/07/086664f1-3da2-49db-8c6d-cd67dc890252.jpg
ORGANIZER;CN="All Inclusive Football Coaching":MAILTO:hello@allinclusivefc.org.uk
END:VEVENT
BEGIN:VEVENT
DTSTART;TZID=UTC:20280731T120000
DTEND;TZID=UTC:20280731T130000
DTSTAMP:20260422T184918
CREATED:20240712T120800Z
LAST-MODIFIED:20241121T203156Z
UID:10000211-1848657600-1848661200@allinclusivefc.org.uk
SUMMARY:Walking Football at The Towers
DESCRIPTION:Walking football is a low intensity version of football for all abilities and genders. No experience necessary. \nOur sessions are designed to help prevent cardiovascular disease and to also help you get fit and active.
URL:https://allinclusivefc.org.uk/session/walking-football-at-the-towers/2028-07-31/
LOCATION:Buckden Towers\, High Street\, Buckden\, St Neots\, PE19 5TA\, United Kingdom
ATTACH;FMTTYPE=image/jpeg:https://allinclusivefc.org.uk/wp-content/uploads/2024/07/086664f1-3da2-49db-8c6d-cd67dc890252.jpg
ORGANIZER;CN="All Inclusive Football Coaching":MAILTO:hello@allinclusivefc.org.uk
END:VEVENT
BEGIN:VEVENT
DTSTART;TZID=UTC:20280807T120000
DTEND;TZID=UTC:20280807T130000
DTSTAMP:20260422T184918
CREATED:20240712T120800Z
LAST-MODIFIED:20241121T203156Z
UID:10000212-1849262400-1849266000@allinclusivefc.org.uk
SUMMARY:Walking Football at The Towers
DESCRIPTION:Walking football is a low intensity version of football for all abilities and genders. No experience necessary. \nOur sessions are designed to help prevent cardiovascular disease and to also help you get fit and active.
URL:https://allinclusivefc.org.uk/session/walking-football-at-the-towers/2028-08-07/
LOCATION:Buckden Towers\, High Street\, Buckden\, St Neots\, PE19 5TA\, United Kingdom
ATTACH;FMTTYPE=image/jpeg:https://allinclusivefc.org.uk/wp-content/uploads/2024/07/086664f1-3da2-49db-8c6d-cd67dc890252.jpg
ORGANIZER;CN="All Inclusive Football Coaching":MAILTO:hello@allinclusivefc.org.uk
END:VEVENT
BEGIN:VEVENT
DTSTART;TZID=UTC:20280814T120000
DTEND;TZID=UTC:20280814T130000
DTSTAMP:20260422T184918
CREATED:20240712T120800Z
LAST-MODIFIED:20241121T203156Z
UID:10000213-1849867200-1849870800@allinclusivefc.org.uk
SUMMARY:Walking Football at The Towers
DESCRIPTION:Walking football is a low intensity version of football for all abilities and genders. No experience necessary. \nOur sessions are designed to help prevent cardiovascular disease and to also help you get fit and active.
URL:https://allinclusivefc.org.uk/session/walking-football-at-the-towers/2028-08-14/
LOCATION:Buckden Towers\, High Street\, Buckden\, St Neots\, PE19 5TA\, United Kingdom
ATTACH;FMTTYPE=image/jpeg:https://allinclusivefc.org.uk/wp-content/uploads/2024/07/086664f1-3da2-49db-8c6d-cd67dc890252.jpg
ORGANIZER;CN="All Inclusive Football Coaching":MAILTO:hello@allinclusivefc.org.uk
END:VEVENT
BEGIN:VEVENT
DTSTART;TZID=UTC:20280821T120000
DTEND;TZID=UTC:20280821T130000
DTSTAMP:20260422T184918
CREATED:20240712T120800Z
LAST-MODIFIED:20241121T203156Z
UID:10000214-1850472000-1850475600@allinclusivefc.org.uk
SUMMARY:Walking Football at The Towers
DESCRIPTION:Walking football is a low intensity version of football for all abilities and genders. No experience necessary. \nOur sessions are designed to help prevent cardiovascular disease and to also help you get fit and active.
URL:https://allinclusivefc.org.uk/session/walking-football-at-the-towers/2028-08-21/
LOCATION:Buckden Towers\, High Street\, Buckden\, St Neots\, PE19 5TA\, United Kingdom
ATTACH;FMTTYPE=image/jpeg:https://allinclusivefc.org.uk/wp-content/uploads/2024/07/086664f1-3da2-49db-8c6d-cd67dc890252.jpg
ORGANIZER;CN="All Inclusive Football Coaching":MAILTO:hello@allinclusivefc.org.uk
END:VEVENT
BEGIN:VEVENT
DTSTART;TZID=UTC:20280828T120000
DTEND;TZID=UTC:20280828T130000
DTSTAMP:20260422T184918
CREATED:20240712T120800Z
LAST-MODIFIED:20241121T203156Z
UID:10000215-1851076800-1851080400@allinclusivefc.org.uk
SUMMARY:Walking Football at The Towers
DESCRIPTION:Walking football is a low intensity version of football for all abilities and genders. No experience necessary. \nOur sessions are designed to help prevent cardiovascular disease and to also help you get fit and active.
URL:https://allinclusivefc.org.uk/session/walking-football-at-the-towers/2028-08-28/
LOCATION:Buckden Towers\, High Street\, Buckden\, St Neots\, PE19 5TA\, United Kingdom
ATTACH;FMTTYPE=image/jpeg:https://allinclusivefc.org.uk/wp-content/uploads/2024/07/086664f1-3da2-49db-8c6d-cd67dc890252.jpg
ORGANIZER;CN="All Inclusive Football Coaching":MAILTO:hello@allinclusivefc.org.uk
END:VEVENT
BEGIN:VEVENT
DTSTART;TZID=UTC:20280904T120000
DTEND;TZID=UTC:20280904T130000
DTSTAMP:20260422T184918
CREATED:20240712T120800Z
LAST-MODIFIED:20241121T203156Z
UID:10000216-1851681600-1851685200@allinclusivefc.org.uk
SUMMARY:Walking Football at The Towers
DESCRIPTION:Walking football is a low intensity version of football for all abilities and genders. No experience necessary. \nOur sessions are designed to help prevent cardiovascular disease and to also help you get fit and active.
URL:https://allinclusivefc.org.uk/session/walking-football-at-the-towers/2028-09-04/
LOCATION:Buckden Towers\, High Street\, Buckden\, St Neots\, PE19 5TA\, United Kingdom
ATTACH;FMTTYPE=image/jpeg:https://allinclusivefc.org.uk/wp-content/uploads/2024/07/086664f1-3da2-49db-8c6d-cd67dc890252.jpg
ORGANIZER;CN="All Inclusive Football Coaching":MAILTO:hello@allinclusivefc.org.uk
END:VEVENT
BEGIN:VEVENT
DTSTART;TZID=UTC:20280911T120000
DTEND;TZID=UTC:20280911T130000
DTSTAMP:20260422T184918
CREATED:20240712T120800Z
LAST-MODIFIED:20241121T203156Z
UID:10000217-1852286400-1852290000@allinclusivefc.org.uk
SUMMARY:Walking Football at The Towers
DESCRIPTION:Walking football is a low intensity version of football for all abilities and genders. No experience necessary. \nOur sessions are designed to help prevent cardiovascular disease and to also help you get fit and active.
URL:https://allinclusivefc.org.uk/session/walking-football-at-the-towers/2028-09-11/
LOCATION:Buckden Towers\, High Street\, Buckden\, St Neots\, PE19 5TA\, United Kingdom
ATTACH;FMTTYPE=image/jpeg:https://allinclusivefc.org.uk/wp-content/uploads/2024/07/086664f1-3da2-49db-8c6d-cd67dc890252.jpg
ORGANIZER;CN="All Inclusive Football Coaching":MAILTO:hello@allinclusivefc.org.uk
END:VEVENT
BEGIN:VEVENT
DTSTART;TZID=UTC:20280918T120000
DTEND;TZID=UTC:20280918T130000
DTSTAMP:20260422T184918
CREATED:20240712T120800Z
LAST-MODIFIED:20241121T203156Z
UID:10000218-1852891200-1852894800@allinclusivefc.org.uk
SUMMARY:Walking Football at The Towers
DESCRIPTION:Walking football is a low intensity version of football for all abilities and genders. No experience necessary. \nOur sessions are designed to help prevent cardiovascular disease and to also help you get fit and active.
URL:https://allinclusivefc.org.uk/session/walking-football-at-the-towers/2028-09-18/
LOCATION:Buckden Towers\, High Street\, Buckden\, St Neots\, PE19 5TA\, United Kingdom
ATTACH;FMTTYPE=image/jpeg:https://allinclusivefc.org.uk/wp-content/uploads/2024/07/086664f1-3da2-49db-8c6d-cd67dc890252.jpg
ORGANIZER;CN="All Inclusive Football Coaching":MAILTO:hello@allinclusivefc.org.uk
END:VEVENT
BEGIN:VEVENT
DTSTART;TZID=UTC:20280925T120000
DTEND;TZID=UTC:20280925T130000
DTSTAMP:20260422T184918
CREATED:20240712T120800Z
LAST-MODIFIED:20241121T203156Z
UID:10000219-1853496000-1853499600@allinclusivefc.org.uk
SUMMARY:Walking Football at The Towers
DESCRIPTION:Walking football is a low intensity version of football for all abilities and genders. No experience necessary. \nOur sessions are designed to help prevent cardiovascular disease and to also help you get fit and active.
URL:https://allinclusivefc.org.uk/session/walking-football-at-the-towers/2028-09-25/
LOCATION:Buckden Towers\, High Street\, Buckden\, St Neots\, PE19 5TA\, United Kingdom
ATTACH;FMTTYPE=image/jpeg:https://allinclusivefc.org.uk/wp-content/uploads/2024/07/086664f1-3da2-49db-8c6d-cd67dc890252.jpg
ORGANIZER;CN="All Inclusive Football Coaching":MAILTO:hello@allinclusivefc.org.uk
END:VEVENT
BEGIN:VEVENT
DTSTART;TZID=UTC:20281002T120000
DTEND;TZID=UTC:20281002T130000
DTSTAMP:20260422T184918
CREATED:20240712T120800Z
LAST-MODIFIED:20241121T203156Z
UID:10000220-1854100800-1854104400@allinclusivefc.org.uk
SUMMARY:Walking Football at The Towers
DESCRIPTION:Walking football is a low intensity version of football for all abilities and genders. No experience necessary. \nOur sessions are designed to help prevent cardiovascular disease and to also help you get fit and active.
URL:https://allinclusivefc.org.uk/session/walking-football-at-the-towers/2028-10-02/
LOCATION:Buckden Towers\, High Street\, Buckden\, St Neots\, PE19 5TA\, United Kingdom
ATTACH;FMTTYPE=image/jpeg:https://allinclusivefc.org.uk/wp-content/uploads/2024/07/086664f1-3da2-49db-8c6d-cd67dc890252.jpg
ORGANIZER;CN="All Inclusive Football Coaching":MAILTO:hello@allinclusivefc.org.uk
END:VEVENT
BEGIN:VEVENT
DTSTART;TZID=UTC:20281009T120000
DTEND;TZID=UTC:20281009T130000
DTSTAMP:20260422T184918
CREATED:20240712T120800Z
LAST-MODIFIED:20241121T203156Z
UID:10000221-1854705600-1854709200@allinclusivefc.org.uk
SUMMARY:Walking Football at The Towers
DESCRIPTION:Walking football is a low intensity version of football for all abilities and genders. No experience necessary. \nOur sessions are designed to help prevent cardiovascular disease and to also help you get fit and active.
URL:https://allinclusivefc.org.uk/session/walking-football-at-the-towers/2028-10-09/
LOCATION:Buckden Towers\, High Street\, Buckden\, St Neots\, PE19 5TA\, United Kingdom
ATTACH;FMTTYPE=image/jpeg:https://allinclusivefc.org.uk/wp-content/uploads/2024/07/086664f1-3da2-49db-8c6d-cd67dc890252.jpg
ORGANIZER;CN="All Inclusive Football Coaching":MAILTO:hello@allinclusivefc.org.uk
END:VEVENT
BEGIN:VEVENT
DTSTART;TZID=UTC:20281016T120000
DTEND;TZID=UTC:20281016T130000
DTSTAMP:20260422T184918
CREATED:20240712T120800Z
LAST-MODIFIED:20241121T203156Z
UID:10000222-1855310400-1855314000@allinclusivefc.org.uk
SUMMARY:Walking Football at The Towers
DESCRIPTION:Walking football is a low intensity version of football for all abilities and genders. No experience necessary. \nOur sessions are designed to help prevent cardiovascular disease and to also help you get fit and active.
URL:https://allinclusivefc.org.uk/session/walking-football-at-the-towers/2028-10-16/
LOCATION:Buckden Towers\, High Street\, Buckden\, St Neots\, PE19 5TA\, United Kingdom
ATTACH;FMTTYPE=image/jpeg:https://allinclusivefc.org.uk/wp-content/uploads/2024/07/086664f1-3da2-49db-8c6d-cd67dc890252.jpg
ORGANIZER;CN="All Inclusive Football Coaching":MAILTO:hello@allinclusivefc.org.uk
END:VEVENT
BEGIN:VEVENT
DTSTART;TZID=UTC:20281023T120000
DTEND;TZID=UTC:20281023T130000
DTSTAMP:20260422T184918
CREATED:20240712T120800Z
LAST-MODIFIED:20241121T203156Z
UID:10000223-1855915200-1855918800@allinclusivefc.org.uk
SUMMARY:Walking Football at The Towers
DESCRIPTION:Walking football is a low intensity version of football for all abilities and genders. No experience necessary. \nOur sessions are designed to help prevent cardiovascular disease and to also help you get fit and active.
URL:https://allinclusivefc.org.uk/session/walking-football-at-the-towers/2028-10-23/
LOCATION:Buckden Towers\, High Street\, Buckden\, St Neots\, PE19 5TA\, United Kingdom
ATTACH;FMTTYPE=image/jpeg:https://allinclusivefc.org.uk/wp-content/uploads/2024/07/086664f1-3da2-49db-8c6d-cd67dc890252.jpg
ORGANIZER;CN="All Inclusive Football Coaching":MAILTO:hello@allinclusivefc.org.uk
END:VEVENT
BEGIN:VEVENT
DTSTART;TZID=UTC:20281030T120000
DTEND;TZID=UTC:20281030T130000
DTSTAMP:20260422T184918
CREATED:20240712T120800Z
LAST-MODIFIED:20241121T203156Z
UID:10000224-1856520000-1856523600@allinclusivefc.org.uk
SUMMARY:Walking Football at The Towers
DESCRIPTION:Walking football is a low intensity version of football for all abilities and genders. No experience necessary. \nOur sessions are designed to help prevent cardiovascular disease and to also help you get fit and active.
URL:https://allinclusivefc.org.uk/session/walking-football-at-the-towers/2028-10-30/
LOCATION:Buckden Towers\, High Street\, Buckden\, St Neots\, PE19 5TA\, United Kingdom
ATTACH;FMTTYPE=image/jpeg:https://allinclusivefc.org.uk/wp-content/uploads/2024/07/086664f1-3da2-49db-8c6d-cd67dc890252.jpg
ORGANIZER;CN="All Inclusive Football Coaching":MAILTO:hello@allinclusivefc.org.uk
END:VEVENT
BEGIN:VEVENT
DTSTART;TZID=UTC:20281106T120000
DTEND;TZID=UTC:20281106T130000
DTSTAMP:20260422T184918
CREATED:20240712T120800Z
LAST-MODIFIED:20241121T203156Z
UID:10000225-1857124800-1857128400@allinclusivefc.org.uk
SUMMARY:Walking Football at The Towers
DESCRIPTION:Walking football is a low intensity version of football for all abilities and genders. No experience necessary. \nOur sessions are designed to help prevent cardiovascular disease and to also help you get fit and active.
URL:https://allinclusivefc.org.uk/session/walking-football-at-the-towers/2028-11-06/
LOCATION:Buckden Towers\, High Street\, Buckden\, St Neots\, PE19 5TA\, United Kingdom
ATTACH;FMTTYPE=image/jpeg:https://allinclusivefc.org.uk/wp-content/uploads/2024/07/086664f1-3da2-49db-8c6d-cd67dc890252.jpg
ORGANIZER;CN="All Inclusive Football Coaching":MAILTO:hello@allinclusivefc.org.uk
END:VEVENT
BEGIN:VEVENT
DTSTART;TZID=UTC:20281113T120000
DTEND;TZID=UTC:20281113T130000
DTSTAMP:20260422T184918
CREATED:20240712T120800Z
LAST-MODIFIED:20241121T203156Z
UID:10000226-1857729600-1857733200@allinclusivefc.org.uk
SUMMARY:Walking Football at The Towers
DESCRIPTION:Walking football is a low intensity version of football for all abilities and genders. No experience necessary. \nOur sessions are designed to help prevent cardiovascular disease and to also help you get fit and active.
URL:https://allinclusivefc.org.uk/session/walking-football-at-the-towers/2028-11-13/
LOCATION:Buckden Towers\, High Street\, Buckden\, St Neots\, PE19 5TA\, United Kingdom
ATTACH;FMTTYPE=image/jpeg:https://allinclusivefc.org.uk/wp-content/uploads/2024/07/086664f1-3da2-49db-8c6d-cd67dc890252.jpg
ORGANIZER;CN="All Inclusive Football Coaching":MAILTO:hello@allinclusivefc.org.uk
END:VEVENT
BEGIN:VEVENT
DTSTART;TZID=UTC:20281120T120000
DTEND;TZID=UTC:20281120T130000
DTSTAMP:20260422T184918
CREATED:20240712T120800Z
LAST-MODIFIED:20241121T203156Z
UID:10000227-1858334400-1858338000@allinclusivefc.org.uk
SUMMARY:Walking Football at The Towers
DESCRIPTION:Walking football is a low intensity version of football for all abilities and genders. No experience necessary. \nOur sessions are designed to help prevent cardiovascular disease and to also help you get fit and active.
URL:https://allinclusivefc.org.uk/session/walking-football-at-the-towers/2028-11-20/
LOCATION:Buckden Towers\, High Street\, Buckden\, St Neots\, PE19 5TA\, United Kingdom
ATTACH;FMTTYPE=image/jpeg:https://allinclusivefc.org.uk/wp-content/uploads/2024/07/086664f1-3da2-49db-8c6d-cd67dc890252.jpg
ORGANIZER;CN="All Inclusive Football Coaching":MAILTO:hello@allinclusivefc.org.uk
END:VEVENT
END:VCALENDAR