BEGIN:VCALENDAR
VERSION:2.0
PRODID:-//All Inclusive FC - ECPv6.7.0//NONSGML v1.0//EN
CALSCALE:GREGORIAN
METHOD:PUBLISH
X-ORIGINAL-URL:https://allinclusivefc.org.uk
X-WR-CALDESC:Events for All Inclusive FC
REFRESH-INTERVAL;VALUE=DURATION:PT1H
X-Robots-Tag:noindex
X-PUBLISHED-TTL:PT1H
BEGIN:VTIMEZONE
TZID:UTC
BEGIN:STANDARD
TZOFFSETFROM:+0000
TZOFFSETTO:+0000
TZNAME:UTC
DTSTART:20260101T000000
END:STANDARD
END:VTIMEZONE
BEGIN:VEVENT
DTSTART;TZID=UTC:20260427T160000
DTEND;TZID=UTC:20260427T170000
DTSTAMP:20260421T150227
CREATED:20250622T152557Z
LAST-MODIFIED:20250622T153851Z
UID:10003314-1777305600-1777309200@allinclusivefc.org.uk
SUMMARY:SEND Inclusion Sessions - Huntingdon
DESCRIPTION:In partnership with the Huntingdon Freemens Trust\, these fun and inclusive sessions are open to any age group – no experience necessary. We aim to teach new skills\, improve fitness and mental wellbeing and help build new friendships. \nThese sessions are free of charge and take place at One Leisure in Huntingdon.
URL:https://allinclusivefc.org.uk/session/hunts-open-send-sessions/2026-04-27/
LOCATION:One Leisure\, Huntingdon\, St Peters Road\, Huntingdon\, United Kingdom
ATTACH;FMTTYPE=image/jpeg:https://allinclusivefc.org.uk/wp-content/uploads/2025/06/D8F0C39A-CAB2-4F23-990C-490512A85828.jpg
END:VEVENT
BEGIN:VEVENT
DTSTART;TZID=UTC:20260504T160000
DTEND;TZID=UTC:20260504T170000
DTSTAMP:20260421T150227
CREATED:20250622T152557Z
LAST-MODIFIED:20250622T153851Z
UID:10003315-1777910400-1777914000@allinclusivefc.org.uk
SUMMARY:SEND Inclusion Sessions - Huntingdon
DESCRIPTION:In partnership with the Huntingdon Freemens Trust\, these fun and inclusive sessions are open to any age group – no experience necessary. We aim to teach new skills\, improve fitness and mental wellbeing and help build new friendships. \nThese sessions are free of charge and take place at One Leisure in Huntingdon.
URL:https://allinclusivefc.org.uk/session/hunts-open-send-sessions/2026-05-04/
LOCATION:One Leisure\, Huntingdon\, St Peters Road\, Huntingdon\, United Kingdom
ATTACH;FMTTYPE=image/jpeg:https://allinclusivefc.org.uk/wp-content/uploads/2025/06/D8F0C39A-CAB2-4F23-990C-490512A85828.jpg
END:VEVENT
BEGIN:VEVENT
DTSTART;TZID=UTC:20260511T160000
DTEND;TZID=UTC:20260511T170000
DTSTAMP:20260421T150227
CREATED:20250622T152557Z
LAST-MODIFIED:20250622T153851Z
UID:10003316-1778515200-1778518800@allinclusivefc.org.uk
SUMMARY:SEND Inclusion Sessions - Huntingdon
DESCRIPTION:In partnership with the Huntingdon Freemens Trust\, these fun and inclusive sessions are open to any age group – no experience necessary. We aim to teach new skills\, improve fitness and mental wellbeing and help build new friendships. \nThese sessions are free of charge and take place at One Leisure in Huntingdon.
URL:https://allinclusivefc.org.uk/session/hunts-open-send-sessions/2026-05-11/
LOCATION:One Leisure\, Huntingdon\, St Peters Road\, Huntingdon\, United Kingdom
ATTACH;FMTTYPE=image/jpeg:https://allinclusivefc.org.uk/wp-content/uploads/2025/06/D8F0C39A-CAB2-4F23-990C-490512A85828.jpg
END:VEVENT
BEGIN:VEVENT
DTSTART;TZID=UTC:20260518T160000
DTEND;TZID=UTC:20260518T170000
DTSTAMP:20260421T150227
CREATED:20250622T152557Z
LAST-MODIFIED:20250622T153851Z
UID:10003317-1779120000-1779123600@allinclusivefc.org.uk
SUMMARY:SEND Inclusion Sessions - Huntingdon
DESCRIPTION:In partnership with the Huntingdon Freemens Trust\, these fun and inclusive sessions are open to any age group – no experience necessary. We aim to teach new skills\, improve fitness and mental wellbeing and help build new friendships. \nThese sessions are free of charge and take place at One Leisure in Huntingdon.
URL:https://allinclusivefc.org.uk/session/hunts-open-send-sessions/2026-05-18/
LOCATION:One Leisure\, Huntingdon\, St Peters Road\, Huntingdon\, United Kingdom
ATTACH;FMTTYPE=image/jpeg:https://allinclusivefc.org.uk/wp-content/uploads/2025/06/D8F0C39A-CAB2-4F23-990C-490512A85828.jpg
END:VEVENT
BEGIN:VEVENT
DTSTART;TZID=UTC:20260525T160000
DTEND;TZID=UTC:20260525T170000
DTSTAMP:20260421T150227
CREATED:20250622T152557Z
LAST-MODIFIED:20250622T153851Z
UID:10003318-1779724800-1779728400@allinclusivefc.org.uk
SUMMARY:SEND Inclusion Sessions - Huntingdon
DESCRIPTION:In partnership with the Huntingdon Freemens Trust\, these fun and inclusive sessions are open to any age group – no experience necessary. We aim to teach new skills\, improve fitness and mental wellbeing and help build new friendships. \nThese sessions are free of charge and take place at One Leisure in Huntingdon.
URL:https://allinclusivefc.org.uk/session/hunts-open-send-sessions/2026-05-25/
LOCATION:One Leisure\, Huntingdon\, St Peters Road\, Huntingdon\, United Kingdom
ATTACH;FMTTYPE=image/jpeg:https://allinclusivefc.org.uk/wp-content/uploads/2025/06/D8F0C39A-CAB2-4F23-990C-490512A85828.jpg
END:VEVENT
BEGIN:VEVENT
DTSTART;TZID=UTC:20260601T160000
DTEND;TZID=UTC:20260601T170000
DTSTAMP:20260421T150227
CREATED:20250622T152557Z
LAST-MODIFIED:20250622T153851Z
UID:10003319-1780329600-1780333200@allinclusivefc.org.uk
SUMMARY:SEND Inclusion Sessions - Huntingdon
DESCRIPTION:In partnership with the Huntingdon Freemens Trust\, these fun and inclusive sessions are open to any age group – no experience necessary. We aim to teach new skills\, improve fitness and mental wellbeing and help build new friendships. \nThese sessions are free of charge and take place at One Leisure in Huntingdon.
URL:https://allinclusivefc.org.uk/session/hunts-open-send-sessions/2026-06-01/
LOCATION:One Leisure\, Huntingdon\, St Peters Road\, Huntingdon\, United Kingdom
ATTACH;FMTTYPE=image/jpeg:https://allinclusivefc.org.uk/wp-content/uploads/2025/06/D8F0C39A-CAB2-4F23-990C-490512A85828.jpg
END:VEVENT
BEGIN:VEVENT
DTSTART;TZID=UTC:20260608T160000
DTEND;TZID=UTC:20260608T170000
DTSTAMP:20260421T150227
CREATED:20250622T152557Z
LAST-MODIFIED:20250622T153851Z
UID:10003320-1780934400-1780938000@allinclusivefc.org.uk
SUMMARY:SEND Inclusion Sessions - Huntingdon
DESCRIPTION:In partnership with the Huntingdon Freemens Trust\, these fun and inclusive sessions are open to any age group – no experience necessary. We aim to teach new skills\, improve fitness and mental wellbeing and help build new friendships. \nThese sessions are free of charge and take place at One Leisure in Huntingdon.
URL:https://allinclusivefc.org.uk/session/hunts-open-send-sessions/2026-06-08/
LOCATION:One Leisure\, Huntingdon\, St Peters Road\, Huntingdon\, United Kingdom
ATTACH;FMTTYPE=image/jpeg:https://allinclusivefc.org.uk/wp-content/uploads/2025/06/D8F0C39A-CAB2-4F23-990C-490512A85828.jpg
END:VEVENT
BEGIN:VEVENT
DTSTART;TZID=UTC:20260615T160000
DTEND;TZID=UTC:20260615T170000
DTSTAMP:20260421T150227
CREATED:20250622T152557Z
LAST-MODIFIED:20250622T153851Z
UID:10003321-1781539200-1781542800@allinclusivefc.org.uk
SUMMARY:SEND Inclusion Sessions - Huntingdon
DESCRIPTION:In partnership with the Huntingdon Freemens Trust\, these fun and inclusive sessions are open to any age group – no experience necessary. We aim to teach new skills\, improve fitness and mental wellbeing and help build new friendships. \nThese sessions are free of charge and take place at One Leisure in Huntingdon.
URL:https://allinclusivefc.org.uk/session/hunts-open-send-sessions/2026-06-15/
LOCATION:One Leisure\, Huntingdon\, St Peters Road\, Huntingdon\, United Kingdom
ATTACH;FMTTYPE=image/jpeg:https://allinclusivefc.org.uk/wp-content/uploads/2025/06/D8F0C39A-CAB2-4F23-990C-490512A85828.jpg
END:VEVENT
BEGIN:VEVENT
DTSTART;TZID=UTC:20260622T160000
DTEND;TZID=UTC:20260622T170000
DTSTAMP:20260421T150227
CREATED:20250622T152557Z
LAST-MODIFIED:20250622T153851Z
UID:10003322-1782144000-1782147600@allinclusivefc.org.uk
SUMMARY:SEND Inclusion Sessions - Huntingdon
DESCRIPTION:In partnership with the Huntingdon Freemens Trust\, these fun and inclusive sessions are open to any age group – no experience necessary. We aim to teach new skills\, improve fitness and mental wellbeing and help build new friendships. \nThese sessions are free of charge and take place at One Leisure in Huntingdon.
URL:https://allinclusivefc.org.uk/session/hunts-open-send-sessions/2026-06-22/
LOCATION:One Leisure\, Huntingdon\, St Peters Road\, Huntingdon\, United Kingdom
ATTACH;FMTTYPE=image/jpeg:https://allinclusivefc.org.uk/wp-content/uploads/2025/06/D8F0C39A-CAB2-4F23-990C-490512A85828.jpg
END:VEVENT
BEGIN:VEVENT
DTSTART;TZID=UTC:20260629T160000
DTEND;TZID=UTC:20260629T170000
DTSTAMP:20260421T150227
CREATED:20250622T152557Z
LAST-MODIFIED:20250622T153851Z
UID:10003323-1782748800-1782752400@allinclusivefc.org.uk
SUMMARY:SEND Inclusion Sessions - Huntingdon
DESCRIPTION:In partnership with the Huntingdon Freemens Trust\, these fun and inclusive sessions are open to any age group – no experience necessary. We aim to teach new skills\, improve fitness and mental wellbeing and help build new friendships. \nThese sessions are free of charge and take place at One Leisure in Huntingdon.
URL:https://allinclusivefc.org.uk/session/hunts-open-send-sessions/2026-06-29/
LOCATION:One Leisure\, Huntingdon\, St Peters Road\, Huntingdon\, United Kingdom
ATTACH;FMTTYPE=image/jpeg:https://allinclusivefc.org.uk/wp-content/uploads/2025/06/D8F0C39A-CAB2-4F23-990C-490512A85828.jpg
END:VEVENT
BEGIN:VEVENT
DTSTART;TZID=UTC:20260706T160000
DTEND;TZID=UTC:20260706T170000
DTSTAMP:20260421T150227
CREATED:20250622T152557Z
LAST-MODIFIED:20250622T153851Z
UID:10003324-1783353600-1783357200@allinclusivefc.org.uk
SUMMARY:SEND Inclusion Sessions - Huntingdon
DESCRIPTION:In partnership with the Huntingdon Freemens Trust\, these fun and inclusive sessions are open to any age group – no experience necessary. We aim to teach new skills\, improve fitness and mental wellbeing and help build new friendships. \nThese sessions are free of charge and take place at One Leisure in Huntingdon.
URL:https://allinclusivefc.org.uk/session/hunts-open-send-sessions/2026-07-06/
LOCATION:One Leisure\, Huntingdon\, St Peters Road\, Huntingdon\, United Kingdom
ATTACH;FMTTYPE=image/jpeg:https://allinclusivefc.org.uk/wp-content/uploads/2025/06/D8F0C39A-CAB2-4F23-990C-490512A85828.jpg
END:VEVENT
BEGIN:VEVENT
DTSTART;TZID=UTC:20260713T160000
DTEND;TZID=UTC:20260713T170000
DTSTAMP:20260421T150227
CREATED:20250622T152557Z
LAST-MODIFIED:20250622T153851Z
UID:10003325-1783958400-1783962000@allinclusivefc.org.uk
SUMMARY:SEND Inclusion Sessions - Huntingdon
DESCRIPTION:In partnership with the Huntingdon Freemens Trust\, these fun and inclusive sessions are open to any age group – no experience necessary. We aim to teach new skills\, improve fitness and mental wellbeing and help build new friendships. \nThese sessions are free of charge and take place at One Leisure in Huntingdon.
URL:https://allinclusivefc.org.uk/session/hunts-open-send-sessions/2026-07-13/
LOCATION:One Leisure\, Huntingdon\, St Peters Road\, Huntingdon\, United Kingdom
ATTACH;FMTTYPE=image/jpeg:https://allinclusivefc.org.uk/wp-content/uploads/2025/06/D8F0C39A-CAB2-4F23-990C-490512A85828.jpg
END:VEVENT
BEGIN:VEVENT
DTSTART;TZID=UTC:20260720T160000
DTEND;TZID=UTC:20260720T170000
DTSTAMP:20260421T150227
CREATED:20250622T152557Z
LAST-MODIFIED:20250622T153851Z
UID:10003326-1784563200-1784566800@allinclusivefc.org.uk
SUMMARY:SEND Inclusion Sessions - Huntingdon
DESCRIPTION:In partnership with the Huntingdon Freemens Trust\, these fun and inclusive sessions are open to any age group – no experience necessary. We aim to teach new skills\, improve fitness and mental wellbeing and help build new friendships. \nThese sessions are free of charge and take place at One Leisure in Huntingdon.
URL:https://allinclusivefc.org.uk/session/hunts-open-send-sessions/2026-07-20/
LOCATION:One Leisure\, Huntingdon\, St Peters Road\, Huntingdon\, United Kingdom
ATTACH;FMTTYPE=image/jpeg:https://allinclusivefc.org.uk/wp-content/uploads/2025/06/D8F0C39A-CAB2-4F23-990C-490512A85828.jpg
END:VEVENT
BEGIN:VEVENT
DTSTART;TZID=UTC:20260727T160000
DTEND;TZID=UTC:20260727T170000
DTSTAMP:20260421T150227
CREATED:20250622T152557Z
LAST-MODIFIED:20250622T153851Z
UID:10003327-1785168000-1785171600@allinclusivefc.org.uk
SUMMARY:SEND Inclusion Sessions - Huntingdon
DESCRIPTION:In partnership with the Huntingdon Freemens Trust\, these fun and inclusive sessions are open to any age group – no experience necessary. We aim to teach new skills\, improve fitness and mental wellbeing and help build new friendships. \nThese sessions are free of charge and take place at One Leisure in Huntingdon.
URL:https://allinclusivefc.org.uk/session/hunts-open-send-sessions/2026-07-27/
LOCATION:One Leisure\, Huntingdon\, St Peters Road\, Huntingdon\, United Kingdom
ATTACH;FMTTYPE=image/jpeg:https://allinclusivefc.org.uk/wp-content/uploads/2025/06/D8F0C39A-CAB2-4F23-990C-490512A85828.jpg
END:VEVENT
BEGIN:VEVENT
DTSTART;TZID=UTC:20260803T160000
DTEND;TZID=UTC:20260803T170000
DTSTAMP:20260421T150227
CREATED:20250622T152557Z
LAST-MODIFIED:20250622T153851Z
UID:10003328-1785772800-1785776400@allinclusivefc.org.uk
SUMMARY:SEND Inclusion Sessions - Huntingdon
DESCRIPTION:In partnership with the Huntingdon Freemens Trust\, these fun and inclusive sessions are open to any age group – no experience necessary. We aim to teach new skills\, improve fitness and mental wellbeing and help build new friendships. \nThese sessions are free of charge and take place at One Leisure in Huntingdon.
URL:https://allinclusivefc.org.uk/session/hunts-open-send-sessions/2026-08-03/
LOCATION:One Leisure\, Huntingdon\, St Peters Road\, Huntingdon\, United Kingdom
ATTACH;FMTTYPE=image/jpeg:https://allinclusivefc.org.uk/wp-content/uploads/2025/06/D8F0C39A-CAB2-4F23-990C-490512A85828.jpg
END:VEVENT
BEGIN:VEVENT
DTSTART;TZID=UTC:20260810T160000
DTEND;TZID=UTC:20260810T170000
DTSTAMP:20260421T150227
CREATED:20250622T152557Z
LAST-MODIFIED:20250622T153851Z
UID:10003329-1786377600-1786381200@allinclusivefc.org.uk
SUMMARY:SEND Inclusion Sessions - Huntingdon
DESCRIPTION:In partnership with the Huntingdon Freemens Trust\, these fun and inclusive sessions are open to any age group – no experience necessary. We aim to teach new skills\, improve fitness and mental wellbeing and help build new friendships. \nThese sessions are free of charge and take place at One Leisure in Huntingdon.
URL:https://allinclusivefc.org.uk/session/hunts-open-send-sessions/2026-08-10/
LOCATION:One Leisure\, Huntingdon\, St Peters Road\, Huntingdon\, United Kingdom
ATTACH;FMTTYPE=image/jpeg:https://allinclusivefc.org.uk/wp-content/uploads/2025/06/D8F0C39A-CAB2-4F23-990C-490512A85828.jpg
END:VEVENT
BEGIN:VEVENT
DTSTART;TZID=UTC:20260817T160000
DTEND;TZID=UTC:20260817T170000
DTSTAMP:20260421T150227
CREATED:20250622T152557Z
LAST-MODIFIED:20250622T153851Z
UID:10003330-1786982400-1786986000@allinclusivefc.org.uk
SUMMARY:SEND Inclusion Sessions - Huntingdon
DESCRIPTION:In partnership with the Huntingdon Freemens Trust\, these fun and inclusive sessions are open to any age group – no experience necessary. We aim to teach new skills\, improve fitness and mental wellbeing and help build new friendships. \nThese sessions are free of charge and take place at One Leisure in Huntingdon.
URL:https://allinclusivefc.org.uk/session/hunts-open-send-sessions/2026-08-17/
LOCATION:One Leisure\, Huntingdon\, St Peters Road\, Huntingdon\, United Kingdom
ATTACH;FMTTYPE=image/jpeg:https://allinclusivefc.org.uk/wp-content/uploads/2025/06/D8F0C39A-CAB2-4F23-990C-490512A85828.jpg
END:VEVENT
BEGIN:VEVENT
DTSTART;TZID=UTC:20260824T160000
DTEND;TZID=UTC:20260824T170000
DTSTAMP:20260421T150227
CREATED:20250622T152557Z
LAST-MODIFIED:20250622T153851Z
UID:10003331-1787587200-1787590800@allinclusivefc.org.uk
SUMMARY:SEND Inclusion Sessions - Huntingdon
DESCRIPTION:In partnership with the Huntingdon Freemens Trust\, these fun and inclusive sessions are open to any age group – no experience necessary. We aim to teach new skills\, improve fitness and mental wellbeing and help build new friendships. \nThese sessions are free of charge and take place at One Leisure in Huntingdon.
URL:https://allinclusivefc.org.uk/session/hunts-open-send-sessions/2026-08-24/
LOCATION:One Leisure\, Huntingdon\, St Peters Road\, Huntingdon\, United Kingdom
ATTACH;FMTTYPE=image/jpeg:https://allinclusivefc.org.uk/wp-content/uploads/2025/06/D8F0C39A-CAB2-4F23-990C-490512A85828.jpg
END:VEVENT
BEGIN:VEVENT
DTSTART;TZID=UTC:20260831T160000
DTEND;TZID=UTC:20260831T170000
DTSTAMP:20260421T150227
CREATED:20250622T152557Z
LAST-MODIFIED:20250622T153851Z
UID:10003332-1788192000-1788195600@allinclusivefc.org.uk
SUMMARY:SEND Inclusion Sessions - Huntingdon
DESCRIPTION:In partnership with the Huntingdon Freemens Trust\, these fun and inclusive sessions are open to any age group – no experience necessary. We aim to teach new skills\, improve fitness and mental wellbeing and help build new friendships. \nThese sessions are free of charge and take place at One Leisure in Huntingdon.
URL:https://allinclusivefc.org.uk/session/hunts-open-send-sessions/2026-08-31/
LOCATION:One Leisure\, Huntingdon\, St Peters Road\, Huntingdon\, United Kingdom
ATTACH;FMTTYPE=image/jpeg:https://allinclusivefc.org.uk/wp-content/uploads/2025/06/D8F0C39A-CAB2-4F23-990C-490512A85828.jpg
END:VEVENT
BEGIN:VEVENT
DTSTART;TZID=UTC:20260907T160000
DTEND;TZID=UTC:20260907T170000
DTSTAMP:20260421T150227
CREATED:20250622T152557Z
LAST-MODIFIED:20250622T153851Z
UID:10003333-1788796800-1788800400@allinclusivefc.org.uk
SUMMARY:SEND Inclusion Sessions - Huntingdon
DESCRIPTION:In partnership with the Huntingdon Freemens Trust\, these fun and inclusive sessions are open to any age group – no experience necessary. We aim to teach new skills\, improve fitness and mental wellbeing and help build new friendships. \nThese sessions are free of charge and take place at One Leisure in Huntingdon.
URL:https://allinclusivefc.org.uk/session/hunts-open-send-sessions/2026-09-07/
LOCATION:One Leisure\, Huntingdon\, St Peters Road\, Huntingdon\, United Kingdom
ATTACH;FMTTYPE=image/jpeg:https://allinclusivefc.org.uk/wp-content/uploads/2025/06/D8F0C39A-CAB2-4F23-990C-490512A85828.jpg
END:VEVENT
BEGIN:VEVENT
DTSTART;TZID=UTC:20260914T160000
DTEND;TZID=UTC:20260914T170000
DTSTAMP:20260421T150227
CREATED:20250622T152557Z
LAST-MODIFIED:20250622T153851Z
UID:10003334-1789401600-1789405200@allinclusivefc.org.uk
SUMMARY:SEND Inclusion Sessions - Huntingdon
DESCRIPTION:In partnership with the Huntingdon Freemens Trust\, these fun and inclusive sessions are open to any age group – no experience necessary. We aim to teach new skills\, improve fitness and mental wellbeing and help build new friendships. \nThese sessions are free of charge and take place at One Leisure in Huntingdon.
URL:https://allinclusivefc.org.uk/session/hunts-open-send-sessions/2026-09-14/
LOCATION:One Leisure\, Huntingdon\, St Peters Road\, Huntingdon\, United Kingdom
ATTACH;FMTTYPE=image/jpeg:https://allinclusivefc.org.uk/wp-content/uploads/2025/06/D8F0C39A-CAB2-4F23-990C-490512A85828.jpg
END:VEVENT
BEGIN:VEVENT
DTSTART;TZID=UTC:20260921T160000
DTEND;TZID=UTC:20260921T170000
DTSTAMP:20260421T150227
CREATED:20250622T152557Z
LAST-MODIFIED:20250622T153851Z
UID:10003335-1790006400-1790010000@allinclusivefc.org.uk
SUMMARY:SEND Inclusion Sessions - Huntingdon
DESCRIPTION:In partnership with the Huntingdon Freemens Trust\, these fun and inclusive sessions are open to any age group – no experience necessary. We aim to teach new skills\, improve fitness and mental wellbeing and help build new friendships. \nThese sessions are free of charge and take place at One Leisure in Huntingdon.
URL:https://allinclusivefc.org.uk/session/hunts-open-send-sessions/2026-09-21/
LOCATION:One Leisure\, Huntingdon\, St Peters Road\, Huntingdon\, United Kingdom
ATTACH;FMTTYPE=image/jpeg:https://allinclusivefc.org.uk/wp-content/uploads/2025/06/D8F0C39A-CAB2-4F23-990C-490512A85828.jpg
END:VEVENT
BEGIN:VEVENT
DTSTART;TZID=UTC:20260928T160000
DTEND;TZID=UTC:20260928T170000
DTSTAMP:20260421T150227
CREATED:20250622T152557Z
LAST-MODIFIED:20250622T153851Z
UID:10003336-1790611200-1790614800@allinclusivefc.org.uk
SUMMARY:SEND Inclusion Sessions - Huntingdon
DESCRIPTION:In partnership with the Huntingdon Freemens Trust\, these fun and inclusive sessions are open to any age group – no experience necessary. We aim to teach new skills\, improve fitness and mental wellbeing and help build new friendships. \nThese sessions are free of charge and take place at One Leisure in Huntingdon.
URL:https://allinclusivefc.org.uk/session/hunts-open-send-sessions/2026-09-28/
LOCATION:One Leisure\, Huntingdon\, St Peters Road\, Huntingdon\, United Kingdom
ATTACH;FMTTYPE=image/jpeg:https://allinclusivefc.org.uk/wp-content/uploads/2025/06/D8F0C39A-CAB2-4F23-990C-490512A85828.jpg
END:VEVENT
BEGIN:VEVENT
DTSTART;TZID=UTC:20261005T160000
DTEND;TZID=UTC:20261005T170000
DTSTAMP:20260421T150227
CREATED:20250622T152557Z
LAST-MODIFIED:20250622T153851Z
UID:10003337-1791216000-1791219600@allinclusivefc.org.uk
SUMMARY:SEND Inclusion Sessions - Huntingdon
DESCRIPTION:In partnership with the Huntingdon Freemens Trust\, these fun and inclusive sessions are open to any age group – no experience necessary. We aim to teach new skills\, improve fitness and mental wellbeing and help build new friendships. \nThese sessions are free of charge and take place at One Leisure in Huntingdon.
URL:https://allinclusivefc.org.uk/session/hunts-open-send-sessions/2026-10-05/
LOCATION:One Leisure\, Huntingdon\, St Peters Road\, Huntingdon\, United Kingdom
ATTACH;FMTTYPE=image/jpeg:https://allinclusivefc.org.uk/wp-content/uploads/2025/06/D8F0C39A-CAB2-4F23-990C-490512A85828.jpg
END:VEVENT
BEGIN:VEVENT
DTSTART;TZID=UTC:20261012T160000
DTEND;TZID=UTC:20261012T170000
DTSTAMP:20260421T150227
CREATED:20250622T152557Z
LAST-MODIFIED:20250622T153851Z
UID:10003338-1791820800-1791824400@allinclusivefc.org.uk
SUMMARY:SEND Inclusion Sessions - Huntingdon
DESCRIPTION:In partnership with the Huntingdon Freemens Trust\, these fun and inclusive sessions are open to any age group – no experience necessary. We aim to teach new skills\, improve fitness and mental wellbeing and help build new friendships. \nThese sessions are free of charge and take place at One Leisure in Huntingdon.
URL:https://allinclusivefc.org.uk/session/hunts-open-send-sessions/2026-10-12/
LOCATION:One Leisure\, Huntingdon\, St Peters Road\, Huntingdon\, United Kingdom
ATTACH;FMTTYPE=image/jpeg:https://allinclusivefc.org.uk/wp-content/uploads/2025/06/D8F0C39A-CAB2-4F23-990C-490512A85828.jpg
END:VEVENT
BEGIN:VEVENT
DTSTART;TZID=UTC:20261019T160000
DTEND;TZID=UTC:20261019T170000
DTSTAMP:20260421T150227
CREATED:20250622T152557Z
LAST-MODIFIED:20250622T153851Z
UID:10003339-1792425600-1792429200@allinclusivefc.org.uk
SUMMARY:SEND Inclusion Sessions - Huntingdon
DESCRIPTION:In partnership with the Huntingdon Freemens Trust\, these fun and inclusive sessions are open to any age group – no experience necessary. We aim to teach new skills\, improve fitness and mental wellbeing and help build new friendships. \nThese sessions are free of charge and take place at One Leisure in Huntingdon.
URL:https://allinclusivefc.org.uk/session/hunts-open-send-sessions/2026-10-19/
LOCATION:One Leisure\, Huntingdon\, St Peters Road\, Huntingdon\, United Kingdom
ATTACH;FMTTYPE=image/jpeg:https://allinclusivefc.org.uk/wp-content/uploads/2025/06/D8F0C39A-CAB2-4F23-990C-490512A85828.jpg
END:VEVENT
BEGIN:VEVENT
DTSTART;TZID=UTC:20261026T160000
DTEND;TZID=UTC:20261026T170000
DTSTAMP:20260421T150227
CREATED:20250622T152557Z
LAST-MODIFIED:20250622T153851Z
UID:10003340-1793030400-1793034000@allinclusivefc.org.uk
SUMMARY:SEND Inclusion Sessions - Huntingdon
DESCRIPTION:In partnership with the Huntingdon Freemens Trust\, these fun and inclusive sessions are open to any age group – no experience necessary. We aim to teach new skills\, improve fitness and mental wellbeing and help build new friendships. \nThese sessions are free of charge and take place at One Leisure in Huntingdon.
URL:https://allinclusivefc.org.uk/session/hunts-open-send-sessions/2026-10-26/
LOCATION:One Leisure\, Huntingdon\, St Peters Road\, Huntingdon\, United Kingdom
ATTACH;FMTTYPE=image/jpeg:https://allinclusivefc.org.uk/wp-content/uploads/2025/06/D8F0C39A-CAB2-4F23-990C-490512A85828.jpg
END:VEVENT
BEGIN:VEVENT
DTSTART;TZID=UTC:20261102T160000
DTEND;TZID=UTC:20261102T170000
DTSTAMP:20260421T150227
CREATED:20250622T152557Z
LAST-MODIFIED:20250622T153851Z
UID:10003341-1793635200-1793638800@allinclusivefc.org.uk
SUMMARY:SEND Inclusion Sessions - Huntingdon
DESCRIPTION:In partnership with the Huntingdon Freemens Trust\, these fun and inclusive sessions are open to any age group – no experience necessary. We aim to teach new skills\, improve fitness and mental wellbeing and help build new friendships. \nThese sessions are free of charge and take place at One Leisure in Huntingdon.
URL:https://allinclusivefc.org.uk/session/hunts-open-send-sessions/2026-11-02/
LOCATION:One Leisure\, Huntingdon\, St Peters Road\, Huntingdon\, United Kingdom
ATTACH;FMTTYPE=image/jpeg:https://allinclusivefc.org.uk/wp-content/uploads/2025/06/D8F0C39A-CAB2-4F23-990C-490512A85828.jpg
END:VEVENT
BEGIN:VEVENT
DTSTART;TZID=UTC:20261109T160000
DTEND;TZID=UTC:20261109T170000
DTSTAMP:20260421T150227
CREATED:20250622T152557Z
LAST-MODIFIED:20250622T153851Z
UID:10003342-1794240000-1794243600@allinclusivefc.org.uk
SUMMARY:SEND Inclusion Sessions - Huntingdon
DESCRIPTION:In partnership with the Huntingdon Freemens Trust\, these fun and inclusive sessions are open to any age group – no experience necessary. We aim to teach new skills\, improve fitness and mental wellbeing and help build new friendships. \nThese sessions are free of charge and take place at One Leisure in Huntingdon.
URL:https://allinclusivefc.org.uk/session/hunts-open-send-sessions/2026-11-09/
LOCATION:One Leisure\, Huntingdon\, St Peters Road\, Huntingdon\, United Kingdom
ATTACH;FMTTYPE=image/jpeg:https://allinclusivefc.org.uk/wp-content/uploads/2025/06/D8F0C39A-CAB2-4F23-990C-490512A85828.jpg
END:VEVENT
BEGIN:VEVENT
DTSTART;TZID=UTC:20261116T160000
DTEND;TZID=UTC:20261116T170000
DTSTAMP:20260421T150227
CREATED:20250622T152557Z
LAST-MODIFIED:20250622T153851Z
UID:10003343-1794844800-1794848400@allinclusivefc.org.uk
SUMMARY:SEND Inclusion Sessions - Huntingdon
DESCRIPTION:In partnership with the Huntingdon Freemens Trust\, these fun and inclusive sessions are open to any age group – no experience necessary. We aim to teach new skills\, improve fitness and mental wellbeing and help build new friendships. \nThese sessions are free of charge and take place at One Leisure in Huntingdon.
URL:https://allinclusivefc.org.uk/session/hunts-open-send-sessions/2026-11-16/
LOCATION:One Leisure\, Huntingdon\, St Peters Road\, Huntingdon\, United Kingdom
ATTACH;FMTTYPE=image/jpeg:https://allinclusivefc.org.uk/wp-content/uploads/2025/06/D8F0C39A-CAB2-4F23-990C-490512A85828.jpg
END:VEVENT
END:VCALENDAR