BEGIN:VCALENDAR
VERSION:2.0
PRODID:-//All Inclusive FC - ECPv6.7.0//NONSGML v1.0//EN
CALSCALE:GREGORIAN
METHOD:PUBLISH
X-ORIGINAL-URL:https://allinclusivefc.org.uk
X-WR-CALDESC:Events for All Inclusive FC
REFRESH-INTERVAL;VALUE=DURATION:PT1H
X-Robots-Tag:noindex
X-PUBLISHED-TTL:PT1H
BEGIN:VTIMEZONE
TZID:UTC
BEGIN:STANDARD
TZOFFSETFROM:+0000
TZOFFSETTO:+0000
TZNAME:UTC
DTSTART:20270101T000000
END:STANDARD
END:VTIMEZONE
BEGIN:VEVENT
DTSTART;TZID=UTC:20270419T160000
DTEND;TZID=UTC:20270419T170000
DTSTAMP:20260421T235427
CREATED:20250622T152557Z
LAST-MODIFIED:20250622T153851Z
UID:10003365-1808150400-1808154000@allinclusivefc.org.uk
SUMMARY:SEND Inclusion Sessions - Huntingdon
DESCRIPTION:In partnership with the Huntingdon Freemens Trust\, these fun and inclusive sessions are open to any age group – no experience necessary. We aim to teach new skills\, improve fitness and mental wellbeing and help build new friendships. \nThese sessions are free of charge and take place at One Leisure in Huntingdon.
URL:https://allinclusivefc.org.uk/session/hunts-open-send-sessions/2027-04-19/
LOCATION:One Leisure\, Huntingdon\, St Peters Road\, Huntingdon\, United Kingdom
ATTACH;FMTTYPE=image/jpeg:https://allinclusivefc.org.uk/wp-content/uploads/2025/06/D8F0C39A-CAB2-4F23-990C-490512A85828.jpg
END:VEVENT
BEGIN:VEVENT
DTSTART;TZID=UTC:20270426T160000
DTEND;TZID=UTC:20270426T170000
DTSTAMP:20260421T235427
CREATED:20250622T152557Z
LAST-MODIFIED:20250622T153851Z
UID:10003366-1808755200-1808758800@allinclusivefc.org.uk
SUMMARY:SEND Inclusion Sessions - Huntingdon
DESCRIPTION:In partnership with the Huntingdon Freemens Trust\, these fun and inclusive sessions are open to any age group – no experience necessary. We aim to teach new skills\, improve fitness and mental wellbeing and help build new friendships. \nThese sessions are free of charge and take place at One Leisure in Huntingdon.
URL:https://allinclusivefc.org.uk/session/hunts-open-send-sessions/2027-04-26/
LOCATION:One Leisure\, Huntingdon\, St Peters Road\, Huntingdon\, United Kingdom
ATTACH;FMTTYPE=image/jpeg:https://allinclusivefc.org.uk/wp-content/uploads/2025/06/D8F0C39A-CAB2-4F23-990C-490512A85828.jpg
END:VEVENT
BEGIN:VEVENT
DTSTART;TZID=UTC:20270503T160000
DTEND;TZID=UTC:20270503T170000
DTSTAMP:20260421T235427
CREATED:20250622T152557Z
LAST-MODIFIED:20250622T153851Z
UID:10003367-1809360000-1809363600@allinclusivefc.org.uk
SUMMARY:SEND Inclusion Sessions - Huntingdon
DESCRIPTION:In partnership with the Huntingdon Freemens Trust\, these fun and inclusive sessions are open to any age group – no experience necessary. We aim to teach new skills\, improve fitness and mental wellbeing and help build new friendships. \nThese sessions are free of charge and take place at One Leisure in Huntingdon.
URL:https://allinclusivefc.org.uk/session/hunts-open-send-sessions/2027-05-03/
LOCATION:One Leisure\, Huntingdon\, St Peters Road\, Huntingdon\, United Kingdom
ATTACH;FMTTYPE=image/jpeg:https://allinclusivefc.org.uk/wp-content/uploads/2025/06/D8F0C39A-CAB2-4F23-990C-490512A85828.jpg
END:VEVENT
BEGIN:VEVENT
DTSTART;TZID=UTC:20270510T160000
DTEND;TZID=UTC:20270510T170000
DTSTAMP:20260421T235427
CREATED:20250622T152557Z
LAST-MODIFIED:20250622T153851Z
UID:10003368-1809964800-1809968400@allinclusivefc.org.uk
SUMMARY:SEND Inclusion Sessions - Huntingdon
DESCRIPTION:In partnership with the Huntingdon Freemens Trust\, these fun and inclusive sessions are open to any age group – no experience necessary. We aim to teach new skills\, improve fitness and mental wellbeing and help build new friendships. \nThese sessions are free of charge and take place at One Leisure in Huntingdon.
URL:https://allinclusivefc.org.uk/session/hunts-open-send-sessions/2027-05-10/
LOCATION:One Leisure\, Huntingdon\, St Peters Road\, Huntingdon\, United Kingdom
ATTACH;FMTTYPE=image/jpeg:https://allinclusivefc.org.uk/wp-content/uploads/2025/06/D8F0C39A-CAB2-4F23-990C-490512A85828.jpg
END:VEVENT
BEGIN:VEVENT
DTSTART;TZID=UTC:20270517T160000
DTEND;TZID=UTC:20270517T170000
DTSTAMP:20260421T235427
CREATED:20250622T152557Z
LAST-MODIFIED:20250622T153851Z
UID:10003369-1810569600-1810573200@allinclusivefc.org.uk
SUMMARY:SEND Inclusion Sessions - Huntingdon
DESCRIPTION:In partnership with the Huntingdon Freemens Trust\, these fun and inclusive sessions are open to any age group – no experience necessary. We aim to teach new skills\, improve fitness and mental wellbeing and help build new friendships. \nThese sessions are free of charge and take place at One Leisure in Huntingdon.
URL:https://allinclusivefc.org.uk/session/hunts-open-send-sessions/2027-05-17/
LOCATION:One Leisure\, Huntingdon\, St Peters Road\, Huntingdon\, United Kingdom
ATTACH;FMTTYPE=image/jpeg:https://allinclusivefc.org.uk/wp-content/uploads/2025/06/D8F0C39A-CAB2-4F23-990C-490512A85828.jpg
END:VEVENT
BEGIN:VEVENT
DTSTART;TZID=UTC:20270524T160000
DTEND;TZID=UTC:20270524T170000
DTSTAMP:20260421T235427
CREATED:20250622T152557Z
LAST-MODIFIED:20250622T153851Z
UID:10003370-1811174400-1811178000@allinclusivefc.org.uk
SUMMARY:SEND Inclusion Sessions - Huntingdon
DESCRIPTION:In partnership with the Huntingdon Freemens Trust\, these fun and inclusive sessions are open to any age group – no experience necessary. We aim to teach new skills\, improve fitness and mental wellbeing and help build new friendships. \nThese sessions are free of charge and take place at One Leisure in Huntingdon.
URL:https://allinclusivefc.org.uk/session/hunts-open-send-sessions/2027-05-24/
LOCATION:One Leisure\, Huntingdon\, St Peters Road\, Huntingdon\, United Kingdom
ATTACH;FMTTYPE=image/jpeg:https://allinclusivefc.org.uk/wp-content/uploads/2025/06/D8F0C39A-CAB2-4F23-990C-490512A85828.jpg
END:VEVENT
BEGIN:VEVENT
DTSTART;TZID=UTC:20270531T160000
DTEND;TZID=UTC:20270531T170000
DTSTAMP:20260421T235427
CREATED:20250622T152557Z
LAST-MODIFIED:20250622T153851Z
UID:10003371-1811779200-1811782800@allinclusivefc.org.uk
SUMMARY:SEND Inclusion Sessions - Huntingdon
DESCRIPTION:In partnership with the Huntingdon Freemens Trust\, these fun and inclusive sessions are open to any age group – no experience necessary. We aim to teach new skills\, improve fitness and mental wellbeing and help build new friendships. \nThese sessions are free of charge and take place at One Leisure in Huntingdon.
URL:https://allinclusivefc.org.uk/session/hunts-open-send-sessions/2027-05-31/
LOCATION:One Leisure\, Huntingdon\, St Peters Road\, Huntingdon\, United Kingdom
ATTACH;FMTTYPE=image/jpeg:https://allinclusivefc.org.uk/wp-content/uploads/2025/06/D8F0C39A-CAB2-4F23-990C-490512A85828.jpg
END:VEVENT
BEGIN:VEVENT
DTSTART;TZID=UTC:20270607T160000
DTEND;TZID=UTC:20270607T170000
DTSTAMP:20260421T235427
CREATED:20250622T152557Z
LAST-MODIFIED:20250622T153851Z
UID:10003372-1812384000-1812387600@allinclusivefc.org.uk
SUMMARY:SEND Inclusion Sessions - Huntingdon
DESCRIPTION:In partnership with the Huntingdon Freemens Trust\, these fun and inclusive sessions are open to any age group – no experience necessary. We aim to teach new skills\, improve fitness and mental wellbeing and help build new friendships. \nThese sessions are free of charge and take place at One Leisure in Huntingdon.
URL:https://allinclusivefc.org.uk/session/hunts-open-send-sessions/2027-06-07/
LOCATION:One Leisure\, Huntingdon\, St Peters Road\, Huntingdon\, United Kingdom
ATTACH;FMTTYPE=image/jpeg:https://allinclusivefc.org.uk/wp-content/uploads/2025/06/D8F0C39A-CAB2-4F23-990C-490512A85828.jpg
END:VEVENT
BEGIN:VEVENT
DTSTART;TZID=UTC:20270614T160000
DTEND;TZID=UTC:20270614T170000
DTSTAMP:20260421T235427
CREATED:20250622T152557Z
LAST-MODIFIED:20250622T153851Z
UID:10003373-1812988800-1812992400@allinclusivefc.org.uk
SUMMARY:SEND Inclusion Sessions - Huntingdon
DESCRIPTION:In partnership with the Huntingdon Freemens Trust\, these fun and inclusive sessions are open to any age group – no experience necessary. We aim to teach new skills\, improve fitness and mental wellbeing and help build new friendships. \nThese sessions are free of charge and take place at One Leisure in Huntingdon.
URL:https://allinclusivefc.org.uk/session/hunts-open-send-sessions/2027-06-14/
LOCATION:One Leisure\, Huntingdon\, St Peters Road\, Huntingdon\, United Kingdom
ATTACH;FMTTYPE=image/jpeg:https://allinclusivefc.org.uk/wp-content/uploads/2025/06/D8F0C39A-CAB2-4F23-990C-490512A85828.jpg
END:VEVENT
BEGIN:VEVENT
DTSTART;TZID=UTC:20270621T160000
DTEND;TZID=UTC:20270621T170000
DTSTAMP:20260421T235427
CREATED:20250622T152557Z
LAST-MODIFIED:20250622T153851Z
UID:10003374-1813593600-1813597200@allinclusivefc.org.uk
SUMMARY:SEND Inclusion Sessions - Huntingdon
DESCRIPTION:In partnership with the Huntingdon Freemens Trust\, these fun and inclusive sessions are open to any age group – no experience necessary. We aim to teach new skills\, improve fitness and mental wellbeing and help build new friendships. \nThese sessions are free of charge and take place at One Leisure in Huntingdon.
URL:https://allinclusivefc.org.uk/session/hunts-open-send-sessions/2027-06-21/
LOCATION:One Leisure\, Huntingdon\, St Peters Road\, Huntingdon\, United Kingdom
ATTACH;FMTTYPE=image/jpeg:https://allinclusivefc.org.uk/wp-content/uploads/2025/06/D8F0C39A-CAB2-4F23-990C-490512A85828.jpg
END:VEVENT
BEGIN:VEVENT
DTSTART;TZID=UTC:20270628T160000
DTEND;TZID=UTC:20270628T170000
DTSTAMP:20260421T235427
CREATED:20250622T152557Z
LAST-MODIFIED:20250622T153851Z
UID:10003375-1814198400-1814202000@allinclusivefc.org.uk
SUMMARY:SEND Inclusion Sessions - Huntingdon
DESCRIPTION:In partnership with the Huntingdon Freemens Trust\, these fun and inclusive sessions are open to any age group – no experience necessary. We aim to teach new skills\, improve fitness and mental wellbeing and help build new friendships. \nThese sessions are free of charge and take place at One Leisure in Huntingdon.
URL:https://allinclusivefc.org.uk/session/hunts-open-send-sessions/2027-06-28/
LOCATION:One Leisure\, Huntingdon\, St Peters Road\, Huntingdon\, United Kingdom
ATTACH;FMTTYPE=image/jpeg:https://allinclusivefc.org.uk/wp-content/uploads/2025/06/D8F0C39A-CAB2-4F23-990C-490512A85828.jpg
END:VEVENT
BEGIN:VEVENT
DTSTART;TZID=UTC:20270705T160000
DTEND;TZID=UTC:20270705T170000
DTSTAMP:20260421T235427
CREATED:20250622T152557Z
LAST-MODIFIED:20250622T153851Z
UID:10003376-1814803200-1814806800@allinclusivefc.org.uk
SUMMARY:SEND Inclusion Sessions - Huntingdon
DESCRIPTION:In partnership with the Huntingdon Freemens Trust\, these fun and inclusive sessions are open to any age group – no experience necessary. We aim to teach new skills\, improve fitness and mental wellbeing and help build new friendships. \nThese sessions are free of charge and take place at One Leisure in Huntingdon.
URL:https://allinclusivefc.org.uk/session/hunts-open-send-sessions/2027-07-05/
LOCATION:One Leisure\, Huntingdon\, St Peters Road\, Huntingdon\, United Kingdom
ATTACH;FMTTYPE=image/jpeg:https://allinclusivefc.org.uk/wp-content/uploads/2025/06/D8F0C39A-CAB2-4F23-990C-490512A85828.jpg
END:VEVENT
BEGIN:VEVENT
DTSTART;TZID=UTC:20270712T160000
DTEND;TZID=UTC:20270712T170000
DTSTAMP:20260421T235427
CREATED:20250622T152557Z
LAST-MODIFIED:20250622T153851Z
UID:10003377-1815408000-1815411600@allinclusivefc.org.uk
SUMMARY:SEND Inclusion Sessions - Huntingdon
DESCRIPTION:In partnership with the Huntingdon Freemens Trust\, these fun and inclusive sessions are open to any age group – no experience necessary. We aim to teach new skills\, improve fitness and mental wellbeing and help build new friendships. \nThese sessions are free of charge and take place at One Leisure in Huntingdon.
URL:https://allinclusivefc.org.uk/session/hunts-open-send-sessions/2027-07-12/
LOCATION:One Leisure\, Huntingdon\, St Peters Road\, Huntingdon\, United Kingdom
ATTACH;FMTTYPE=image/jpeg:https://allinclusivefc.org.uk/wp-content/uploads/2025/06/D8F0C39A-CAB2-4F23-990C-490512A85828.jpg
END:VEVENT
BEGIN:VEVENT
DTSTART;TZID=UTC:20270719T160000
DTEND;TZID=UTC:20270719T170000
DTSTAMP:20260421T235427
CREATED:20250622T152557Z
LAST-MODIFIED:20250622T153851Z
UID:10003378-1816012800-1816016400@allinclusivefc.org.uk
SUMMARY:SEND Inclusion Sessions - Huntingdon
DESCRIPTION:In partnership with the Huntingdon Freemens Trust\, these fun and inclusive sessions are open to any age group – no experience necessary. We aim to teach new skills\, improve fitness and mental wellbeing and help build new friendships. \nThese sessions are free of charge and take place at One Leisure in Huntingdon.
URL:https://allinclusivefc.org.uk/session/hunts-open-send-sessions/2027-07-19/
LOCATION:One Leisure\, Huntingdon\, St Peters Road\, Huntingdon\, United Kingdom
ATTACH;FMTTYPE=image/jpeg:https://allinclusivefc.org.uk/wp-content/uploads/2025/06/D8F0C39A-CAB2-4F23-990C-490512A85828.jpg
END:VEVENT
BEGIN:VEVENT
DTSTART;TZID=UTC:20270726T160000
DTEND;TZID=UTC:20270726T170000
DTSTAMP:20260421T235427
CREATED:20250622T152557Z
LAST-MODIFIED:20250622T153851Z
UID:10003379-1816617600-1816621200@allinclusivefc.org.uk
SUMMARY:SEND Inclusion Sessions - Huntingdon
DESCRIPTION:In partnership with the Huntingdon Freemens Trust\, these fun and inclusive sessions are open to any age group – no experience necessary. We aim to teach new skills\, improve fitness and mental wellbeing and help build new friendships. \nThese sessions are free of charge and take place at One Leisure in Huntingdon.
URL:https://allinclusivefc.org.uk/session/hunts-open-send-sessions/2027-07-26/
LOCATION:One Leisure\, Huntingdon\, St Peters Road\, Huntingdon\, United Kingdom
ATTACH;FMTTYPE=image/jpeg:https://allinclusivefc.org.uk/wp-content/uploads/2025/06/D8F0C39A-CAB2-4F23-990C-490512A85828.jpg
END:VEVENT
BEGIN:VEVENT
DTSTART;TZID=UTC:20270802T160000
DTEND;TZID=UTC:20270802T170000
DTSTAMP:20260421T235427
CREATED:20250622T152557Z
LAST-MODIFIED:20250622T153851Z
UID:10003380-1817222400-1817226000@allinclusivefc.org.uk
SUMMARY:SEND Inclusion Sessions - Huntingdon
DESCRIPTION:In partnership with the Huntingdon Freemens Trust\, these fun and inclusive sessions are open to any age group – no experience necessary. We aim to teach new skills\, improve fitness and mental wellbeing and help build new friendships. \nThese sessions are free of charge and take place at One Leisure in Huntingdon.
URL:https://allinclusivefc.org.uk/session/hunts-open-send-sessions/2027-08-02/
LOCATION:One Leisure\, Huntingdon\, St Peters Road\, Huntingdon\, United Kingdom
ATTACH;FMTTYPE=image/jpeg:https://allinclusivefc.org.uk/wp-content/uploads/2025/06/D8F0C39A-CAB2-4F23-990C-490512A85828.jpg
END:VEVENT
BEGIN:VEVENT
DTSTART;TZID=UTC:20270809T160000
DTEND;TZID=UTC:20270809T170000
DTSTAMP:20260421T235427
CREATED:20250622T152557Z
LAST-MODIFIED:20250622T153851Z
UID:10003381-1817827200-1817830800@allinclusivefc.org.uk
SUMMARY:SEND Inclusion Sessions - Huntingdon
DESCRIPTION:In partnership with the Huntingdon Freemens Trust\, these fun and inclusive sessions are open to any age group – no experience necessary. We aim to teach new skills\, improve fitness and mental wellbeing and help build new friendships. \nThese sessions are free of charge and take place at One Leisure in Huntingdon.
URL:https://allinclusivefc.org.uk/session/hunts-open-send-sessions/2027-08-09/
LOCATION:One Leisure\, Huntingdon\, St Peters Road\, Huntingdon\, United Kingdom
ATTACH;FMTTYPE=image/jpeg:https://allinclusivefc.org.uk/wp-content/uploads/2025/06/D8F0C39A-CAB2-4F23-990C-490512A85828.jpg
END:VEVENT
BEGIN:VEVENT
DTSTART;TZID=UTC:20270816T160000
DTEND;TZID=UTC:20270816T170000
DTSTAMP:20260421T235427
CREATED:20250622T152557Z
LAST-MODIFIED:20250622T153851Z
UID:10003382-1818432000-1818435600@allinclusivefc.org.uk
SUMMARY:SEND Inclusion Sessions - Huntingdon
DESCRIPTION:In partnership with the Huntingdon Freemens Trust\, these fun and inclusive sessions are open to any age group – no experience necessary. We aim to teach new skills\, improve fitness and mental wellbeing and help build new friendships. \nThese sessions are free of charge and take place at One Leisure in Huntingdon.
URL:https://allinclusivefc.org.uk/session/hunts-open-send-sessions/2027-08-16/
LOCATION:One Leisure\, Huntingdon\, St Peters Road\, Huntingdon\, United Kingdom
ATTACH;FMTTYPE=image/jpeg:https://allinclusivefc.org.uk/wp-content/uploads/2025/06/D8F0C39A-CAB2-4F23-990C-490512A85828.jpg
END:VEVENT
BEGIN:VEVENT
DTSTART;TZID=UTC:20270823T160000
DTEND;TZID=UTC:20270823T170000
DTSTAMP:20260421T235427
CREATED:20250622T152557Z
LAST-MODIFIED:20250622T153851Z
UID:10003383-1819036800-1819040400@allinclusivefc.org.uk
SUMMARY:SEND Inclusion Sessions - Huntingdon
DESCRIPTION:In partnership with the Huntingdon Freemens Trust\, these fun and inclusive sessions are open to any age group – no experience necessary. We aim to teach new skills\, improve fitness and mental wellbeing and help build new friendships. \nThese sessions are free of charge and take place at One Leisure in Huntingdon.
URL:https://allinclusivefc.org.uk/session/hunts-open-send-sessions/2027-08-23/
LOCATION:One Leisure\, Huntingdon\, St Peters Road\, Huntingdon\, United Kingdom
ATTACH;FMTTYPE=image/jpeg:https://allinclusivefc.org.uk/wp-content/uploads/2025/06/D8F0C39A-CAB2-4F23-990C-490512A85828.jpg
END:VEVENT
BEGIN:VEVENT
DTSTART;TZID=UTC:20270830T160000
DTEND;TZID=UTC:20270830T170000
DTSTAMP:20260421T235427
CREATED:20250622T152557Z
LAST-MODIFIED:20250622T153851Z
UID:10003384-1819641600-1819645200@allinclusivefc.org.uk
SUMMARY:SEND Inclusion Sessions - Huntingdon
DESCRIPTION:In partnership with the Huntingdon Freemens Trust\, these fun and inclusive sessions are open to any age group – no experience necessary. We aim to teach new skills\, improve fitness and mental wellbeing and help build new friendships. \nThese sessions are free of charge and take place at One Leisure in Huntingdon.
URL:https://allinclusivefc.org.uk/session/hunts-open-send-sessions/2027-08-30/
LOCATION:One Leisure\, Huntingdon\, St Peters Road\, Huntingdon\, United Kingdom
ATTACH;FMTTYPE=image/jpeg:https://allinclusivefc.org.uk/wp-content/uploads/2025/06/D8F0C39A-CAB2-4F23-990C-490512A85828.jpg
END:VEVENT
BEGIN:VEVENT
DTSTART;TZID=UTC:20270906T160000
DTEND;TZID=UTC:20270906T170000
DTSTAMP:20260421T235427
CREATED:20250622T152557Z
LAST-MODIFIED:20250622T153851Z
UID:10003385-1820246400-1820250000@allinclusivefc.org.uk
SUMMARY:SEND Inclusion Sessions - Huntingdon
DESCRIPTION:In partnership with the Huntingdon Freemens Trust\, these fun and inclusive sessions are open to any age group – no experience necessary. We aim to teach new skills\, improve fitness and mental wellbeing and help build new friendships. \nThese sessions are free of charge and take place at One Leisure in Huntingdon.
URL:https://allinclusivefc.org.uk/session/hunts-open-send-sessions/2027-09-06/
LOCATION:One Leisure\, Huntingdon\, St Peters Road\, Huntingdon\, United Kingdom
ATTACH;FMTTYPE=image/jpeg:https://allinclusivefc.org.uk/wp-content/uploads/2025/06/D8F0C39A-CAB2-4F23-990C-490512A85828.jpg
END:VEVENT
BEGIN:VEVENT
DTSTART;TZID=UTC:20270913T160000
DTEND;TZID=UTC:20270913T170000
DTSTAMP:20260421T235427
CREATED:20250622T152557Z
LAST-MODIFIED:20250622T153851Z
UID:10003386-1820851200-1820854800@allinclusivefc.org.uk
SUMMARY:SEND Inclusion Sessions - Huntingdon
DESCRIPTION:In partnership with the Huntingdon Freemens Trust\, these fun and inclusive sessions are open to any age group – no experience necessary. We aim to teach new skills\, improve fitness and mental wellbeing and help build new friendships. \nThese sessions are free of charge and take place at One Leisure in Huntingdon.
URL:https://allinclusivefc.org.uk/session/hunts-open-send-sessions/2027-09-13/
LOCATION:One Leisure\, Huntingdon\, St Peters Road\, Huntingdon\, United Kingdom
ATTACH;FMTTYPE=image/jpeg:https://allinclusivefc.org.uk/wp-content/uploads/2025/06/D8F0C39A-CAB2-4F23-990C-490512A85828.jpg
END:VEVENT
BEGIN:VEVENT
DTSTART;TZID=UTC:20270920T160000
DTEND;TZID=UTC:20270920T170000
DTSTAMP:20260421T235427
CREATED:20250622T152557Z
LAST-MODIFIED:20250622T153851Z
UID:10003387-1821456000-1821459600@allinclusivefc.org.uk
SUMMARY:SEND Inclusion Sessions - Huntingdon
DESCRIPTION:In partnership with the Huntingdon Freemens Trust\, these fun and inclusive sessions are open to any age group – no experience necessary. We aim to teach new skills\, improve fitness and mental wellbeing and help build new friendships. \nThese sessions are free of charge and take place at One Leisure in Huntingdon.
URL:https://allinclusivefc.org.uk/session/hunts-open-send-sessions/2027-09-20/
LOCATION:One Leisure\, Huntingdon\, St Peters Road\, Huntingdon\, United Kingdom
ATTACH;FMTTYPE=image/jpeg:https://allinclusivefc.org.uk/wp-content/uploads/2025/06/D8F0C39A-CAB2-4F23-990C-490512A85828.jpg
END:VEVENT
BEGIN:VEVENT
DTSTART;TZID=UTC:20270927T160000
DTEND;TZID=UTC:20270927T170000
DTSTAMP:20260421T235427
CREATED:20250622T152557Z
LAST-MODIFIED:20250622T153851Z
UID:10003388-1822060800-1822064400@allinclusivefc.org.uk
SUMMARY:SEND Inclusion Sessions - Huntingdon
DESCRIPTION:In partnership with the Huntingdon Freemens Trust\, these fun and inclusive sessions are open to any age group – no experience necessary. We aim to teach new skills\, improve fitness and mental wellbeing and help build new friendships. \nThese sessions are free of charge and take place at One Leisure in Huntingdon.
URL:https://allinclusivefc.org.uk/session/hunts-open-send-sessions/2027-09-27/
LOCATION:One Leisure\, Huntingdon\, St Peters Road\, Huntingdon\, United Kingdom
ATTACH;FMTTYPE=image/jpeg:https://allinclusivefc.org.uk/wp-content/uploads/2025/06/D8F0C39A-CAB2-4F23-990C-490512A85828.jpg
END:VEVENT
BEGIN:VEVENT
DTSTART;TZID=UTC:20271004T160000
DTEND;TZID=UTC:20271004T170000
DTSTAMP:20260421T235427
CREATED:20250622T152557Z
LAST-MODIFIED:20250622T153851Z
UID:10003389-1822665600-1822669200@allinclusivefc.org.uk
SUMMARY:SEND Inclusion Sessions - Huntingdon
DESCRIPTION:In partnership with the Huntingdon Freemens Trust\, these fun and inclusive sessions are open to any age group – no experience necessary. We aim to teach new skills\, improve fitness and mental wellbeing and help build new friendships. \nThese sessions are free of charge and take place at One Leisure in Huntingdon.
URL:https://allinclusivefc.org.uk/session/hunts-open-send-sessions/2027-10-04/
LOCATION:One Leisure\, Huntingdon\, St Peters Road\, Huntingdon\, United Kingdom
ATTACH;FMTTYPE=image/jpeg:https://allinclusivefc.org.uk/wp-content/uploads/2025/06/D8F0C39A-CAB2-4F23-990C-490512A85828.jpg
END:VEVENT
BEGIN:VEVENT
DTSTART;TZID=UTC:20271011T160000
DTEND;TZID=UTC:20271011T170000
DTSTAMP:20260421T235427
CREATED:20250622T152557Z
LAST-MODIFIED:20250622T153851Z
UID:10003390-1823270400-1823274000@allinclusivefc.org.uk
SUMMARY:SEND Inclusion Sessions - Huntingdon
DESCRIPTION:In partnership with the Huntingdon Freemens Trust\, these fun and inclusive sessions are open to any age group – no experience necessary. We aim to teach new skills\, improve fitness and mental wellbeing and help build new friendships. \nThese sessions are free of charge and take place at One Leisure in Huntingdon.
URL:https://allinclusivefc.org.uk/session/hunts-open-send-sessions/2027-10-11/
LOCATION:One Leisure\, Huntingdon\, St Peters Road\, Huntingdon\, United Kingdom
ATTACH;FMTTYPE=image/jpeg:https://allinclusivefc.org.uk/wp-content/uploads/2025/06/D8F0C39A-CAB2-4F23-990C-490512A85828.jpg
END:VEVENT
BEGIN:VEVENT
DTSTART;TZID=UTC:20271018T160000
DTEND;TZID=UTC:20271018T170000
DTSTAMP:20260421T235427
CREATED:20250622T152557Z
LAST-MODIFIED:20250622T153851Z
UID:10003391-1823875200-1823878800@allinclusivefc.org.uk
SUMMARY:SEND Inclusion Sessions - Huntingdon
DESCRIPTION:In partnership with the Huntingdon Freemens Trust\, these fun and inclusive sessions are open to any age group – no experience necessary. We aim to teach new skills\, improve fitness and mental wellbeing and help build new friendships. \nThese sessions are free of charge and take place at One Leisure in Huntingdon.
URL:https://allinclusivefc.org.uk/session/hunts-open-send-sessions/2027-10-18/
LOCATION:One Leisure\, Huntingdon\, St Peters Road\, Huntingdon\, United Kingdom
ATTACH;FMTTYPE=image/jpeg:https://allinclusivefc.org.uk/wp-content/uploads/2025/06/D8F0C39A-CAB2-4F23-990C-490512A85828.jpg
END:VEVENT
BEGIN:VEVENT
DTSTART;TZID=UTC:20271025T160000
DTEND;TZID=UTC:20271025T170000
DTSTAMP:20260421T235427
CREATED:20250622T152557Z
LAST-MODIFIED:20250622T153851Z
UID:10003392-1824480000-1824483600@allinclusivefc.org.uk
SUMMARY:SEND Inclusion Sessions - Huntingdon
DESCRIPTION:In partnership with the Huntingdon Freemens Trust\, these fun and inclusive sessions are open to any age group – no experience necessary. We aim to teach new skills\, improve fitness and mental wellbeing and help build new friendships. \nThese sessions are free of charge and take place at One Leisure in Huntingdon.
URL:https://allinclusivefc.org.uk/session/hunts-open-send-sessions/2027-10-25/
LOCATION:One Leisure\, Huntingdon\, St Peters Road\, Huntingdon\, United Kingdom
ATTACH;FMTTYPE=image/jpeg:https://allinclusivefc.org.uk/wp-content/uploads/2025/06/D8F0C39A-CAB2-4F23-990C-490512A85828.jpg
END:VEVENT
BEGIN:VEVENT
DTSTART;TZID=UTC:20271101T160000
DTEND;TZID=UTC:20271101T170000
DTSTAMP:20260421T235427
CREATED:20250622T152557Z
LAST-MODIFIED:20250622T153851Z
UID:10003393-1825084800-1825088400@allinclusivefc.org.uk
SUMMARY:SEND Inclusion Sessions - Huntingdon
DESCRIPTION:In partnership with the Huntingdon Freemens Trust\, these fun and inclusive sessions are open to any age group – no experience necessary. We aim to teach new skills\, improve fitness and mental wellbeing and help build new friendships. \nThese sessions are free of charge and take place at One Leisure in Huntingdon.
URL:https://allinclusivefc.org.uk/session/hunts-open-send-sessions/2027-11-01/
LOCATION:One Leisure\, Huntingdon\, St Peters Road\, Huntingdon\, United Kingdom
ATTACH;FMTTYPE=image/jpeg:https://allinclusivefc.org.uk/wp-content/uploads/2025/06/D8F0C39A-CAB2-4F23-990C-490512A85828.jpg
END:VEVENT
BEGIN:VEVENT
DTSTART;TZID=UTC:20271108T160000
DTEND;TZID=UTC:20271108T170000
DTSTAMP:20260421T235427
CREATED:20250622T152557Z
LAST-MODIFIED:20250622T153851Z
UID:10003394-1825689600-1825693200@allinclusivefc.org.uk
SUMMARY:SEND Inclusion Sessions - Huntingdon
DESCRIPTION:In partnership with the Huntingdon Freemens Trust\, these fun and inclusive sessions are open to any age group – no experience necessary. We aim to teach new skills\, improve fitness and mental wellbeing and help build new friendships. \nThese sessions are free of charge and take place at One Leisure in Huntingdon.
URL:https://allinclusivefc.org.uk/session/hunts-open-send-sessions/2027-11-08/
LOCATION:One Leisure\, Huntingdon\, St Peters Road\, Huntingdon\, United Kingdom
ATTACH;FMTTYPE=image/jpeg:https://allinclusivefc.org.uk/wp-content/uploads/2025/06/D8F0C39A-CAB2-4F23-990C-490512A85828.jpg
END:VEVENT
END:VCALENDAR