BEGIN:VCALENDAR
VERSION:2.0
PRODID:-//All Inclusive FC - ECPv6.7.0//NONSGML v1.0//EN
CALSCALE:GREGORIAN
METHOD:PUBLISH
X-ORIGINAL-URL:https://allinclusivefc.org.uk
X-WR-CALDESC:Events for All Inclusive FC
REFRESH-INTERVAL;VALUE=DURATION:PT1H
X-Robots-Tag:noindex
X-PUBLISHED-TTL:PT1H
BEGIN:VTIMEZONE
TZID:UTC
BEGIN:STANDARD
TZOFFSETFROM:+0000
TZOFFSETTO:+0000
TZNAME:UTC
DTSTART:20270101T000000
END:STANDARD
END:VTIMEZONE
BEGIN:VEVENT
DTSTART;TZID=UTC:20271115T160000
DTEND;TZID=UTC:20271115T170000
DTSTAMP:20260422T143827
CREATED:20250622T152557Z
LAST-MODIFIED:20250622T153851Z
UID:10003395-1826294400-1826298000@allinclusivefc.org.uk
SUMMARY:SEND Inclusion Sessions - Huntingdon
DESCRIPTION:In partnership with the Huntingdon Freemens Trust\, these fun and inclusive sessions are open to any age group – no experience necessary. We aim to teach new skills\, improve fitness and mental wellbeing and help build new friendships. \nThese sessions are free of charge and take place at One Leisure in Huntingdon.
URL:https://allinclusivefc.org.uk/session/hunts-open-send-sessions/2027-11-15/
LOCATION:One Leisure\, Huntingdon\, St Peters Road\, Huntingdon\, United Kingdom
ATTACH;FMTTYPE=image/jpeg:https://allinclusivefc.org.uk/wp-content/uploads/2025/06/D8F0C39A-CAB2-4F23-990C-490512A85828.jpg
END:VEVENT
BEGIN:VEVENT
DTSTART;TZID=UTC:20271122T160000
DTEND;TZID=UTC:20271122T170000
DTSTAMP:20260422T143827
CREATED:20250622T152557Z
LAST-MODIFIED:20250622T153851Z
UID:10003396-1826899200-1826902800@allinclusivefc.org.uk
SUMMARY:SEND Inclusion Sessions - Huntingdon
DESCRIPTION:In partnership with the Huntingdon Freemens Trust\, these fun and inclusive sessions are open to any age group – no experience necessary. We aim to teach new skills\, improve fitness and mental wellbeing and help build new friendships. \nThese sessions are free of charge and take place at One Leisure in Huntingdon.
URL:https://allinclusivefc.org.uk/session/hunts-open-send-sessions/2027-11-22/
LOCATION:One Leisure\, Huntingdon\, St Peters Road\, Huntingdon\, United Kingdom
ATTACH;FMTTYPE=image/jpeg:https://allinclusivefc.org.uk/wp-content/uploads/2025/06/D8F0C39A-CAB2-4F23-990C-490512A85828.jpg
END:VEVENT
BEGIN:VEVENT
DTSTART;TZID=UTC:20271129T160000
DTEND;TZID=UTC:20271129T170000
DTSTAMP:20260422T143827
CREATED:20250622T152557Z
LAST-MODIFIED:20250622T153851Z
UID:10003397-1827504000-1827507600@allinclusivefc.org.uk
SUMMARY:SEND Inclusion Sessions - Huntingdon
DESCRIPTION:In partnership with the Huntingdon Freemens Trust\, these fun and inclusive sessions are open to any age group – no experience necessary. We aim to teach new skills\, improve fitness and mental wellbeing and help build new friendships. \nThese sessions are free of charge and take place at One Leisure in Huntingdon.
URL:https://allinclusivefc.org.uk/session/hunts-open-send-sessions/2027-11-29/
LOCATION:One Leisure\, Huntingdon\, St Peters Road\, Huntingdon\, United Kingdom
ATTACH;FMTTYPE=image/jpeg:https://allinclusivefc.org.uk/wp-content/uploads/2025/06/D8F0C39A-CAB2-4F23-990C-490512A85828.jpg
END:VEVENT
BEGIN:VEVENT
DTSTART;TZID=UTC:20271206T160000
DTEND;TZID=UTC:20271206T170000
DTSTAMP:20260422T143827
CREATED:20250622T152557Z
LAST-MODIFIED:20250622T153851Z
UID:10003398-1828108800-1828112400@allinclusivefc.org.uk
SUMMARY:SEND Inclusion Sessions - Huntingdon
DESCRIPTION:In partnership with the Huntingdon Freemens Trust\, these fun and inclusive sessions are open to any age group – no experience necessary. We aim to teach new skills\, improve fitness and mental wellbeing and help build new friendships. \nThese sessions are free of charge and take place at One Leisure in Huntingdon.
URL:https://allinclusivefc.org.uk/session/hunts-open-send-sessions/2027-12-06/
LOCATION:One Leisure\, Huntingdon\, St Peters Road\, Huntingdon\, United Kingdom
ATTACH;FMTTYPE=image/jpeg:https://allinclusivefc.org.uk/wp-content/uploads/2025/06/D8F0C39A-CAB2-4F23-990C-490512A85828.jpg
END:VEVENT
BEGIN:VEVENT
DTSTART;TZID=UTC:20271213T160000
DTEND;TZID=UTC:20271213T170000
DTSTAMP:20260422T143827
CREATED:20250622T152557Z
LAST-MODIFIED:20250622T153851Z
UID:10003399-1828713600-1828717200@allinclusivefc.org.uk
SUMMARY:SEND Inclusion Sessions - Huntingdon
DESCRIPTION:In partnership with the Huntingdon Freemens Trust\, these fun and inclusive sessions are open to any age group – no experience necessary. We aim to teach new skills\, improve fitness and mental wellbeing and help build new friendships. \nThese sessions are free of charge and take place at One Leisure in Huntingdon.
URL:https://allinclusivefc.org.uk/session/hunts-open-send-sessions/2027-12-13/
LOCATION:One Leisure\, Huntingdon\, St Peters Road\, Huntingdon\, United Kingdom
ATTACH;FMTTYPE=image/jpeg:https://allinclusivefc.org.uk/wp-content/uploads/2025/06/D8F0C39A-CAB2-4F23-990C-490512A85828.jpg
END:VEVENT
BEGIN:VEVENT
DTSTART;TZID=UTC:20271220T160000
DTEND;TZID=UTC:20271220T170000
DTSTAMP:20260422T143827
CREATED:20250622T152557Z
LAST-MODIFIED:20250622T153851Z
UID:10003400-1829318400-1829322000@allinclusivefc.org.uk
SUMMARY:SEND Inclusion Sessions - Huntingdon
DESCRIPTION:In partnership with the Huntingdon Freemens Trust\, these fun and inclusive sessions are open to any age group – no experience necessary. We aim to teach new skills\, improve fitness and mental wellbeing and help build new friendships. \nThese sessions are free of charge and take place at One Leisure in Huntingdon.
URL:https://allinclusivefc.org.uk/session/hunts-open-send-sessions/2027-12-20/
LOCATION:One Leisure\, Huntingdon\, St Peters Road\, Huntingdon\, United Kingdom
ATTACH;FMTTYPE=image/jpeg:https://allinclusivefc.org.uk/wp-content/uploads/2025/06/D8F0C39A-CAB2-4F23-990C-490512A85828.jpg
END:VEVENT
BEGIN:VEVENT
DTSTART;TZID=UTC:20271227T160000
DTEND;TZID=UTC:20271227T170000
DTSTAMP:20260422T143827
CREATED:20250622T152557Z
LAST-MODIFIED:20250622T153851Z
UID:10003401-1829923200-1829926800@allinclusivefc.org.uk
SUMMARY:SEND Inclusion Sessions - Huntingdon
DESCRIPTION:In partnership with the Huntingdon Freemens Trust\, these fun and inclusive sessions are open to any age group – no experience necessary. We aim to teach new skills\, improve fitness and mental wellbeing and help build new friendships. \nThese sessions are free of charge and take place at One Leisure in Huntingdon.
URL:https://allinclusivefc.org.uk/session/hunts-open-send-sessions/2027-12-27/
LOCATION:One Leisure\, Huntingdon\, St Peters Road\, Huntingdon\, United Kingdom
ATTACH;FMTTYPE=image/jpeg:https://allinclusivefc.org.uk/wp-content/uploads/2025/06/D8F0C39A-CAB2-4F23-990C-490512A85828.jpg
END:VEVENT
BEGIN:VEVENT
DTSTART;TZID=UTC:20280103T160000
DTEND;TZID=UTC:20280103T170000
DTSTAMP:20260422T143827
CREATED:20250622T152557Z
LAST-MODIFIED:20250622T153851Z
UID:10003402-1830528000-1830531600@allinclusivefc.org.uk
SUMMARY:SEND Inclusion Sessions - Huntingdon
DESCRIPTION:In partnership with the Huntingdon Freemens Trust\, these fun and inclusive sessions are open to any age group – no experience necessary. We aim to teach new skills\, improve fitness and mental wellbeing and help build new friendships. \nThese sessions are free of charge and take place at One Leisure in Huntingdon.
URL:https://allinclusivefc.org.uk/session/hunts-open-send-sessions/2028-01-03/
LOCATION:One Leisure\, Huntingdon\, St Peters Road\, Huntingdon\, United Kingdom
ATTACH;FMTTYPE=image/jpeg:https://allinclusivefc.org.uk/wp-content/uploads/2025/06/D8F0C39A-CAB2-4F23-990C-490512A85828.jpg
END:VEVENT
BEGIN:VEVENT
DTSTART;TZID=UTC:20280110T160000
DTEND;TZID=UTC:20280110T170000
DTSTAMP:20260422T143827
CREATED:20250622T152557Z
LAST-MODIFIED:20250622T153851Z
UID:10003403-1831132800-1831136400@allinclusivefc.org.uk
SUMMARY:SEND Inclusion Sessions - Huntingdon
DESCRIPTION:In partnership with the Huntingdon Freemens Trust\, these fun and inclusive sessions are open to any age group – no experience necessary. We aim to teach new skills\, improve fitness and mental wellbeing and help build new friendships. \nThese sessions are free of charge and take place at One Leisure in Huntingdon.
URL:https://allinclusivefc.org.uk/session/hunts-open-send-sessions/2028-01-10/
LOCATION:One Leisure\, Huntingdon\, St Peters Road\, Huntingdon\, United Kingdom
ATTACH;FMTTYPE=image/jpeg:https://allinclusivefc.org.uk/wp-content/uploads/2025/06/D8F0C39A-CAB2-4F23-990C-490512A85828.jpg
END:VEVENT
BEGIN:VEVENT
DTSTART;TZID=UTC:20280117T160000
DTEND;TZID=UTC:20280117T170000
DTSTAMP:20260422T143827
CREATED:20250622T152557Z
LAST-MODIFIED:20250622T153851Z
UID:10003404-1831737600-1831741200@allinclusivefc.org.uk
SUMMARY:SEND Inclusion Sessions - Huntingdon
DESCRIPTION:In partnership with the Huntingdon Freemens Trust\, these fun and inclusive sessions are open to any age group – no experience necessary. We aim to teach new skills\, improve fitness and mental wellbeing and help build new friendships. \nThese sessions are free of charge and take place at One Leisure in Huntingdon.
URL:https://allinclusivefc.org.uk/session/hunts-open-send-sessions/2028-01-17/
LOCATION:One Leisure\, Huntingdon\, St Peters Road\, Huntingdon\, United Kingdom
ATTACH;FMTTYPE=image/jpeg:https://allinclusivefc.org.uk/wp-content/uploads/2025/06/D8F0C39A-CAB2-4F23-990C-490512A85828.jpg
END:VEVENT
BEGIN:VEVENT
DTSTART;TZID=UTC:20280124T160000
DTEND;TZID=UTC:20280124T170000
DTSTAMP:20260422T143827
CREATED:20250622T152557Z
LAST-MODIFIED:20250622T153851Z
UID:10003405-1832342400-1832346000@allinclusivefc.org.uk
SUMMARY:SEND Inclusion Sessions - Huntingdon
DESCRIPTION:In partnership with the Huntingdon Freemens Trust\, these fun and inclusive sessions are open to any age group – no experience necessary. We aim to teach new skills\, improve fitness and mental wellbeing and help build new friendships. \nThese sessions are free of charge and take place at One Leisure in Huntingdon.
URL:https://allinclusivefc.org.uk/session/hunts-open-send-sessions/2028-01-24/
LOCATION:One Leisure\, Huntingdon\, St Peters Road\, Huntingdon\, United Kingdom
ATTACH;FMTTYPE=image/jpeg:https://allinclusivefc.org.uk/wp-content/uploads/2025/06/D8F0C39A-CAB2-4F23-990C-490512A85828.jpg
END:VEVENT
BEGIN:VEVENT
DTSTART;TZID=UTC:20280131T160000
DTEND;TZID=UTC:20280131T170000
DTSTAMP:20260422T143827
CREATED:20250622T152557Z
LAST-MODIFIED:20250622T153851Z
UID:10003406-1832947200-1832950800@allinclusivefc.org.uk
SUMMARY:SEND Inclusion Sessions - Huntingdon
DESCRIPTION:In partnership with the Huntingdon Freemens Trust\, these fun and inclusive sessions are open to any age group – no experience necessary. We aim to teach new skills\, improve fitness and mental wellbeing and help build new friendships. \nThese sessions are free of charge and take place at One Leisure in Huntingdon.
URL:https://allinclusivefc.org.uk/session/hunts-open-send-sessions/2028-01-31/
LOCATION:One Leisure\, Huntingdon\, St Peters Road\, Huntingdon\, United Kingdom
ATTACH;FMTTYPE=image/jpeg:https://allinclusivefc.org.uk/wp-content/uploads/2025/06/D8F0C39A-CAB2-4F23-990C-490512A85828.jpg
END:VEVENT
BEGIN:VEVENT
DTSTART;TZID=UTC:20280207T160000
DTEND;TZID=UTC:20280207T170000
DTSTAMP:20260422T143827
CREATED:20250622T152557Z
LAST-MODIFIED:20250622T153851Z
UID:10003407-1833552000-1833555600@allinclusivefc.org.uk
SUMMARY:SEND Inclusion Sessions - Huntingdon
DESCRIPTION:In partnership with the Huntingdon Freemens Trust\, these fun and inclusive sessions are open to any age group – no experience necessary. We aim to teach new skills\, improve fitness and mental wellbeing and help build new friendships. \nThese sessions are free of charge and take place at One Leisure in Huntingdon.
URL:https://allinclusivefc.org.uk/session/hunts-open-send-sessions/2028-02-07/
LOCATION:One Leisure\, Huntingdon\, St Peters Road\, Huntingdon\, United Kingdom
ATTACH;FMTTYPE=image/jpeg:https://allinclusivefc.org.uk/wp-content/uploads/2025/06/D8F0C39A-CAB2-4F23-990C-490512A85828.jpg
END:VEVENT
BEGIN:VEVENT
DTSTART;TZID=UTC:20280214T160000
DTEND;TZID=UTC:20280214T170000
DTSTAMP:20260422T143827
CREATED:20250622T152557Z
LAST-MODIFIED:20250622T153851Z
UID:10003408-1834156800-1834160400@allinclusivefc.org.uk
SUMMARY:SEND Inclusion Sessions - Huntingdon
DESCRIPTION:In partnership with the Huntingdon Freemens Trust\, these fun and inclusive sessions are open to any age group – no experience necessary. We aim to teach new skills\, improve fitness and mental wellbeing and help build new friendships. \nThese sessions are free of charge and take place at One Leisure in Huntingdon.
URL:https://allinclusivefc.org.uk/session/hunts-open-send-sessions/2028-02-14/
LOCATION:One Leisure\, Huntingdon\, St Peters Road\, Huntingdon\, United Kingdom
ATTACH;FMTTYPE=image/jpeg:https://allinclusivefc.org.uk/wp-content/uploads/2025/06/D8F0C39A-CAB2-4F23-990C-490512A85828.jpg
END:VEVENT
BEGIN:VEVENT
DTSTART;TZID=UTC:20280221T160000
DTEND;TZID=UTC:20280221T170000
DTSTAMP:20260422T143827
CREATED:20250622T152557Z
LAST-MODIFIED:20250622T153851Z
UID:10003409-1834761600-1834765200@allinclusivefc.org.uk
SUMMARY:SEND Inclusion Sessions - Huntingdon
DESCRIPTION:In partnership with the Huntingdon Freemens Trust\, these fun and inclusive sessions are open to any age group – no experience necessary. We aim to teach new skills\, improve fitness and mental wellbeing and help build new friendships. \nThese sessions are free of charge and take place at One Leisure in Huntingdon.
URL:https://allinclusivefc.org.uk/session/hunts-open-send-sessions/2028-02-21/
LOCATION:One Leisure\, Huntingdon\, St Peters Road\, Huntingdon\, United Kingdom
ATTACH;FMTTYPE=image/jpeg:https://allinclusivefc.org.uk/wp-content/uploads/2025/06/D8F0C39A-CAB2-4F23-990C-490512A85828.jpg
END:VEVENT
BEGIN:VEVENT
DTSTART;TZID=UTC:20280228T160000
DTEND;TZID=UTC:20280228T170000
DTSTAMP:20260422T143827
CREATED:20250622T152557Z
LAST-MODIFIED:20250622T153851Z
UID:10003410-1835366400-1835370000@allinclusivefc.org.uk
SUMMARY:SEND Inclusion Sessions - Huntingdon
DESCRIPTION:In partnership with the Huntingdon Freemens Trust\, these fun and inclusive sessions are open to any age group – no experience necessary. We aim to teach new skills\, improve fitness and mental wellbeing and help build new friendships. \nThese sessions are free of charge and take place at One Leisure in Huntingdon.
URL:https://allinclusivefc.org.uk/session/hunts-open-send-sessions/2028-02-28/
LOCATION:One Leisure\, Huntingdon\, St Peters Road\, Huntingdon\, United Kingdom
ATTACH;FMTTYPE=image/jpeg:https://allinclusivefc.org.uk/wp-content/uploads/2025/06/D8F0C39A-CAB2-4F23-990C-490512A85828.jpg
END:VEVENT
BEGIN:VEVENT
DTSTART;TZID=UTC:20280306T160000
DTEND;TZID=UTC:20280306T170000
DTSTAMP:20260422T143827
CREATED:20250622T152557Z
LAST-MODIFIED:20250622T153851Z
UID:10003411-1835971200-1835974800@allinclusivefc.org.uk
SUMMARY:SEND Inclusion Sessions - Huntingdon
DESCRIPTION:In partnership with the Huntingdon Freemens Trust\, these fun and inclusive sessions are open to any age group – no experience necessary. We aim to teach new skills\, improve fitness and mental wellbeing and help build new friendships. \nThese sessions are free of charge and take place at One Leisure in Huntingdon.
URL:https://allinclusivefc.org.uk/session/hunts-open-send-sessions/2028-03-06/
LOCATION:One Leisure\, Huntingdon\, St Peters Road\, Huntingdon\, United Kingdom
ATTACH;FMTTYPE=image/jpeg:https://allinclusivefc.org.uk/wp-content/uploads/2025/06/D8F0C39A-CAB2-4F23-990C-490512A85828.jpg
END:VEVENT
BEGIN:VEVENT
DTSTART;TZID=UTC:20280313T160000
DTEND;TZID=UTC:20280313T170000
DTSTAMP:20260422T143827
CREATED:20250622T152557Z
LAST-MODIFIED:20250622T153851Z
UID:10003412-1836576000-1836579600@allinclusivefc.org.uk
SUMMARY:SEND Inclusion Sessions - Huntingdon
DESCRIPTION:In partnership with the Huntingdon Freemens Trust\, these fun and inclusive sessions are open to any age group – no experience necessary. We aim to teach new skills\, improve fitness and mental wellbeing and help build new friendships. \nThese sessions are free of charge and take place at One Leisure in Huntingdon.
URL:https://allinclusivefc.org.uk/session/hunts-open-send-sessions/2028-03-13/
LOCATION:One Leisure\, Huntingdon\, St Peters Road\, Huntingdon\, United Kingdom
ATTACH;FMTTYPE=image/jpeg:https://allinclusivefc.org.uk/wp-content/uploads/2025/06/D8F0C39A-CAB2-4F23-990C-490512A85828.jpg
END:VEVENT
BEGIN:VEVENT
DTSTART;TZID=UTC:20280320T160000
DTEND;TZID=UTC:20280320T170000
DTSTAMP:20260422T143827
CREATED:20250622T152557Z
LAST-MODIFIED:20250622T153851Z
UID:10003413-1837180800-1837184400@allinclusivefc.org.uk
SUMMARY:SEND Inclusion Sessions - Huntingdon
DESCRIPTION:In partnership with the Huntingdon Freemens Trust\, these fun and inclusive sessions are open to any age group – no experience necessary. We aim to teach new skills\, improve fitness and mental wellbeing and help build new friendships. \nThese sessions are free of charge and take place at One Leisure in Huntingdon.
URL:https://allinclusivefc.org.uk/session/hunts-open-send-sessions/2028-03-20/
LOCATION:One Leisure\, Huntingdon\, St Peters Road\, Huntingdon\, United Kingdom
ATTACH;FMTTYPE=image/jpeg:https://allinclusivefc.org.uk/wp-content/uploads/2025/06/D8F0C39A-CAB2-4F23-990C-490512A85828.jpg
END:VEVENT
BEGIN:VEVENT
DTSTART;TZID=UTC:20280327T160000
DTEND;TZID=UTC:20280327T170000
DTSTAMP:20260422T143827
CREATED:20250622T152557Z
LAST-MODIFIED:20250622T153851Z
UID:10003414-1837785600-1837789200@allinclusivefc.org.uk
SUMMARY:SEND Inclusion Sessions - Huntingdon
DESCRIPTION:In partnership with the Huntingdon Freemens Trust\, these fun and inclusive sessions are open to any age group – no experience necessary. We aim to teach new skills\, improve fitness and mental wellbeing and help build new friendships. \nThese sessions are free of charge and take place at One Leisure in Huntingdon.
URL:https://allinclusivefc.org.uk/session/hunts-open-send-sessions/2028-03-27/
LOCATION:One Leisure\, Huntingdon\, St Peters Road\, Huntingdon\, United Kingdom
ATTACH;FMTTYPE=image/jpeg:https://allinclusivefc.org.uk/wp-content/uploads/2025/06/D8F0C39A-CAB2-4F23-990C-490512A85828.jpg
END:VEVENT
BEGIN:VEVENT
DTSTART;TZID=UTC:20280403T160000
DTEND;TZID=UTC:20280403T170000
DTSTAMP:20260422T143827
CREATED:20250622T152557Z
LAST-MODIFIED:20250622T153851Z
UID:10003415-1838390400-1838394000@allinclusivefc.org.uk
SUMMARY:SEND Inclusion Sessions - Huntingdon
DESCRIPTION:In partnership with the Huntingdon Freemens Trust\, these fun and inclusive sessions are open to any age group – no experience necessary. We aim to teach new skills\, improve fitness and mental wellbeing and help build new friendships. \nThese sessions are free of charge and take place at One Leisure in Huntingdon.
URL:https://allinclusivefc.org.uk/session/hunts-open-send-sessions/2028-04-03/
LOCATION:One Leisure\, Huntingdon\, St Peters Road\, Huntingdon\, United Kingdom
ATTACH;FMTTYPE=image/jpeg:https://allinclusivefc.org.uk/wp-content/uploads/2025/06/D8F0C39A-CAB2-4F23-990C-490512A85828.jpg
END:VEVENT
BEGIN:VEVENT
DTSTART;TZID=UTC:20280410T160000
DTEND;TZID=UTC:20280410T170000
DTSTAMP:20260422T143827
CREATED:20250622T152557Z
LAST-MODIFIED:20250622T153851Z
UID:10003416-1838995200-1838998800@allinclusivefc.org.uk
SUMMARY:SEND Inclusion Sessions - Huntingdon
DESCRIPTION:In partnership with the Huntingdon Freemens Trust\, these fun and inclusive sessions are open to any age group – no experience necessary. We aim to teach new skills\, improve fitness and mental wellbeing and help build new friendships. \nThese sessions are free of charge and take place at One Leisure in Huntingdon.
URL:https://allinclusivefc.org.uk/session/hunts-open-send-sessions/2028-04-10/
LOCATION:One Leisure\, Huntingdon\, St Peters Road\, Huntingdon\, United Kingdom
ATTACH;FMTTYPE=image/jpeg:https://allinclusivefc.org.uk/wp-content/uploads/2025/06/D8F0C39A-CAB2-4F23-990C-490512A85828.jpg
END:VEVENT
BEGIN:VEVENT
DTSTART;TZID=UTC:20280417T160000
DTEND;TZID=UTC:20280417T170000
DTSTAMP:20260422T143827
CREATED:20250622T152557Z
LAST-MODIFIED:20250622T153851Z
UID:10003417-1839600000-1839603600@allinclusivefc.org.uk
SUMMARY:SEND Inclusion Sessions - Huntingdon
DESCRIPTION:In partnership with the Huntingdon Freemens Trust\, these fun and inclusive sessions are open to any age group – no experience necessary. We aim to teach new skills\, improve fitness and mental wellbeing and help build new friendships. \nThese sessions are free of charge and take place at One Leisure in Huntingdon.
URL:https://allinclusivefc.org.uk/session/hunts-open-send-sessions/2028-04-17/
LOCATION:One Leisure\, Huntingdon\, St Peters Road\, Huntingdon\, United Kingdom
ATTACH;FMTTYPE=image/jpeg:https://allinclusivefc.org.uk/wp-content/uploads/2025/06/D8F0C39A-CAB2-4F23-990C-490512A85828.jpg
END:VEVENT
BEGIN:VEVENT
DTSTART;TZID=UTC:20280424T160000
DTEND;TZID=UTC:20280424T170000
DTSTAMP:20260422T143827
CREATED:20250622T152557Z
LAST-MODIFIED:20250622T153851Z
UID:10003418-1840204800-1840208400@allinclusivefc.org.uk
SUMMARY:SEND Inclusion Sessions - Huntingdon
DESCRIPTION:In partnership with the Huntingdon Freemens Trust\, these fun and inclusive sessions are open to any age group – no experience necessary. We aim to teach new skills\, improve fitness and mental wellbeing and help build new friendships. \nThese sessions are free of charge and take place at One Leisure in Huntingdon.
URL:https://allinclusivefc.org.uk/session/hunts-open-send-sessions/2028-04-24/
LOCATION:One Leisure\, Huntingdon\, St Peters Road\, Huntingdon\, United Kingdom
ATTACH;FMTTYPE=image/jpeg:https://allinclusivefc.org.uk/wp-content/uploads/2025/06/D8F0C39A-CAB2-4F23-990C-490512A85828.jpg
END:VEVENT
BEGIN:VEVENT
DTSTART;TZID=UTC:20280501T160000
DTEND;TZID=UTC:20280501T170000
DTSTAMP:20260422T143827
CREATED:20250622T152557Z
LAST-MODIFIED:20250622T153851Z
UID:10003419-1840809600-1840813200@allinclusivefc.org.uk
SUMMARY:SEND Inclusion Sessions - Huntingdon
DESCRIPTION:In partnership with the Huntingdon Freemens Trust\, these fun and inclusive sessions are open to any age group – no experience necessary. We aim to teach new skills\, improve fitness and mental wellbeing and help build new friendships. \nThese sessions are free of charge and take place at One Leisure in Huntingdon.
URL:https://allinclusivefc.org.uk/session/hunts-open-send-sessions/2028-05-01/
LOCATION:One Leisure\, Huntingdon\, St Peters Road\, Huntingdon\, United Kingdom
ATTACH;FMTTYPE=image/jpeg:https://allinclusivefc.org.uk/wp-content/uploads/2025/06/D8F0C39A-CAB2-4F23-990C-490512A85828.jpg
END:VEVENT
BEGIN:VEVENT
DTSTART;TZID=UTC:20280508T160000
DTEND;TZID=UTC:20280508T170000
DTSTAMP:20260422T143827
CREATED:20250622T152557Z
LAST-MODIFIED:20250622T153851Z
UID:10003420-1841414400-1841418000@allinclusivefc.org.uk
SUMMARY:SEND Inclusion Sessions - Huntingdon
DESCRIPTION:In partnership with the Huntingdon Freemens Trust\, these fun and inclusive sessions are open to any age group – no experience necessary. We aim to teach new skills\, improve fitness and mental wellbeing and help build new friendships. \nThese sessions are free of charge and take place at One Leisure in Huntingdon.
URL:https://allinclusivefc.org.uk/session/hunts-open-send-sessions/2028-05-08/
LOCATION:One Leisure\, Huntingdon\, St Peters Road\, Huntingdon\, United Kingdom
ATTACH;FMTTYPE=image/jpeg:https://allinclusivefc.org.uk/wp-content/uploads/2025/06/D8F0C39A-CAB2-4F23-990C-490512A85828.jpg
END:VEVENT
BEGIN:VEVENT
DTSTART;TZID=UTC:20280515T160000
DTEND;TZID=UTC:20280515T170000
DTSTAMP:20260422T143827
CREATED:20250622T152557Z
LAST-MODIFIED:20250622T153851Z
UID:10003421-1842019200-1842022800@allinclusivefc.org.uk
SUMMARY:SEND Inclusion Sessions - Huntingdon
DESCRIPTION:In partnership with the Huntingdon Freemens Trust\, these fun and inclusive sessions are open to any age group – no experience necessary. We aim to teach new skills\, improve fitness and mental wellbeing and help build new friendships. \nThese sessions are free of charge and take place at One Leisure in Huntingdon.
URL:https://allinclusivefc.org.uk/session/hunts-open-send-sessions/2028-05-15/
LOCATION:One Leisure\, Huntingdon\, St Peters Road\, Huntingdon\, United Kingdom
ATTACH;FMTTYPE=image/jpeg:https://allinclusivefc.org.uk/wp-content/uploads/2025/06/D8F0C39A-CAB2-4F23-990C-490512A85828.jpg
END:VEVENT
BEGIN:VEVENT
DTSTART;TZID=UTC:20280522T160000
DTEND;TZID=UTC:20280522T170000
DTSTAMP:20260422T143827
CREATED:20250622T152557Z
LAST-MODIFIED:20250622T153851Z
UID:10003422-1842624000-1842627600@allinclusivefc.org.uk
SUMMARY:SEND Inclusion Sessions - Huntingdon
DESCRIPTION:In partnership with the Huntingdon Freemens Trust\, these fun and inclusive sessions are open to any age group – no experience necessary. We aim to teach new skills\, improve fitness and mental wellbeing and help build new friendships. \nThese sessions are free of charge and take place at One Leisure in Huntingdon.
URL:https://allinclusivefc.org.uk/session/hunts-open-send-sessions/2028-05-22/
LOCATION:One Leisure\, Huntingdon\, St Peters Road\, Huntingdon\, United Kingdom
ATTACH;FMTTYPE=image/jpeg:https://allinclusivefc.org.uk/wp-content/uploads/2025/06/D8F0C39A-CAB2-4F23-990C-490512A85828.jpg
END:VEVENT
BEGIN:VEVENT
DTSTART;TZID=UTC:20280529T160000
DTEND;TZID=UTC:20280529T170000
DTSTAMP:20260422T143827
CREATED:20250622T152557Z
LAST-MODIFIED:20250622T153851Z
UID:10003423-1843228800-1843232400@allinclusivefc.org.uk
SUMMARY:SEND Inclusion Sessions - Huntingdon
DESCRIPTION:In partnership with the Huntingdon Freemens Trust\, these fun and inclusive sessions are open to any age group – no experience necessary. We aim to teach new skills\, improve fitness and mental wellbeing and help build new friendships. \nThese sessions are free of charge and take place at One Leisure in Huntingdon.
URL:https://allinclusivefc.org.uk/session/hunts-open-send-sessions/2028-05-29/
LOCATION:One Leisure\, Huntingdon\, St Peters Road\, Huntingdon\, United Kingdom
ATTACH;FMTTYPE=image/jpeg:https://allinclusivefc.org.uk/wp-content/uploads/2025/06/D8F0C39A-CAB2-4F23-990C-490512A85828.jpg
END:VEVENT
BEGIN:VEVENT
DTSTART;TZID=UTC:20280605T160000
DTEND;TZID=UTC:20280605T170000
DTSTAMP:20260422T143827
CREATED:20250622T152557Z
LAST-MODIFIED:20250622T153851Z
UID:10003424-1843833600-1843837200@allinclusivefc.org.uk
SUMMARY:SEND Inclusion Sessions - Huntingdon
DESCRIPTION:In partnership with the Huntingdon Freemens Trust\, these fun and inclusive sessions are open to any age group – no experience necessary. We aim to teach new skills\, improve fitness and mental wellbeing and help build new friendships. \nThese sessions are free of charge and take place at One Leisure in Huntingdon.
URL:https://allinclusivefc.org.uk/session/hunts-open-send-sessions/2028-06-05/
LOCATION:One Leisure\, Huntingdon\, St Peters Road\, Huntingdon\, United Kingdom
ATTACH;FMTTYPE=image/jpeg:https://allinclusivefc.org.uk/wp-content/uploads/2025/06/D8F0C39A-CAB2-4F23-990C-490512A85828.jpg
END:VEVENT
END:VCALENDAR