BEGIN:VCALENDAR
VERSION:2.0
PRODID:-//All Inclusive FC - ECPv6.7.0//NONSGML v1.0//EN
CALSCALE:GREGORIAN
METHOD:PUBLISH
X-ORIGINAL-URL:https://allinclusivefc.org.uk
X-WR-CALDESC:Events for All Inclusive FC
REFRESH-INTERVAL;VALUE=DURATION:PT1H
X-Robots-Tag:noindex
X-PUBLISHED-TTL:PT1H
BEGIN:VTIMEZONE
TZID:UTC
BEGIN:STANDARD
TZOFFSETFROM:+0000
TZOFFSETTO:+0000
TZNAME:UTC
DTSTART:20250101T000000
END:STANDARD
END:VTIMEZONE
BEGIN:VEVENT
DTSTART;TZID=UTC:20260105T160000
DTEND;TZID=UTC:20260105T170000
DTSTAMP:20260421T235529
CREATED:20250622T152557Z
LAST-MODIFIED:20250622T153851Z
UID:10003298-1767628800-1767632400@allinclusivefc.org.uk
SUMMARY:SEND Inclusion Sessions - Huntingdon
DESCRIPTION:In partnership with the Huntingdon Freemens Trust\, these fun and inclusive sessions are open to any age group – no experience necessary. We aim to teach new skills\, improve fitness and mental wellbeing and help build new friendships. \nThese sessions are free of charge and take place at One Leisure in Huntingdon.
URL:https://allinclusivefc.org.uk/session/hunts-open-send-sessions/2026-01-05/
LOCATION:One Leisure\, Huntingdon\, St Peters Road\, Huntingdon\, United Kingdom
ATTACH;FMTTYPE=image/jpeg:https://allinclusivefc.org.uk/wp-content/uploads/2025/06/D8F0C39A-CAB2-4F23-990C-490512A85828.jpg
END:VEVENT
BEGIN:VEVENT
DTSTART;TZID=UTC:20251229T160000
DTEND;TZID=UTC:20251229T170000
DTSTAMP:20260421T235529
CREATED:20250622T152557Z
LAST-MODIFIED:20250622T153851Z
UID:10003297-1767024000-1767027600@allinclusivefc.org.uk
SUMMARY:SEND Inclusion Sessions - Huntingdon
DESCRIPTION:In partnership with the Huntingdon Freemens Trust\, these fun and inclusive sessions are open to any age group – no experience necessary. We aim to teach new skills\, improve fitness and mental wellbeing and help build new friendships. \nThese sessions are free of charge and take place at One Leisure in Huntingdon.
URL:https://allinclusivefc.org.uk/session/hunts-open-send-sessions/2025-12-29/
LOCATION:One Leisure\, Huntingdon\, St Peters Road\, Huntingdon\, United Kingdom
ATTACH;FMTTYPE=image/jpeg:https://allinclusivefc.org.uk/wp-content/uploads/2025/06/D8F0C39A-CAB2-4F23-990C-490512A85828.jpg
END:VEVENT
BEGIN:VEVENT
DTSTART;TZID=UTC:20251222T160000
DTEND;TZID=UTC:20251222T170000
DTSTAMP:20260421T235529
CREATED:20250622T152557Z
LAST-MODIFIED:20250622T153851Z
UID:10003296-1766419200-1766422800@allinclusivefc.org.uk
SUMMARY:SEND Inclusion Sessions - Huntingdon
DESCRIPTION:In partnership with the Huntingdon Freemens Trust\, these fun and inclusive sessions are open to any age group – no experience necessary. We aim to teach new skills\, improve fitness and mental wellbeing and help build new friendships. \nThese sessions are free of charge and take place at One Leisure in Huntingdon.
URL:https://allinclusivefc.org.uk/session/hunts-open-send-sessions/2025-12-22/
LOCATION:One Leisure\, Huntingdon\, St Peters Road\, Huntingdon\, United Kingdom
ATTACH;FMTTYPE=image/jpeg:https://allinclusivefc.org.uk/wp-content/uploads/2025/06/D8F0C39A-CAB2-4F23-990C-490512A85828.jpg
END:VEVENT
BEGIN:VEVENT
DTSTART;TZID=UTC:20251215T160000
DTEND;TZID=UTC:20251215T170000
DTSTAMP:20260421T235529
CREATED:20250622T152557Z
LAST-MODIFIED:20250622T153851Z
UID:10003295-1765814400-1765818000@allinclusivefc.org.uk
SUMMARY:SEND Inclusion Sessions - Huntingdon
DESCRIPTION:In partnership with the Huntingdon Freemens Trust\, these fun and inclusive sessions are open to any age group – no experience necessary. We aim to teach new skills\, improve fitness and mental wellbeing and help build new friendships. \nThese sessions are free of charge and take place at One Leisure in Huntingdon.
URL:https://allinclusivefc.org.uk/session/hunts-open-send-sessions/2025-12-15/
LOCATION:One Leisure\, Huntingdon\, St Peters Road\, Huntingdon\, United Kingdom
ATTACH;FMTTYPE=image/jpeg:https://allinclusivefc.org.uk/wp-content/uploads/2025/06/D8F0C39A-CAB2-4F23-990C-490512A85828.jpg
END:VEVENT
BEGIN:VEVENT
DTSTART;TZID=UTC:20251208T160000
DTEND;TZID=UTC:20251208T170000
DTSTAMP:20260421T235529
CREATED:20250622T152557Z
LAST-MODIFIED:20250622T153851Z
UID:10003294-1765209600-1765213200@allinclusivefc.org.uk
SUMMARY:SEND Inclusion Sessions - Huntingdon
DESCRIPTION:In partnership with the Huntingdon Freemens Trust\, these fun and inclusive sessions are open to any age group – no experience necessary. We aim to teach new skills\, improve fitness and mental wellbeing and help build new friendships. \nThese sessions are free of charge and take place at One Leisure in Huntingdon.
URL:https://allinclusivefc.org.uk/session/hunts-open-send-sessions/2025-12-08/
LOCATION:One Leisure\, Huntingdon\, St Peters Road\, Huntingdon\, United Kingdom
ATTACH;FMTTYPE=image/jpeg:https://allinclusivefc.org.uk/wp-content/uploads/2025/06/D8F0C39A-CAB2-4F23-990C-490512A85828.jpg
END:VEVENT
BEGIN:VEVENT
DTSTART;TZID=UTC:20251201T160000
DTEND;TZID=UTC:20251201T170000
DTSTAMP:20260421T235529
CREATED:20250622T152557Z
LAST-MODIFIED:20250622T153851Z
UID:10003293-1764604800-1764608400@allinclusivefc.org.uk
SUMMARY:SEND Inclusion Sessions - Huntingdon
DESCRIPTION:In partnership with the Huntingdon Freemens Trust\, these fun and inclusive sessions are open to any age group – no experience necessary. We aim to teach new skills\, improve fitness and mental wellbeing and help build new friendships. \nThese sessions are free of charge and take place at One Leisure in Huntingdon.
URL:https://allinclusivefc.org.uk/session/hunts-open-send-sessions/2025-12-01/
LOCATION:One Leisure\, Huntingdon\, St Peters Road\, Huntingdon\, United Kingdom
ATTACH;FMTTYPE=image/jpeg:https://allinclusivefc.org.uk/wp-content/uploads/2025/06/D8F0C39A-CAB2-4F23-990C-490512A85828.jpg
END:VEVENT
BEGIN:VEVENT
DTSTART;TZID=UTC:20251124T160000
DTEND;TZID=UTC:20251124T170000
DTSTAMP:20260421T235529
CREATED:20250622T152557Z
LAST-MODIFIED:20250622T153851Z
UID:10003292-1764000000-1764003600@allinclusivefc.org.uk
SUMMARY:SEND Inclusion Sessions - Huntingdon
DESCRIPTION:In partnership with the Huntingdon Freemens Trust\, these fun and inclusive sessions are open to any age group – no experience necessary. We aim to teach new skills\, improve fitness and mental wellbeing and help build new friendships. \nThese sessions are free of charge and take place at One Leisure in Huntingdon.
URL:https://allinclusivefc.org.uk/session/hunts-open-send-sessions/2025-11-24/
LOCATION:One Leisure\, Huntingdon\, St Peters Road\, Huntingdon\, United Kingdom
ATTACH;FMTTYPE=image/jpeg:https://allinclusivefc.org.uk/wp-content/uploads/2025/06/D8F0C39A-CAB2-4F23-990C-490512A85828.jpg
END:VEVENT
BEGIN:VEVENT
DTSTART;TZID=UTC:20251117T160000
DTEND;TZID=UTC:20251117T170000
DTSTAMP:20260421T235529
CREATED:20250622T152557Z
LAST-MODIFIED:20250622T153851Z
UID:10003291-1763395200-1763398800@allinclusivefc.org.uk
SUMMARY:SEND Inclusion Sessions - Huntingdon
DESCRIPTION:In partnership with the Huntingdon Freemens Trust\, these fun and inclusive sessions are open to any age group – no experience necessary. We aim to teach new skills\, improve fitness and mental wellbeing and help build new friendships. \nThese sessions are free of charge and take place at One Leisure in Huntingdon.
URL:https://allinclusivefc.org.uk/session/hunts-open-send-sessions/2025-11-17/
LOCATION:One Leisure\, Huntingdon\, St Peters Road\, Huntingdon\, United Kingdom
ATTACH;FMTTYPE=image/jpeg:https://allinclusivefc.org.uk/wp-content/uploads/2025/06/D8F0C39A-CAB2-4F23-990C-490512A85828.jpg
END:VEVENT
BEGIN:VEVENT
DTSTART;TZID=UTC:20251110T160000
DTEND;TZID=UTC:20251110T170000
DTSTAMP:20260421T235529
CREATED:20250622T152557Z
LAST-MODIFIED:20250622T153851Z
UID:10003290-1762790400-1762794000@allinclusivefc.org.uk
SUMMARY:SEND Inclusion Sessions - Huntingdon
DESCRIPTION:In partnership with the Huntingdon Freemens Trust\, these fun and inclusive sessions are open to any age group – no experience necessary. We aim to teach new skills\, improve fitness and mental wellbeing and help build new friendships. \nThese sessions are free of charge and take place at One Leisure in Huntingdon.
URL:https://allinclusivefc.org.uk/session/hunts-open-send-sessions/2025-11-10/
LOCATION:One Leisure\, Huntingdon\, St Peters Road\, Huntingdon\, United Kingdom
ATTACH;FMTTYPE=image/jpeg:https://allinclusivefc.org.uk/wp-content/uploads/2025/06/D8F0C39A-CAB2-4F23-990C-490512A85828.jpg
END:VEVENT
BEGIN:VEVENT
DTSTART;TZID=UTC:20251103T160000
DTEND;TZID=UTC:20251103T170000
DTSTAMP:20260421T235529
CREATED:20250622T152557Z
LAST-MODIFIED:20250622T153851Z
UID:10003289-1762185600-1762189200@allinclusivefc.org.uk
SUMMARY:SEND Inclusion Sessions - Huntingdon
DESCRIPTION:In partnership with the Huntingdon Freemens Trust\, these fun and inclusive sessions are open to any age group – no experience necessary. We aim to teach new skills\, improve fitness and mental wellbeing and help build new friendships. \nThese sessions are free of charge and take place at One Leisure in Huntingdon.
URL:https://allinclusivefc.org.uk/session/hunts-open-send-sessions/2025-11-03/
LOCATION:One Leisure\, Huntingdon\, St Peters Road\, Huntingdon\, United Kingdom
ATTACH;FMTTYPE=image/jpeg:https://allinclusivefc.org.uk/wp-content/uploads/2025/06/D8F0C39A-CAB2-4F23-990C-490512A85828.jpg
END:VEVENT
BEGIN:VEVENT
DTSTART;TZID=UTC:20251027T160000
DTEND;TZID=UTC:20251027T170000
DTSTAMP:20260421T235529
CREATED:20250622T152557Z
LAST-MODIFIED:20250622T153851Z
UID:10003288-1761580800-1761584400@allinclusivefc.org.uk
SUMMARY:SEND Inclusion Sessions - Huntingdon
DESCRIPTION:In partnership with the Huntingdon Freemens Trust\, these fun and inclusive sessions are open to any age group – no experience necessary. We aim to teach new skills\, improve fitness and mental wellbeing and help build new friendships. \nThese sessions are free of charge and take place at One Leisure in Huntingdon.
URL:https://allinclusivefc.org.uk/session/hunts-open-send-sessions/2025-10-27/
LOCATION:One Leisure\, Huntingdon\, St Peters Road\, Huntingdon\, United Kingdom
ATTACH;FMTTYPE=image/jpeg:https://allinclusivefc.org.uk/wp-content/uploads/2025/06/D8F0C39A-CAB2-4F23-990C-490512A85828.jpg
END:VEVENT
BEGIN:VEVENT
DTSTART;TZID=UTC:20251020T160000
DTEND;TZID=UTC:20251020T170000
DTSTAMP:20260421T235529
CREATED:20250622T152557Z
LAST-MODIFIED:20250622T153851Z
UID:10003287-1760976000-1760979600@allinclusivefc.org.uk
SUMMARY:SEND Inclusion Sessions - Huntingdon
DESCRIPTION:In partnership with the Huntingdon Freemens Trust\, these fun and inclusive sessions are open to any age group – no experience necessary. We aim to teach new skills\, improve fitness and mental wellbeing and help build new friendships. \nThese sessions are free of charge and take place at One Leisure in Huntingdon.
URL:https://allinclusivefc.org.uk/session/hunts-open-send-sessions/2025-10-20/
LOCATION:One Leisure\, Huntingdon\, St Peters Road\, Huntingdon\, United Kingdom
ATTACH;FMTTYPE=image/jpeg:https://allinclusivefc.org.uk/wp-content/uploads/2025/06/D8F0C39A-CAB2-4F23-990C-490512A85828.jpg
END:VEVENT
BEGIN:VEVENT
DTSTART;TZID=UTC:20251013T160000
DTEND;TZID=UTC:20251013T170000
DTSTAMP:20260421T235529
CREATED:20250622T152557Z
LAST-MODIFIED:20250622T153851Z
UID:10003286-1760371200-1760374800@allinclusivefc.org.uk
SUMMARY:SEND Inclusion Sessions - Huntingdon
DESCRIPTION:In partnership with the Huntingdon Freemens Trust\, these fun and inclusive sessions are open to any age group – no experience necessary. We aim to teach new skills\, improve fitness and mental wellbeing and help build new friendships. \nThese sessions are free of charge and take place at One Leisure in Huntingdon.
URL:https://allinclusivefc.org.uk/session/hunts-open-send-sessions/2025-10-13/
LOCATION:One Leisure\, Huntingdon\, St Peters Road\, Huntingdon\, United Kingdom
ATTACH;FMTTYPE=image/jpeg:https://allinclusivefc.org.uk/wp-content/uploads/2025/06/D8F0C39A-CAB2-4F23-990C-490512A85828.jpg
END:VEVENT
BEGIN:VEVENT
DTSTART;TZID=UTC:20251006T160000
DTEND;TZID=UTC:20251006T170000
DTSTAMP:20260421T235529
CREATED:20250622T152557Z
LAST-MODIFIED:20250622T153851Z
UID:10003285-1759766400-1759770000@allinclusivefc.org.uk
SUMMARY:SEND Inclusion Sessions - Huntingdon
DESCRIPTION:In partnership with the Huntingdon Freemens Trust\, these fun and inclusive sessions are open to any age group – no experience necessary. We aim to teach new skills\, improve fitness and mental wellbeing and help build new friendships. \nThese sessions are free of charge and take place at One Leisure in Huntingdon.
URL:https://allinclusivefc.org.uk/session/hunts-open-send-sessions/2025-10-06/
LOCATION:One Leisure\, Huntingdon\, St Peters Road\, Huntingdon\, United Kingdom
ATTACH;FMTTYPE=image/jpeg:https://allinclusivefc.org.uk/wp-content/uploads/2025/06/D8F0C39A-CAB2-4F23-990C-490512A85828.jpg
END:VEVENT
BEGIN:VEVENT
DTSTART;TZID=UTC:20250929T160000
DTEND;TZID=UTC:20250929T170000
DTSTAMP:20260421T235529
CREATED:20250622T152557Z
LAST-MODIFIED:20250622T153851Z
UID:10003284-1759161600-1759165200@allinclusivefc.org.uk
SUMMARY:SEND Inclusion Sessions - Huntingdon
DESCRIPTION:In partnership with the Huntingdon Freemens Trust\, these fun and inclusive sessions are open to any age group – no experience necessary. We aim to teach new skills\, improve fitness and mental wellbeing and help build new friendships. \nThese sessions are free of charge and take place at One Leisure in Huntingdon.
URL:https://allinclusivefc.org.uk/session/hunts-open-send-sessions/2025-09-29/
LOCATION:One Leisure\, Huntingdon\, St Peters Road\, Huntingdon\, United Kingdom
ATTACH;FMTTYPE=image/jpeg:https://allinclusivefc.org.uk/wp-content/uploads/2025/06/D8F0C39A-CAB2-4F23-990C-490512A85828.jpg
END:VEVENT
BEGIN:VEVENT
DTSTART;TZID=UTC:20250922T160000
DTEND;TZID=UTC:20250922T170000
DTSTAMP:20260421T235529
CREATED:20250622T152557Z
LAST-MODIFIED:20250622T153851Z
UID:10003283-1758556800-1758560400@allinclusivefc.org.uk
SUMMARY:SEND Inclusion Sessions - Huntingdon
DESCRIPTION:In partnership with the Huntingdon Freemens Trust\, these fun and inclusive sessions are open to any age group – no experience necessary. We aim to teach new skills\, improve fitness and mental wellbeing and help build new friendships. \nThese sessions are free of charge and take place at One Leisure in Huntingdon.
URL:https://allinclusivefc.org.uk/session/hunts-open-send-sessions/2025-09-22/
LOCATION:One Leisure\, Huntingdon\, St Peters Road\, Huntingdon\, United Kingdom
ATTACH;FMTTYPE=image/jpeg:https://allinclusivefc.org.uk/wp-content/uploads/2025/06/D8F0C39A-CAB2-4F23-990C-490512A85828.jpg
END:VEVENT
BEGIN:VEVENT
DTSTART;TZID=UTC:20250915T160000
DTEND;TZID=UTC:20250915T170000
DTSTAMP:20260421T235529
CREATED:20250622T152557Z
LAST-MODIFIED:20250622T153851Z
UID:10003282-1757952000-1757955600@allinclusivefc.org.uk
SUMMARY:SEND Inclusion Sessions - Huntingdon
DESCRIPTION:In partnership with the Huntingdon Freemens Trust\, these fun and inclusive sessions are open to any age group – no experience necessary. We aim to teach new skills\, improve fitness and mental wellbeing and help build new friendships. \nThese sessions are free of charge and take place at One Leisure in Huntingdon.
URL:https://allinclusivefc.org.uk/session/hunts-open-send-sessions/2025-09-15/
LOCATION:One Leisure\, Huntingdon\, St Peters Road\, Huntingdon\, United Kingdom
ATTACH;FMTTYPE=image/jpeg:https://allinclusivefc.org.uk/wp-content/uploads/2025/06/D8F0C39A-CAB2-4F23-990C-490512A85828.jpg
END:VEVENT
BEGIN:VEVENT
DTSTART;TZID=UTC:20250908T160000
DTEND;TZID=UTC:20250908T170000
DTSTAMP:20260421T235529
CREATED:20250622T152557Z
LAST-MODIFIED:20250622T153851Z
UID:10003281-1757347200-1757350800@allinclusivefc.org.uk
SUMMARY:SEND Inclusion Sessions - Huntingdon
DESCRIPTION:In partnership with the Huntingdon Freemens Trust\, these fun and inclusive sessions are open to any age group – no experience necessary. We aim to teach new skills\, improve fitness and mental wellbeing and help build new friendships. \nThese sessions are free of charge and take place at One Leisure in Huntingdon.
URL:https://allinclusivefc.org.uk/session/hunts-open-send-sessions/2025-09-08/
LOCATION:One Leisure\, Huntingdon\, St Peters Road\, Huntingdon\, United Kingdom
ATTACH;FMTTYPE=image/jpeg:https://allinclusivefc.org.uk/wp-content/uploads/2025/06/D8F0C39A-CAB2-4F23-990C-490512A85828.jpg
END:VEVENT
BEGIN:VEVENT
DTSTART;TZID=UTC:20250901T160000
DTEND;TZID=UTC:20250901T170000
DTSTAMP:20260421T235529
CREATED:20250622T152557Z
LAST-MODIFIED:20250622T153851Z
UID:10003280-1756742400-1756746000@allinclusivefc.org.uk
SUMMARY:SEND Inclusion Sessions - Huntingdon
DESCRIPTION:In partnership with the Huntingdon Freemens Trust\, these fun and inclusive sessions are open to any age group – no experience necessary. We aim to teach new skills\, improve fitness and mental wellbeing and help build new friendships. \nThese sessions are free of charge and take place at One Leisure in Huntingdon.
URL:https://allinclusivefc.org.uk/session/hunts-open-send-sessions/2025-09-01/
LOCATION:One Leisure\, Huntingdon\, St Peters Road\, Huntingdon\, United Kingdom
ATTACH;FMTTYPE=image/jpeg:https://allinclusivefc.org.uk/wp-content/uploads/2025/06/D8F0C39A-CAB2-4F23-990C-490512A85828.jpg
END:VEVENT
BEGIN:VEVENT
DTSTART;TZID=UTC:20250825T160000
DTEND;TZID=UTC:20250825T170000
DTSTAMP:20260421T235529
CREATED:20250622T152557Z
LAST-MODIFIED:20250622T153851Z
UID:10003279-1756137600-1756141200@allinclusivefc.org.uk
SUMMARY:SEND Inclusion Sessions - Huntingdon
DESCRIPTION:In partnership with the Huntingdon Freemens Trust\, these fun and inclusive sessions are open to any age group – no experience necessary. We aim to teach new skills\, improve fitness and mental wellbeing and help build new friendships. \nThese sessions are free of charge and take place at One Leisure in Huntingdon.
URL:https://allinclusivefc.org.uk/session/hunts-open-send-sessions/2025-08-25/
LOCATION:One Leisure\, Huntingdon\, St Peters Road\, Huntingdon\, United Kingdom
ATTACH;FMTTYPE=image/jpeg:https://allinclusivefc.org.uk/wp-content/uploads/2025/06/D8F0C39A-CAB2-4F23-990C-490512A85828.jpg
END:VEVENT
BEGIN:VEVENT
DTSTART;TZID=UTC:20250818T160000
DTEND;TZID=UTC:20250818T170000
DTSTAMP:20260421T235529
CREATED:20250622T152557Z
LAST-MODIFIED:20250622T153851Z
UID:10003278-1755532800-1755536400@allinclusivefc.org.uk
SUMMARY:SEND Inclusion Sessions - Huntingdon
DESCRIPTION:In partnership with the Huntingdon Freemens Trust\, these fun and inclusive sessions are open to any age group – no experience necessary. We aim to teach new skills\, improve fitness and mental wellbeing and help build new friendships. \nThese sessions are free of charge and take place at One Leisure in Huntingdon.
URL:https://allinclusivefc.org.uk/session/hunts-open-send-sessions/2025-08-18/
LOCATION:One Leisure\, Huntingdon\, St Peters Road\, Huntingdon\, United Kingdom
ATTACH;FMTTYPE=image/jpeg:https://allinclusivefc.org.uk/wp-content/uploads/2025/06/D8F0C39A-CAB2-4F23-990C-490512A85828.jpg
END:VEVENT
BEGIN:VEVENT
DTSTART;TZID=UTC:20250811T160000
DTEND;TZID=UTC:20250811T170000
DTSTAMP:20260421T235529
CREATED:20250622T152557Z
LAST-MODIFIED:20250622T153851Z
UID:10003277-1754928000-1754931600@allinclusivefc.org.uk
SUMMARY:SEND Inclusion Sessions - Huntingdon
DESCRIPTION:In partnership with the Huntingdon Freemens Trust\, these fun and inclusive sessions are open to any age group – no experience necessary. We aim to teach new skills\, improve fitness and mental wellbeing and help build new friendships. \nThese sessions are free of charge and take place at One Leisure in Huntingdon.
URL:https://allinclusivefc.org.uk/session/hunts-open-send-sessions/2025-08-11/
LOCATION:One Leisure\, Huntingdon\, St Peters Road\, Huntingdon\, United Kingdom
ATTACH;FMTTYPE=image/jpeg:https://allinclusivefc.org.uk/wp-content/uploads/2025/06/D8F0C39A-CAB2-4F23-990C-490512A85828.jpg
END:VEVENT
BEGIN:VEVENT
DTSTART;TZID=UTC:20250804T160000
DTEND;TZID=UTC:20250804T170000
DTSTAMP:20260421T235529
CREATED:20250622T152557Z
LAST-MODIFIED:20250622T153851Z
UID:10003276-1754323200-1754326800@allinclusivefc.org.uk
SUMMARY:SEND Inclusion Sessions - Huntingdon
DESCRIPTION:In partnership with the Huntingdon Freemens Trust\, these fun and inclusive sessions are open to any age group – no experience necessary. We aim to teach new skills\, improve fitness and mental wellbeing and help build new friendships. \nThese sessions are free of charge and take place at One Leisure in Huntingdon.
URL:https://allinclusivefc.org.uk/session/hunts-open-send-sessions/2025-08-04/
LOCATION:One Leisure\, Huntingdon\, St Peters Road\, Huntingdon\, United Kingdom
ATTACH;FMTTYPE=image/jpeg:https://allinclusivefc.org.uk/wp-content/uploads/2025/06/D8F0C39A-CAB2-4F23-990C-490512A85828.jpg
END:VEVENT
BEGIN:VEVENT
DTSTART;TZID=UTC:20250728T160000
DTEND;TZID=UTC:20250728T170000
DTSTAMP:20260421T235529
CREATED:20250622T152557Z
LAST-MODIFIED:20250622T153851Z
UID:10003275-1753718400-1753722000@allinclusivefc.org.uk
SUMMARY:SEND Inclusion Sessions - Huntingdon
DESCRIPTION:In partnership with the Huntingdon Freemens Trust\, these fun and inclusive sessions are open to any age group – no experience necessary. We aim to teach new skills\, improve fitness and mental wellbeing and help build new friendships. \nThese sessions are free of charge and take place at One Leisure in Huntingdon.
URL:https://allinclusivefc.org.uk/session/hunts-open-send-sessions/2025-07-28/
LOCATION:One Leisure\, Huntingdon\, St Peters Road\, Huntingdon\, United Kingdom
ATTACH;FMTTYPE=image/jpeg:https://allinclusivefc.org.uk/wp-content/uploads/2025/06/D8F0C39A-CAB2-4F23-990C-490512A85828.jpg
END:VEVENT
BEGIN:VEVENT
DTSTART;TZID=UTC:20250721T160000
DTEND;TZID=UTC:20250721T170000
DTSTAMP:20260421T235529
CREATED:20250622T152557Z
LAST-MODIFIED:20250622T153851Z
UID:10003274-1753113600-1753117200@allinclusivefc.org.uk
SUMMARY:SEND Inclusion Sessions - Huntingdon
DESCRIPTION:In partnership with the Huntingdon Freemens Trust\, these fun and inclusive sessions are open to any age group – no experience necessary. We aim to teach new skills\, improve fitness and mental wellbeing and help build new friendships. \nThese sessions are free of charge and take place at One Leisure in Huntingdon.
URL:https://allinclusivefc.org.uk/session/hunts-open-send-sessions/2025-07-21/
LOCATION:One Leisure\, Huntingdon\, St Peters Road\, Huntingdon\, United Kingdom
ATTACH;FMTTYPE=image/jpeg:https://allinclusivefc.org.uk/wp-content/uploads/2025/06/D8F0C39A-CAB2-4F23-990C-490512A85828.jpg
END:VEVENT
BEGIN:VEVENT
DTSTART;TZID=UTC:20250714T160000
DTEND;TZID=UTC:20250714T170000
DTSTAMP:20260421T235529
CREATED:20250622T152557Z
LAST-MODIFIED:20250622T153851Z
UID:10003273-1752508800-1752512400@allinclusivefc.org.uk
SUMMARY:SEND Inclusion Sessions - Huntingdon
DESCRIPTION:In partnership with the Huntingdon Freemens Trust\, these fun and inclusive sessions are open to any age group – no experience necessary. We aim to teach new skills\, improve fitness and mental wellbeing and help build new friendships. \nThese sessions are free of charge and take place at One Leisure in Huntingdon.
URL:https://allinclusivefc.org.uk/session/hunts-open-send-sessions/2025-07-14/
LOCATION:One Leisure\, Huntingdon\, St Peters Road\, Huntingdon\, United Kingdom
ATTACH;FMTTYPE=image/jpeg:https://allinclusivefc.org.uk/wp-content/uploads/2025/06/D8F0C39A-CAB2-4F23-990C-490512A85828.jpg
END:VEVENT
BEGIN:VEVENT
DTSTART;TZID=UTC:20250707T160000
DTEND;TZID=UTC:20250707T170000
DTSTAMP:20260421T235529
CREATED:20250622T152557Z
LAST-MODIFIED:20250622T153851Z
UID:10003272-1751904000-1751907600@allinclusivefc.org.uk
SUMMARY:SEND Inclusion Sessions - Huntingdon
DESCRIPTION:In partnership with the Huntingdon Freemens Trust\, these fun and inclusive sessions are open to any age group – no experience necessary. We aim to teach new skills\, improve fitness and mental wellbeing and help build new friendships. \nThese sessions are free of charge and take place at One Leisure in Huntingdon.
URL:https://allinclusivefc.org.uk/session/hunts-open-send-sessions/2025-07-07/
LOCATION:One Leisure\, Huntingdon\, St Peters Road\, Huntingdon\, United Kingdom
ATTACH;FMTTYPE=image/jpeg:https://allinclusivefc.org.uk/wp-content/uploads/2025/06/D8F0C39A-CAB2-4F23-990C-490512A85828.jpg
END:VEVENT
BEGIN:VEVENT
DTSTART;TZID=UTC:20250630T160000
DTEND;TZID=UTC:20250630T170000
DTSTAMP:20260421T235529
CREATED:20250622T152557Z
LAST-MODIFIED:20250622T153851Z
UID:10003271-1751299200-1751302800@allinclusivefc.org.uk
SUMMARY:SEND Inclusion Sessions - Huntingdon
DESCRIPTION:In partnership with the Huntingdon Freemens Trust\, these fun and inclusive sessions are open to any age group – no experience necessary. We aim to teach new skills\, improve fitness and mental wellbeing and help build new friendships. \nThese sessions are free of charge and take place at One Leisure in Huntingdon.
URL:https://allinclusivefc.org.uk/session/hunts-open-send-sessions/2025-06-30/
LOCATION:One Leisure\, Huntingdon\, St Peters Road\, Huntingdon\, United Kingdom
ATTACH;FMTTYPE=image/jpeg:https://allinclusivefc.org.uk/wp-content/uploads/2025/06/D8F0C39A-CAB2-4F23-990C-490512A85828.jpg
END:VEVENT
BEGIN:VEVENT
DTSTART;TZID=UTC:20250623T160000
DTEND;TZID=UTC:20250623T170000
DTSTAMP:20260421T235529
CREATED:20250622T152557Z
LAST-MODIFIED:20250622T153851Z
UID:10003270-1750694400-1750698000@allinclusivefc.org.uk
SUMMARY:SEND Inclusion Sessions - Huntingdon
DESCRIPTION:In partnership with the Huntingdon Freemens Trust\, these fun and inclusive sessions are open to any age group – no experience necessary. We aim to teach new skills\, improve fitness and mental wellbeing and help build new friendships. \nThese sessions are free of charge and take place at One Leisure in Huntingdon.
URL:https://allinclusivefc.org.uk/session/hunts-open-send-sessions/2025-06-23/
LOCATION:One Leisure\, Huntingdon\, St Peters Road\, Huntingdon\, United Kingdom
ATTACH;FMTTYPE=image/jpeg:https://allinclusivefc.org.uk/wp-content/uploads/2025/06/D8F0C39A-CAB2-4F23-990C-490512A85828.jpg
END:VEVENT
END:VCALENDAR