BEGIN:VCALENDAR
VERSION:2.0
PRODID:-//All Inclusive FC - ECPv6.7.0//NONSGML v1.0//EN
CALSCALE:GREGORIAN
METHOD:PUBLISH
X-ORIGINAL-URL:https://allinclusivefc.org.uk
X-WR-CALDESC:Events for All Inclusive FC
REFRESH-INTERVAL;VALUE=DURATION:PT1H
X-Robots-Tag:noindex
X-PUBLISHED-TTL:PT1H
BEGIN:VTIMEZONE
TZID:UTC
BEGIN:STANDARD
TZOFFSETFROM:+0000
TZOFFSETTO:+0000
TZNAME:UTC
DTSTART:20250101T000000
END:STANDARD
END:VTIMEZONE
BEGIN:VEVENT
DTSTART;TZID=UTC:20260414T170000
DTEND;TZID=UTC:20260414T180000
DTSTAMP:20260421T150843
CREATED:20250622T153807Z
LAST-MODIFIED:20250622T153807Z
UID:10003782-1776186000-1776189600@allinclusivefc.org.uk
SUMMARY:SEND Inclusion Sessions - Peterborough
DESCRIPTION:These fun\, inclusive sessions are open to any age group\, no experience necessary. We aim to teach new skills\, improve fitness and mental wellbeing and help build new friendships. \nThese sessions are free of charge and take place at Power League Peterborough\, Stanground.
URL:https://allinclusivefc.org.uk/session/send-inclusion-sessions-peterborough/2026-04-14/
LOCATION:Power League Peterborough\, Power League Peterborough\, Peterborough\, Stanground\, PE7 3BW\, United Kingdom
ATTACH;FMTTYPE=image/jpeg:https://allinclusivefc.org.uk/wp-content/uploads/2025/06/2702689c-a189-4ea9-8053-eed32921a54d.jpg
END:VEVENT
BEGIN:VEVENT
DTSTART;TZID=UTC:20260407T170000
DTEND;TZID=UTC:20260407T180000
DTSTAMP:20260421T150843
CREATED:20250622T153807Z
LAST-MODIFIED:20250622T153807Z
UID:10003781-1775581200-1775584800@allinclusivefc.org.uk
SUMMARY:SEND Inclusion Sessions - Peterborough
DESCRIPTION:These fun\, inclusive sessions are open to any age group\, no experience necessary. We aim to teach new skills\, improve fitness and mental wellbeing and help build new friendships. \nThese sessions are free of charge and take place at Power League Peterborough\, Stanground.
URL:https://allinclusivefc.org.uk/session/send-inclusion-sessions-peterborough/2026-04-07/
LOCATION:Power League Peterborough\, Power League Peterborough\, Peterborough\, Stanground\, PE7 3BW\, United Kingdom
ATTACH;FMTTYPE=image/jpeg:https://allinclusivefc.org.uk/wp-content/uploads/2025/06/2702689c-a189-4ea9-8053-eed32921a54d.jpg
END:VEVENT
BEGIN:VEVENT
DTSTART;TZID=UTC:20260331T170000
DTEND;TZID=UTC:20260331T180000
DTSTAMP:20260421T150843
CREATED:20250622T153807Z
LAST-MODIFIED:20250622T153807Z
UID:10003780-1774976400-1774980000@allinclusivefc.org.uk
SUMMARY:SEND Inclusion Sessions - Peterborough
DESCRIPTION:These fun\, inclusive sessions are open to any age group\, no experience necessary. We aim to teach new skills\, improve fitness and mental wellbeing and help build new friendships. \nThese sessions are free of charge and take place at Power League Peterborough\, Stanground.
URL:https://allinclusivefc.org.uk/session/send-inclusion-sessions-peterborough/2026-03-31/
LOCATION:Power League Peterborough\, Power League Peterborough\, Peterborough\, Stanground\, PE7 3BW\, United Kingdom
ATTACH;FMTTYPE=image/jpeg:https://allinclusivefc.org.uk/wp-content/uploads/2025/06/2702689c-a189-4ea9-8053-eed32921a54d.jpg
END:VEVENT
BEGIN:VEVENT
DTSTART;TZID=UTC:20260324T170000
DTEND;TZID=UTC:20260324T180000
DTSTAMP:20260421T150843
CREATED:20250622T153807Z
LAST-MODIFIED:20250622T153807Z
UID:10003779-1774371600-1774375200@allinclusivefc.org.uk
SUMMARY:SEND Inclusion Sessions - Peterborough
DESCRIPTION:These fun\, inclusive sessions are open to any age group\, no experience necessary. We aim to teach new skills\, improve fitness and mental wellbeing and help build new friendships. \nThese sessions are free of charge and take place at Power League Peterborough\, Stanground.
URL:https://allinclusivefc.org.uk/session/send-inclusion-sessions-peterborough/2026-03-24/
LOCATION:Power League Peterborough\, Power League Peterborough\, Peterborough\, Stanground\, PE7 3BW\, United Kingdom
ATTACH;FMTTYPE=image/jpeg:https://allinclusivefc.org.uk/wp-content/uploads/2025/06/2702689c-a189-4ea9-8053-eed32921a54d.jpg
END:VEVENT
BEGIN:VEVENT
DTSTART;TZID=UTC:20260317T170000
DTEND;TZID=UTC:20260317T180000
DTSTAMP:20260421T150843
CREATED:20250622T153807Z
LAST-MODIFIED:20250622T153807Z
UID:10003778-1773766800-1773770400@allinclusivefc.org.uk
SUMMARY:SEND Inclusion Sessions - Peterborough
DESCRIPTION:These fun\, inclusive sessions are open to any age group\, no experience necessary. We aim to teach new skills\, improve fitness and mental wellbeing and help build new friendships. \nThese sessions are free of charge and take place at Power League Peterborough\, Stanground.
URL:https://allinclusivefc.org.uk/session/send-inclusion-sessions-peterborough/2026-03-17/
LOCATION:Power League Peterborough\, Power League Peterborough\, Peterborough\, Stanground\, PE7 3BW\, United Kingdom
ATTACH;FMTTYPE=image/jpeg:https://allinclusivefc.org.uk/wp-content/uploads/2025/06/2702689c-a189-4ea9-8053-eed32921a54d.jpg
END:VEVENT
BEGIN:VEVENT
DTSTART;TZID=UTC:20260310T170000
DTEND;TZID=UTC:20260310T180000
DTSTAMP:20260421T150843
CREATED:20250622T153807Z
LAST-MODIFIED:20250622T153807Z
UID:10003777-1773162000-1773165600@allinclusivefc.org.uk
SUMMARY:SEND Inclusion Sessions - Peterborough
DESCRIPTION:These fun\, inclusive sessions are open to any age group\, no experience necessary. We aim to teach new skills\, improve fitness and mental wellbeing and help build new friendships. \nThese sessions are free of charge and take place at Power League Peterborough\, Stanground.
URL:https://allinclusivefc.org.uk/session/send-inclusion-sessions-peterborough/2026-03-10/
LOCATION:Power League Peterborough\, Power League Peterborough\, Peterborough\, Stanground\, PE7 3BW\, United Kingdom
ATTACH;FMTTYPE=image/jpeg:https://allinclusivefc.org.uk/wp-content/uploads/2025/06/2702689c-a189-4ea9-8053-eed32921a54d.jpg
END:VEVENT
BEGIN:VEVENT
DTSTART;TZID=UTC:20260303T170000
DTEND;TZID=UTC:20260303T180000
DTSTAMP:20260421T150843
CREATED:20250622T153807Z
LAST-MODIFIED:20250622T153807Z
UID:10003776-1772557200-1772560800@allinclusivefc.org.uk
SUMMARY:SEND Inclusion Sessions - Peterborough
DESCRIPTION:These fun\, inclusive sessions are open to any age group\, no experience necessary. We aim to teach new skills\, improve fitness and mental wellbeing and help build new friendships. \nThese sessions are free of charge and take place at Power League Peterborough\, Stanground.
URL:https://allinclusivefc.org.uk/session/send-inclusion-sessions-peterborough/2026-03-03/
LOCATION:Power League Peterborough\, Power League Peterborough\, Peterborough\, Stanground\, PE7 3BW\, United Kingdom
ATTACH;FMTTYPE=image/jpeg:https://allinclusivefc.org.uk/wp-content/uploads/2025/06/2702689c-a189-4ea9-8053-eed32921a54d.jpg
END:VEVENT
BEGIN:VEVENT
DTSTART;TZID=UTC:20260224T170000
DTEND;TZID=UTC:20260224T180000
DTSTAMP:20260421T150843
CREATED:20250622T153807Z
LAST-MODIFIED:20250622T153807Z
UID:10003775-1771952400-1771956000@allinclusivefc.org.uk
SUMMARY:SEND Inclusion Sessions - Peterborough
DESCRIPTION:These fun\, inclusive sessions are open to any age group\, no experience necessary. We aim to teach new skills\, improve fitness and mental wellbeing and help build new friendships. \nThese sessions are free of charge and take place at Power League Peterborough\, Stanground.
URL:https://allinclusivefc.org.uk/session/send-inclusion-sessions-peterborough/2026-02-24/
LOCATION:Power League Peterborough\, Power League Peterborough\, Peterborough\, Stanground\, PE7 3BW\, United Kingdom
ATTACH;FMTTYPE=image/jpeg:https://allinclusivefc.org.uk/wp-content/uploads/2025/06/2702689c-a189-4ea9-8053-eed32921a54d.jpg
END:VEVENT
BEGIN:VEVENT
DTSTART;TZID=UTC:20260217T170000
DTEND;TZID=UTC:20260217T180000
DTSTAMP:20260421T150843
CREATED:20250622T153807Z
LAST-MODIFIED:20250622T153807Z
UID:10003774-1771347600-1771351200@allinclusivefc.org.uk
SUMMARY:SEND Inclusion Sessions - Peterborough
DESCRIPTION:These fun\, inclusive sessions are open to any age group\, no experience necessary. We aim to teach new skills\, improve fitness and mental wellbeing and help build new friendships. \nThese sessions are free of charge and take place at Power League Peterborough\, Stanground.
URL:https://allinclusivefc.org.uk/session/send-inclusion-sessions-peterborough/2026-02-17/
LOCATION:Power League Peterborough\, Power League Peterborough\, Peterborough\, Stanground\, PE7 3BW\, United Kingdom
ATTACH;FMTTYPE=image/jpeg:https://allinclusivefc.org.uk/wp-content/uploads/2025/06/2702689c-a189-4ea9-8053-eed32921a54d.jpg
END:VEVENT
BEGIN:VEVENT
DTSTART;TZID=UTC:20260210T170000
DTEND;TZID=UTC:20260210T180000
DTSTAMP:20260421T150843
CREATED:20250622T153807Z
LAST-MODIFIED:20250622T153807Z
UID:10003773-1770742800-1770746400@allinclusivefc.org.uk
SUMMARY:SEND Inclusion Sessions - Peterborough
DESCRIPTION:These fun\, inclusive sessions are open to any age group\, no experience necessary. We aim to teach new skills\, improve fitness and mental wellbeing and help build new friendships. \nThese sessions are free of charge and take place at Power League Peterborough\, Stanground.
URL:https://allinclusivefc.org.uk/session/send-inclusion-sessions-peterborough/2026-02-10/
LOCATION:Power League Peterborough\, Power League Peterborough\, Peterborough\, Stanground\, PE7 3BW\, United Kingdom
ATTACH;FMTTYPE=image/jpeg:https://allinclusivefc.org.uk/wp-content/uploads/2025/06/2702689c-a189-4ea9-8053-eed32921a54d.jpg
END:VEVENT
BEGIN:VEVENT
DTSTART;TZID=UTC:20260203T170000
DTEND;TZID=UTC:20260203T180000
DTSTAMP:20260421T150843
CREATED:20250622T153807Z
LAST-MODIFIED:20250622T153807Z
UID:10003772-1770138000-1770141600@allinclusivefc.org.uk
SUMMARY:SEND Inclusion Sessions - Peterborough
DESCRIPTION:These fun\, inclusive sessions are open to any age group\, no experience necessary. We aim to teach new skills\, improve fitness and mental wellbeing and help build new friendships. \nThese sessions are free of charge and take place at Power League Peterborough\, Stanground.
URL:https://allinclusivefc.org.uk/session/send-inclusion-sessions-peterborough/2026-02-03/
LOCATION:Power League Peterborough\, Power League Peterborough\, Peterborough\, Stanground\, PE7 3BW\, United Kingdom
ATTACH;FMTTYPE=image/jpeg:https://allinclusivefc.org.uk/wp-content/uploads/2025/06/2702689c-a189-4ea9-8053-eed32921a54d.jpg
END:VEVENT
BEGIN:VEVENT
DTSTART;TZID=UTC:20260127T170000
DTEND;TZID=UTC:20260127T180000
DTSTAMP:20260421T150843
CREATED:20250622T153807Z
LAST-MODIFIED:20250622T153807Z
UID:10003771-1769533200-1769536800@allinclusivefc.org.uk
SUMMARY:SEND Inclusion Sessions - Peterborough
DESCRIPTION:These fun\, inclusive sessions are open to any age group\, no experience necessary. We aim to teach new skills\, improve fitness and mental wellbeing and help build new friendships. \nThese sessions are free of charge and take place at Power League Peterborough\, Stanground.
URL:https://allinclusivefc.org.uk/session/send-inclusion-sessions-peterborough/2026-01-27/
LOCATION:Power League Peterborough\, Power League Peterborough\, Peterborough\, Stanground\, PE7 3BW\, United Kingdom
ATTACH;FMTTYPE=image/jpeg:https://allinclusivefc.org.uk/wp-content/uploads/2025/06/2702689c-a189-4ea9-8053-eed32921a54d.jpg
END:VEVENT
BEGIN:VEVENT
DTSTART;TZID=UTC:20260120T170000
DTEND;TZID=UTC:20260120T180000
DTSTAMP:20260421T150843
CREATED:20250622T153807Z
LAST-MODIFIED:20250622T153807Z
UID:10003770-1768928400-1768932000@allinclusivefc.org.uk
SUMMARY:SEND Inclusion Sessions - Peterborough
DESCRIPTION:These fun\, inclusive sessions are open to any age group\, no experience necessary. We aim to teach new skills\, improve fitness and mental wellbeing and help build new friendships. \nThese sessions are free of charge and take place at Power League Peterborough\, Stanground.
URL:https://allinclusivefc.org.uk/session/send-inclusion-sessions-peterborough/2026-01-20/
LOCATION:Power League Peterborough\, Power League Peterborough\, Peterborough\, Stanground\, PE7 3BW\, United Kingdom
ATTACH;FMTTYPE=image/jpeg:https://allinclusivefc.org.uk/wp-content/uploads/2025/06/2702689c-a189-4ea9-8053-eed32921a54d.jpg
END:VEVENT
BEGIN:VEVENT
DTSTART;TZID=UTC:20260113T170000
DTEND;TZID=UTC:20260113T180000
DTSTAMP:20260421T150843
CREATED:20250622T153807Z
LAST-MODIFIED:20250622T153807Z
UID:10003769-1768323600-1768327200@allinclusivefc.org.uk
SUMMARY:SEND Inclusion Sessions - Peterborough
DESCRIPTION:These fun\, inclusive sessions are open to any age group\, no experience necessary. We aim to teach new skills\, improve fitness and mental wellbeing and help build new friendships. \nThese sessions are free of charge and take place at Power League Peterborough\, Stanground.
URL:https://allinclusivefc.org.uk/session/send-inclusion-sessions-peterborough/2026-01-13/
LOCATION:Power League Peterborough\, Power League Peterborough\, Peterborough\, Stanground\, PE7 3BW\, United Kingdom
ATTACH;FMTTYPE=image/jpeg:https://allinclusivefc.org.uk/wp-content/uploads/2025/06/2702689c-a189-4ea9-8053-eed32921a54d.jpg
END:VEVENT
BEGIN:VEVENT
DTSTART;TZID=UTC:20260106T170000
DTEND;TZID=UTC:20260106T180000
DTSTAMP:20260421T150843
CREATED:20250622T153807Z
LAST-MODIFIED:20250622T153807Z
UID:10003768-1767718800-1767722400@allinclusivefc.org.uk
SUMMARY:SEND Inclusion Sessions - Peterborough
DESCRIPTION:These fun\, inclusive sessions are open to any age group\, no experience necessary. We aim to teach new skills\, improve fitness and mental wellbeing and help build new friendships. \nThese sessions are free of charge and take place at Power League Peterborough\, Stanground.
URL:https://allinclusivefc.org.uk/session/send-inclusion-sessions-peterborough/2026-01-06/
LOCATION:Power League Peterborough\, Power League Peterborough\, Peterborough\, Stanground\, PE7 3BW\, United Kingdom
ATTACH;FMTTYPE=image/jpeg:https://allinclusivefc.org.uk/wp-content/uploads/2025/06/2702689c-a189-4ea9-8053-eed32921a54d.jpg
END:VEVENT
BEGIN:VEVENT
DTSTART;TZID=UTC:20251230T170000
DTEND;TZID=UTC:20251230T180000
DTSTAMP:20260421T150843
CREATED:20250622T153807Z
LAST-MODIFIED:20250622T153807Z
UID:10003767-1767114000-1767117600@allinclusivefc.org.uk
SUMMARY:SEND Inclusion Sessions - Peterborough
DESCRIPTION:These fun\, inclusive sessions are open to any age group\, no experience necessary. We aim to teach new skills\, improve fitness and mental wellbeing and help build new friendships. \nThese sessions are free of charge and take place at Power League Peterborough\, Stanground.
URL:https://allinclusivefc.org.uk/session/send-inclusion-sessions-peterborough/2025-12-30/
LOCATION:Power League Peterborough\, Power League Peterborough\, Peterborough\, Stanground\, PE7 3BW\, United Kingdom
ATTACH;FMTTYPE=image/jpeg:https://allinclusivefc.org.uk/wp-content/uploads/2025/06/2702689c-a189-4ea9-8053-eed32921a54d.jpg
END:VEVENT
BEGIN:VEVENT
DTSTART;TZID=UTC:20251223T170000
DTEND;TZID=UTC:20251223T180000
DTSTAMP:20260421T150843
CREATED:20250622T153807Z
LAST-MODIFIED:20250622T153807Z
UID:10003766-1766509200-1766512800@allinclusivefc.org.uk
SUMMARY:SEND Inclusion Sessions - Peterborough
DESCRIPTION:These fun\, inclusive sessions are open to any age group\, no experience necessary. We aim to teach new skills\, improve fitness and mental wellbeing and help build new friendships. \nThese sessions are free of charge and take place at Power League Peterborough\, Stanground.
URL:https://allinclusivefc.org.uk/session/send-inclusion-sessions-peterborough/2025-12-23/
LOCATION:Power League Peterborough\, Power League Peterborough\, Peterborough\, Stanground\, PE7 3BW\, United Kingdom
ATTACH;FMTTYPE=image/jpeg:https://allinclusivefc.org.uk/wp-content/uploads/2025/06/2702689c-a189-4ea9-8053-eed32921a54d.jpg
END:VEVENT
BEGIN:VEVENT
DTSTART;TZID=UTC:20251216T170000
DTEND;TZID=UTC:20251216T180000
DTSTAMP:20260421T150843
CREATED:20250622T153807Z
LAST-MODIFIED:20250622T153807Z
UID:10003765-1765904400-1765908000@allinclusivefc.org.uk
SUMMARY:SEND Inclusion Sessions - Peterborough
DESCRIPTION:These fun\, inclusive sessions are open to any age group\, no experience necessary. We aim to teach new skills\, improve fitness and mental wellbeing and help build new friendships. \nThese sessions are free of charge and take place at Power League Peterborough\, Stanground.
URL:https://allinclusivefc.org.uk/session/send-inclusion-sessions-peterborough/2025-12-16/
LOCATION:Power League Peterborough\, Power League Peterborough\, Peterborough\, Stanground\, PE7 3BW\, United Kingdom
ATTACH;FMTTYPE=image/jpeg:https://allinclusivefc.org.uk/wp-content/uploads/2025/06/2702689c-a189-4ea9-8053-eed32921a54d.jpg
END:VEVENT
BEGIN:VEVENT
DTSTART;TZID=UTC:20251209T170000
DTEND;TZID=UTC:20251209T180000
DTSTAMP:20260421T150843
CREATED:20250622T153807Z
LAST-MODIFIED:20250622T153807Z
UID:10003764-1765299600-1765303200@allinclusivefc.org.uk
SUMMARY:SEND Inclusion Sessions - Peterborough
DESCRIPTION:These fun\, inclusive sessions are open to any age group\, no experience necessary. We aim to teach new skills\, improve fitness and mental wellbeing and help build new friendships. \nThese sessions are free of charge and take place at Power League Peterborough\, Stanground.
URL:https://allinclusivefc.org.uk/session/send-inclusion-sessions-peterborough/2025-12-09/
LOCATION:Power League Peterborough\, Power League Peterborough\, Peterborough\, Stanground\, PE7 3BW\, United Kingdom
ATTACH;FMTTYPE=image/jpeg:https://allinclusivefc.org.uk/wp-content/uploads/2025/06/2702689c-a189-4ea9-8053-eed32921a54d.jpg
END:VEVENT
BEGIN:VEVENT
DTSTART;TZID=UTC:20251202T170000
DTEND;TZID=UTC:20251202T180000
DTSTAMP:20260421T150843
CREATED:20250622T153807Z
LAST-MODIFIED:20250622T153807Z
UID:10003763-1764694800-1764698400@allinclusivefc.org.uk
SUMMARY:SEND Inclusion Sessions - Peterborough
DESCRIPTION:These fun\, inclusive sessions are open to any age group\, no experience necessary. We aim to teach new skills\, improve fitness and mental wellbeing and help build new friendships. \nThese sessions are free of charge and take place at Power League Peterborough\, Stanground.
URL:https://allinclusivefc.org.uk/session/send-inclusion-sessions-peterborough/2025-12-02/
LOCATION:Power League Peterborough\, Power League Peterborough\, Peterborough\, Stanground\, PE7 3BW\, United Kingdom
ATTACH;FMTTYPE=image/jpeg:https://allinclusivefc.org.uk/wp-content/uploads/2025/06/2702689c-a189-4ea9-8053-eed32921a54d.jpg
END:VEVENT
BEGIN:VEVENT
DTSTART;TZID=UTC:20251125T170000
DTEND;TZID=UTC:20251125T180000
DTSTAMP:20260421T150843
CREATED:20250622T153807Z
LAST-MODIFIED:20250622T153807Z
UID:10003762-1764090000-1764093600@allinclusivefc.org.uk
SUMMARY:SEND Inclusion Sessions - Peterborough
DESCRIPTION:These fun\, inclusive sessions are open to any age group\, no experience necessary. We aim to teach new skills\, improve fitness and mental wellbeing and help build new friendships. \nThese sessions are free of charge and take place at Power League Peterborough\, Stanground.
URL:https://allinclusivefc.org.uk/session/send-inclusion-sessions-peterborough/2025-11-25/
LOCATION:Power League Peterborough\, Power League Peterborough\, Peterborough\, Stanground\, PE7 3BW\, United Kingdom
ATTACH;FMTTYPE=image/jpeg:https://allinclusivefc.org.uk/wp-content/uploads/2025/06/2702689c-a189-4ea9-8053-eed32921a54d.jpg
END:VEVENT
BEGIN:VEVENT
DTSTART;TZID=UTC:20251118T170000
DTEND;TZID=UTC:20251118T180000
DTSTAMP:20260421T150843
CREATED:20250622T153807Z
LAST-MODIFIED:20250622T153807Z
UID:10003761-1763485200-1763488800@allinclusivefc.org.uk
SUMMARY:SEND Inclusion Sessions - Peterborough
DESCRIPTION:These fun\, inclusive sessions are open to any age group\, no experience necessary. We aim to teach new skills\, improve fitness and mental wellbeing and help build new friendships. \nThese sessions are free of charge and take place at Power League Peterborough\, Stanground.
URL:https://allinclusivefc.org.uk/session/send-inclusion-sessions-peterborough/2025-11-18/
LOCATION:Power League Peterborough\, Power League Peterborough\, Peterborough\, Stanground\, PE7 3BW\, United Kingdom
ATTACH;FMTTYPE=image/jpeg:https://allinclusivefc.org.uk/wp-content/uploads/2025/06/2702689c-a189-4ea9-8053-eed32921a54d.jpg
END:VEVENT
BEGIN:VEVENT
DTSTART;TZID=UTC:20251111T170000
DTEND;TZID=UTC:20251111T180000
DTSTAMP:20260421T150843
CREATED:20250622T153807Z
LAST-MODIFIED:20250622T153807Z
UID:10003760-1762880400-1762884000@allinclusivefc.org.uk
SUMMARY:SEND Inclusion Sessions - Peterborough
DESCRIPTION:These fun\, inclusive sessions are open to any age group\, no experience necessary. We aim to teach new skills\, improve fitness and mental wellbeing and help build new friendships. \nThese sessions are free of charge and take place at Power League Peterborough\, Stanground.
URL:https://allinclusivefc.org.uk/session/send-inclusion-sessions-peterborough/2025-11-11/
LOCATION:Power League Peterborough\, Power League Peterborough\, Peterborough\, Stanground\, PE7 3BW\, United Kingdom
ATTACH;FMTTYPE=image/jpeg:https://allinclusivefc.org.uk/wp-content/uploads/2025/06/2702689c-a189-4ea9-8053-eed32921a54d.jpg
END:VEVENT
BEGIN:VEVENT
DTSTART;TZID=UTC:20251104T170000
DTEND;TZID=UTC:20251104T180000
DTSTAMP:20260421T150843
CREATED:20250622T153807Z
LAST-MODIFIED:20250622T153807Z
UID:10003759-1762275600-1762279200@allinclusivefc.org.uk
SUMMARY:SEND Inclusion Sessions - Peterborough
DESCRIPTION:These fun\, inclusive sessions are open to any age group\, no experience necessary. We aim to teach new skills\, improve fitness and mental wellbeing and help build new friendships. \nThese sessions are free of charge and take place at Power League Peterborough\, Stanground.
URL:https://allinclusivefc.org.uk/session/send-inclusion-sessions-peterborough/2025-11-04/
LOCATION:Power League Peterborough\, Power League Peterborough\, Peterborough\, Stanground\, PE7 3BW\, United Kingdom
ATTACH;FMTTYPE=image/jpeg:https://allinclusivefc.org.uk/wp-content/uploads/2025/06/2702689c-a189-4ea9-8053-eed32921a54d.jpg
END:VEVENT
BEGIN:VEVENT
DTSTART;TZID=UTC:20251028T170000
DTEND;TZID=UTC:20251028T180000
DTSTAMP:20260421T150843
CREATED:20250622T153807Z
LAST-MODIFIED:20250622T153807Z
UID:10003758-1761670800-1761674400@allinclusivefc.org.uk
SUMMARY:SEND Inclusion Sessions - Peterborough
DESCRIPTION:These fun\, inclusive sessions are open to any age group\, no experience necessary. We aim to teach new skills\, improve fitness and mental wellbeing and help build new friendships. \nThese sessions are free of charge and take place at Power League Peterborough\, Stanground.
URL:https://allinclusivefc.org.uk/session/send-inclusion-sessions-peterborough/2025-10-28/
LOCATION:Power League Peterborough\, Power League Peterborough\, Peterborough\, Stanground\, PE7 3BW\, United Kingdom
ATTACH;FMTTYPE=image/jpeg:https://allinclusivefc.org.uk/wp-content/uploads/2025/06/2702689c-a189-4ea9-8053-eed32921a54d.jpg
END:VEVENT
BEGIN:VEVENT
DTSTART;TZID=UTC:20251021T170000
DTEND;TZID=UTC:20251021T180000
DTSTAMP:20260421T150843
CREATED:20250622T153807Z
LAST-MODIFIED:20250622T153807Z
UID:10003757-1761066000-1761069600@allinclusivefc.org.uk
SUMMARY:SEND Inclusion Sessions - Peterborough
DESCRIPTION:These fun\, inclusive sessions are open to any age group\, no experience necessary. We aim to teach new skills\, improve fitness and mental wellbeing and help build new friendships. \nThese sessions are free of charge and take place at Power League Peterborough\, Stanground.
URL:https://allinclusivefc.org.uk/session/send-inclusion-sessions-peterborough/2025-10-21/
LOCATION:Power League Peterborough\, Power League Peterborough\, Peterborough\, Stanground\, PE7 3BW\, United Kingdom
ATTACH;FMTTYPE=image/jpeg:https://allinclusivefc.org.uk/wp-content/uploads/2025/06/2702689c-a189-4ea9-8053-eed32921a54d.jpg
END:VEVENT
BEGIN:VEVENT
DTSTART;TZID=UTC:20251014T170000
DTEND;TZID=UTC:20251014T180000
DTSTAMP:20260421T150843
CREATED:20250622T153807Z
LAST-MODIFIED:20250622T153807Z
UID:10003756-1760461200-1760464800@allinclusivefc.org.uk
SUMMARY:SEND Inclusion Sessions - Peterborough
DESCRIPTION:These fun\, inclusive sessions are open to any age group\, no experience necessary. We aim to teach new skills\, improve fitness and mental wellbeing and help build new friendships. \nThese sessions are free of charge and take place at Power League Peterborough\, Stanground.
URL:https://allinclusivefc.org.uk/session/send-inclusion-sessions-peterborough/2025-10-14/
LOCATION:Power League Peterborough\, Power League Peterborough\, Peterborough\, Stanground\, PE7 3BW\, United Kingdom
ATTACH;FMTTYPE=image/jpeg:https://allinclusivefc.org.uk/wp-content/uploads/2025/06/2702689c-a189-4ea9-8053-eed32921a54d.jpg
END:VEVENT
BEGIN:VEVENT
DTSTART;TZID=UTC:20251007T170000
DTEND;TZID=UTC:20251007T180000
DTSTAMP:20260421T150843
CREATED:20250622T153807Z
LAST-MODIFIED:20250622T153807Z
UID:10003755-1759856400-1759860000@allinclusivefc.org.uk
SUMMARY:SEND Inclusion Sessions - Peterborough
DESCRIPTION:These fun\, inclusive sessions are open to any age group\, no experience necessary. We aim to teach new skills\, improve fitness and mental wellbeing and help build new friendships. \nThese sessions are free of charge and take place at Power League Peterborough\, Stanground.
URL:https://allinclusivefc.org.uk/session/send-inclusion-sessions-peterborough/2025-10-07/
LOCATION:Power League Peterborough\, Power League Peterborough\, Peterborough\, Stanground\, PE7 3BW\, United Kingdom
ATTACH;FMTTYPE=image/jpeg:https://allinclusivefc.org.uk/wp-content/uploads/2025/06/2702689c-a189-4ea9-8053-eed32921a54d.jpg
END:VEVENT
BEGIN:VEVENT
DTSTART;TZID=UTC:20250930T170000
DTEND;TZID=UTC:20250930T180000
DTSTAMP:20260421T150843
CREATED:20250622T153807Z
LAST-MODIFIED:20250622T153807Z
UID:10003754-1759251600-1759255200@allinclusivefc.org.uk
SUMMARY:SEND Inclusion Sessions - Peterborough
DESCRIPTION:These fun\, inclusive sessions are open to any age group\, no experience necessary. We aim to teach new skills\, improve fitness and mental wellbeing and help build new friendships. \nThese sessions are free of charge and take place at Power League Peterborough\, Stanground.
URL:https://allinclusivefc.org.uk/session/send-inclusion-sessions-peterborough/2025-09-30/
LOCATION:Power League Peterborough\, Power League Peterborough\, Peterborough\, Stanground\, PE7 3BW\, United Kingdom
ATTACH;FMTTYPE=image/jpeg:https://allinclusivefc.org.uk/wp-content/uploads/2025/06/2702689c-a189-4ea9-8053-eed32921a54d.jpg
END:VEVENT
BEGIN:VEVENT
DTSTART;TZID=UTC:20250923T170000
DTEND;TZID=UTC:20250923T180000
DTSTAMP:20260421T150843
CREATED:20250622T153807Z
LAST-MODIFIED:20250622T153807Z
UID:10003753-1758646800-1758650400@allinclusivefc.org.uk
SUMMARY:SEND Inclusion Sessions - Peterborough
DESCRIPTION:These fun\, inclusive sessions are open to any age group\, no experience necessary. We aim to teach new skills\, improve fitness and mental wellbeing and help build new friendships. \nThese sessions are free of charge and take place at Power League Peterborough\, Stanground.
URL:https://allinclusivefc.org.uk/session/send-inclusion-sessions-peterborough/2025-09-23/
LOCATION:Power League Peterborough\, Power League Peterborough\, Peterborough\, Stanground\, PE7 3BW\, United Kingdom
ATTACH;FMTTYPE=image/jpeg:https://allinclusivefc.org.uk/wp-content/uploads/2025/06/2702689c-a189-4ea9-8053-eed32921a54d.jpg
END:VEVENT
END:VCALENDAR